Workbook
Name 是否選項: #REF!
Name 計費類型_一案兩請之新型: 選項!$E$2:$E$3
Name 計費類型_日韓泰: 選項!$D$2:$D$3
Name 計費類型_台中美歐新馬加: 選項!$B$2:$B$5
Name 計費類型_設計: 選項!$F$2:$F$3
Name 計費類型_越: 選項!$C$2:$C$4

Sheet 設計案成本估算
A2: 以下為慧盈提供各地區「設計專利」申請服務之預估費用。紅色部份是您可自行調整的數字/選項，藍色數字是依照收費標準估算的金額。
A4: 案件基本參數 | E4: 階段費用 | F4: 計費項目 | J4: 匯率基礎
A5: 設計項數 | B5: 1 | E5: (視需要勾選) | F5: (正常要全勾) | J5: 美元(USD) | K5: 32.2 | L5: 人民幣(CNY) | M5: 4.85
A6: 總圖數 | B6: 8 | J6: 歐元(EUR) | K6: 37.5 | L6: 新加坡幣(SGD) | M6: 25.4
A7: 設計類型 | J7: 日圓(JPY) | K7: 0.21 | L7: 越南幣(VND) | M7: 0.0014
J8: 韓元(KRW) | K8: 0.026 | L8: 馬來幣(MYR) | M8: 8.3
A9: 申請人規模 | B9: 少於100人 | J9: 泰幣(THB) | K9: 1.05 | L9: 加拿大幣(CAD) | M9: 23.5
A10: 申請人屬性 | B10: 中小企業 | J10: 英鎊(GBP) | K10: 44 | L10: 澳洲幣(AUD) | M10: 23.2
A11: 預估證書數 | B11: =B72 -> 16
A13: 一、委託慧盈辦理「設計專利」從撰稿到提交申請階段的預估「申請費」：
A14: 申請地區 | B14: 專利類型 | C14: 是否申請 (請勾選) | D14: 官方費用 (A1) | G14: 外國代理人費用 (A2) | J14: 總代墊費用 (A1+A2) | K14: 慧盈服務費 (A3) (NTD) | L14: 設計申請費用 小計 (A = A1+A2+A3) | M14: 申請地區
D15: 幣別 | E15: 原幣別金額 | F15: 折合台幣 | G15: 幣別 | H15: 原幣別金額 | I15: 折合台幣 | J15: 折合台幣
A16: 台灣 | B16: 設計 | D16: NTD | E16: =D!I16 -> 2400 | F16: =E16 -> 2400 | G16: NTD | H16: =D!R16 -> 0 | I16: =H16 -> 0 | J16: =F16+I16 -> 2400 | K16: =D!Z16 -> 23000 | L16: =J16+K16 -> 25400 | M16: =A16 -> 台灣
A17: 大陸 | B17: 設計 | D17: CNY | E17: =D!I17 -> 500 | F17: =E17*$M$5 -> 2425 | G17: CNY | H17: =D!R17 -> 950 | I17: =H17*$M$5 -> 4607.5 | J17: =F17+I17 -> 7032.5 | K17: =D!Z17 -> 26000 | L17: =J17+K17 -> 33032.5 | M17: =A17 -> 大陸
A18: 美國 | B18: 設計 | D18: USD | E18: =D!I18 -> 520 | F18: =E18*$K$5 -> 16744 | G18: USD | H18: =D!R18 -> 650 | I18: =H18*$K$5 -> 20930 | J18: =F18+I18 -> 37674 | K18: =D!Z18 -> 40000 | L18: =J18+K18 -> 77674 | M18: =A18 -> 美國
A19: 歐盟 | B19: 設計 | D19: EUR | E19: =D!I19 -> 350 | F19: =E19*$K$6 -> 13125 | G19: EUR | H19: =D!R19 -> 150 | I19: =H19*$K$6 -> 5625 | J19: =F19+I19 -> 18750 | K19: =D!Z19 -> 30000 | L19: =J19+K19 -> 48750 | M19: =A19 -> 歐盟
A20: 英國 | B20: 設計 | D20: GBP | E20: =D!I20 -> 50 | F20: =E20*$K$10 -> 2200 | G20: EUR | H20: =D!R20 -> 160 | I20: =H20*$K$6 -> 6000 | J20: =F20+I20 -> 8200 | K20: =D!Z20 -> 30000 | L20: =J20+K20 -> 38200 | M20: =A20 -> 英國
A21: 日本 | B21: 設計 | D21: JPY | E21: =D!I21 -> 16000 | F21: =E21*$K$7 -> 3360 | G21: JPY | H21: =D!R21 -> 93200 | I21: =H21*$K$7 -> 19572 | J21: =F21+I21 -> 22932 | K21: =D!Z21 -> 30000 | L21: =J21+K21 -> 52932 | M21: =A21 -> 日本
A22: 韓國 | B22: 設計 | D22: KRW | E22: =D!I22 -> 94000 | F22: =E22*$K$8 -> 2444 | G22: USD | H22: =D!R22 -> 700 | I22: =H22*$K$5 -> 22540 | J22: =F22+I22 -> 24984 | K22: =D!Z22 -> 30000 | L22: =J22+K22 -> 54984 | M22: =A22 -> 韓國
A23: 加拿大 | B23: 設計 | D23: CAD | E23: =D!I23 -> 591.95 | F23: =E23*$M$9 -> 13910.825 | G23: CAD | H23: =D!R23 -> 915 | I23: =H23*$M$9 -> 21502.5 | J23: =F23+I23 -> 35413.325 | K23: =D!Z23 -> 30000 | L23: =J23+K23 -> 65413.325 | M23: =A23 -> 加拿大
A24: 澳洲 | B24: 設計 | D24: AUD | E24: =D!I24 -> 200 | F24: =E24*$M$10 -> 4640 | G24: AUD | H24: =D!R24 -> 1390 | I24: =H24*$M$10 -> 32248 | J24: =F24+I24 -> 36888 | K24: =D!Z24 -> 30000 | L24: =J24+K24 -> 66888 | M24: =A24 -> 澳洲 | N24: =IF(D!$C$24=FALSE,"",IF(選項!$K$2=1,"注意：澳洲尚未開放申請各種「圖像設計」之設計專利",""))
A25: 新加坡 | B25: 設計 | D25: SGD | E25: =D!I25 -> 200 | F25: =E25*$M$6 -> 5080 | G25: SGD | H25: =D!R25 -> 550 | I25: =H25*$M$6 -> 13970 | J25: =F25+I25 -> 19050 | K25: =D!Z25 -> 30000 | L25: =J25+K25 -> 49050 | M25: =A25 -> 新加坡
A26: 馬來西亞 | B26: 設計 | D26: MYR | E26: =D!I26 -> 2100 | F26: =E26*$M$8 -> 17430 | G26: MYR | H26: =D!R26 -> 1100 | I26: =H26*$M$8 -> 9130 | J26: =F26+I26 -> 26560 | K26: =D!Z26 -> 30000 | L26: =J26+K26 -> 56560 | M26: =A26 -> 馬來西亞 | N26: =IF(D!$C$26=FALSE,"",IF(選項!$K$2=1,"注意：馬來西亞不允許申請「動態GUI」之設計專利",""))
A27: 菲律賓 | B27: 設計 | D27: USD | E27: =D!I27 -> 103 | F27: =E27*$K$5 -> 3316.6 | G27: USD | H27: =D!R27 -> 330 | I27: =H27*$K$5 -> 10626 | J27: =F27+I27 -> 13942.6 | K27: =D!Z27 -> 40000 | L27: =J27+K27 -> 53942.6 | M27: =A27 -> 菲律賓
A28: 印尼 | B28: 設計 | D28: USD | E28: =D!I28 -> 80 | F28: =E28*$K$5 -> 2576 | G28: USD | H28: =D!R28 -> 580 | I28: =H28*$K$5 -> 18676 | J28: =F28+I28 -> 21252 | K28: =D!Z28 -> 30000 | L28: =J28+K28 -> 51252 | M28: =A28 -> 印尼
A29: 越南 | B29: 設計 | D29: VND | E29: =D!I29 -> 1870000 | F29: =E29*$M$7 -> 2618 | G29: USD | H29: =D!R29 -> 539 | I29: =H29*$K$5 -> 17355.8 | J29: =F29+I29 -> 19973.8 | K29: =D!Z29 -> 30000 | L29: =J29+K29 -> 49973.8 | M29: =A29 -> 越南 | N29: =IF(D!$C$29=FALSE,"",IF(選項!$K$2=1,"注意：越南尚未開放申請各種「圖像設計」之設計專利",""))
A30: 泰國 | B30: 設計 | D30: THB | E30: =D!I30 -> 250 | F30: =E30*$K$9 -> 262.5 | G30: THB | H30: =D!R30 -> 18500 | I30: =H30*$K$9 -> 19425 | J30: =F30+I30 -> 19687.5 | K30: =D!Z30 -> 30000 | L30: =J30+K30 -> 49687.5 | M30: =A30 -> 泰國 | N30: =IF(D!$C$30=FALSE,"",IF(選項!$K$2=1,"注意：泰國不允許申請「動態GUI」之設計專利",""))
A31: 印度 | B31: 設計 | D31: USD | E31: =D!I31 -> 57 | F31: =E31*$K$5 -> 1835.4 | G31: USD | H31: =D!R31 -> 250 | I31: =H31*$K$5 -> 8050 | J31: =F31+I31 -> 9885.4 | K31: =D!Z31 -> 30000 | L31: =J31+K31 -> 39885.4 | M31: =A31 -> 印度
A32: 預估證書數 | B32: =B72 -> 16 | E32: 合計 | F32: =SUM(F16:F31) -> 94367.325 | H32: 合計 | I32: =SUM(I16:I31) -> 230257.8 | J32: =SUM(J16:J31) -> 324625.13 | K32: =SUM(K16:K31) -> 489000 | L32: =SUM(L16:L31) -> 813625.12
A33: 備註：
A34: 1.上表計算結果僅係概估費用，皆假設要同日申請的設計都是近似設計，並「不」包含以下費用：
A35: (1)個別案件之「主張優先權」、「申請優先權證」、「提呈IDS」、「補正文件」等額外程序費用。
A36: (2)各地區官方或代理人因設計圖數過多所收取的「超圖費」。
A37: (3)被官方要求將個別案件中的不同設計分拆成獨立申請案所衍生的額外費用。
A38: (4)個別案件後續可能發生的核駁答辯費用，以及領取專利證書的費用。
A39: 2.「圖像設計」是指設計內容為電腦圖像（ICON）或圖形化使用者介面（Graphical User Interface，GUI）。
A40: 3.設計專利最長保護年限達10年的地區：泰國、印尼、加拿大、澳洲。
A41: 4.設計專利最長保護年限達15年的地區：台灣、大陸、美國、新加坡、菲律賓、越南、印度。
A42: 5.設計專利最長保護年限達20年的地區：韓國。
A43: 6.設計專利最長保護年限達25年的地區：日本、歐盟、英國、馬來西亞。
...

Sheet D
A2: 下表可計算委託慧盈專利辦理各國「設計專利」申請案的預估費用。紅色部份是可自行調整的數字或選單，藍色數字是依照本所收費標準估算的金額。
A3: 要提供估算結果給客戶時，先把藍底色「以外」的欄位都設「隱藏」，只留下藍底色的欄位後再copy到WORD或Email中給客戶。
A4: 案件基本參數 | I4: 匯率基礎 | O4: =ROUNDUP(B5/10,0) -> 1 | R4: 階段費用 | T4: 計費項目
A5: 設計項數 | B5: =設計案成本估算!B5 -> 1 | C5: ←影響部分案件的慧盈服務費、官方費用、或外國代理人費 | I5: 美元(USD) | J5: =設計案成本估算!K5 -> 32.2 | K5: 人民幣(CNY) | L5: =設計案成本估算!M5 -> 4.85 | R5: 申請費 | S5: TRUE | T5: 官方費用 | U5: TRUE
A6: 總圖數 | B6: =設計案成本估算!B6 -> 8 | C6: ←影響部分案件的慧盈服務費、官方費用、或外國代理人費 | I6: 歐元(EUR) | J6: =設計案成本估算!K6 -> 37.5 | K6: 新加坡幣(SGD) | L6: =設計案成本估算!M6 -> 25.4 | R6: 領證費 | S6: TRUE | T6: 外國代理人費 | U6: TRUE
A7: 設計類型 | C7: ←影響TW、JP、TH、ID案的慧盈申請服務費算法 | I7: 日圓(JPY) | J7: =設計案成本估算!K7 -> 0.21 | K7: 越南幣(VND) | L7: =設計案成本估算!M7 -> 0.0014 | R7: 後續年費 | S7: TRUE | T7: 慧盈服務費 | U7: TRUE
I8: 韓元(KRW) | J8: =設計案成本估算!K8 -> 0.026 | K8: 馬來幣(MYR) | L8: =設計案成本估算!M8 -> 8.3 | R8: 答辯費 | S8: TRUE
A9: 申請人規模 | B9: =設計案成本估算!B9 -> 少於100人 | C9: ←影響美國案、加拿大案的官方費用 | I9: 泰幣(THB) | J9: =設計案成本估算!K9 -> 1.05 | K9: 加拿大幣(CAD) | L9: =設計案成本估算!M9 -> 23.5
A10: 申請人屬性 | B10: =設計案成本估算!B10 -> 中小企業 | C10: ←企業需符合經濟部的中小企業認定標準才能算「中小企業」 | I10: 英鎊(GBP) | J10: =設計案成本估算!K10 -> 44 | K10: 澳洲幣(AUD) | L10: =設計案成本估算!M10 -> 23.2
A12: 第一部分：辦理各地區「設計專利」的「申請費用」：從撰稿到提交申請。 | AG12: 第二部分：辦理各地區「設計專利」的「領證費用（包含最基本的第一次年費）」。
A13: 撰稿到提交申請階段 | AC13: 繪製申請費圓餅圖專用 | AG13: 領證階段（包含最基本的第一次年費） | AZ13: 繪製領證費圓餅圖專用 | BD13: 繪製各國（申請+答辯費）與（領證＋年費）長條圖 | BO13: 繪製申請費與年費加總分析圖 | BR13: 繪製申請費與年費加總分析子母圖
A14: 申請地區 | B14: 專利類型 | C14: 是否申請 | D14: 官方費用 (A1) | K14: 外國代理人費用 (A2) | T14: 總代墊費用 (A = A1+A2) | U14: 慧盈服務費細項 | Z14: 慧盈服務費 (A3) (NTD) | AA14: 專利申請費用小計 (A = A1+A2+A3) (NTD) | AB14: 申請地區 | AC14: 官方費用(A1) | AD14: 外國代理人費用(A2) | AE14: 慧盈服務費(A3) | AG14: 申請地區 | AH14: 核准後之 證書數量 (預估) | AI14: 官方費用 (C1) | AO14: 外國代理人費用 (C2) | AU14: 總代墊費用 (C1+C2) | AV14: 慧盈服務費細項 | AW14: 慧盈服務費 (C3) (NTD) | AX14: 專利維護費用小計 (C = C1+C2+C3) (NTD) | AY14: 申請地區 | AZ14: 官方費用(C1) | BA14: 外國代理人費用(C2) | BB14: 慧盈服務費(C3) | BD14: 申請地區 | BE14: 申請費用(A) | BF14: 答辯費用(R) | BG14: 領證費用(C) | BH14: 後續年費(M) | BI14: 申請+答辯費用(A+R) | BJ14: 申請+領證費用(A+C) | BK14: 申請+答辯+領證費(A+R+C) | BL14: 領證+後續年費(C+M) | BM14: 專利布局總成本 (T = A+C+R+M) | BO14: 專利申請費用(A) | BP14: 專利領證費用(C) | BR14: 官方費用(A1) | BS14: 外國代理人費用(A2) | BT14: 慧盈服務費(A3) | BU14: 領證+答辯+後續年費(C+R+M)
D15: 幣別 | E15: 申請費 | F15: 審查費 | G15: (同日)超項費 | H15: 申請權登錄費 | I15: 原幣別金額 | J15: 折合台幣 | K15: 幣別 | L15: 申請費 | M15: 翻譯費 | N15: 審查費 | O15: (同日)超項費 | P15: 申請權登錄費 | Q15: 製圖費 | R15: 原幣別金額 | S15: 折合台幣 | T15: 折合台幣 | U15: 基本費 | V15: 超字費 | W15: 超圖費 | X15: 設計超項費 | Y15: 特殊程序費 | AI15: 幣別 | AJ15: 領證繳年費 | AK15: 超項費 | AL15: 超圖費 | AM15: 原幣別金額 | AN15: 折合台幣 | AO15: 幣別 | AP15: 領證繳年費 | AQ15: 超項費 | AR15: 超圖費 | AS15: 原幣別金額 | AT15: 折合台幣 | AU15: 折合台幣 | AV15: 領證費
A16: 台灣 | B16: 設計 | C16: TRUE | D16: NTD | E16: =IF($B$5>0,IF($U$5=FALSE,0,IF(C16=FALSE,0,2400)),0) -> 2400 | F16: 0 | G16: =IF($B$5>0,IF($U$5=FALSE,0,IF(E16=FALSE,0,($B$5-1)*2400)),0) -> 0 | H16: 0 | I16: =IF($S$5=FALSE,0,SUM(E16:H16)) -> 2400 | J16: =I16*1 -> 2400 | K16: NTD | L16: 0 | M16: 0 | N16: 0 | O16: 0 | P16: 0 | Q16: 0 | R16: =IF($S$5=FALSE,0,SUM(L16:Q16)) -> 0 | S16: =R16*1 -> 0 | T16: =J16+S16 -> 2400 | U16: =IF($B$5>0,IF($U$7=FALSE,0,IF(C16=FALSE,0,23000)),0) -> 23000 | V16: 0 | W16: =IF($B$5>0,IF($U$7=FALSE,0,IF(C16=FALSE,0,IF($B$6/$B$5<=10,0,IF(選項!$K$2=1,1000*($B$6-$B$5*10),2000*($B$6-$B$5*10))))),0) -> 0 | X16: =IF($B$5>0,IF($U$7=FALSE,0,IF(C16=FALSE,0,IF(選項!$K$2=1,10000*($B$5-1),15000*($B$5-1)))),0) -> 0 | Y16: 0 | Z16: =IF($S$5=FALSE,0,SUM(U16:Y16)) -> 23000 | AA16: =T16+Z16 -> 25400 | AB16: =A16 -> 台灣 | AC16: =J16 -> 2400 | AD16: =S16 -> 0 | AE16: =Z16 -> 23000 | AG16: =A16 -> 台灣 | AH16: =IF($B$5>0,IF(C16=FALSE,0,$B$5),0) -> 1 | AI16: NTD | AJ16: =IF($B$5>0,IF($U$5=FALSE,0,IF(C16=FALSE,0,IF($B$10="大企業",(1000+800),1000))),0) -> 1000 | AK16: =IF($B$5>0,IF($U$5=FALSE,0,IF(C16=FALSE,0,IF($B$10="大企業",(1000+800)*($B$5-1),1000*($B$5-1)))),0) -> 0 | AM16: =IF($S$6=FALSE,0,SUM(AJ16:AL16)) -> 1000 | AN16: =AM16*1 -> 1000 | AO16: NTD | AS16: =IF($S$6=FALSE,0,SUM(AP16:AR16)) -> 0 | AT16: =AS16*1 -> 0 | AU16: =AN16+AT16 -> 1000 | AV16: =IF($B$5>0,IF($U$7=FALSE,0,IF(C16=FALSE,0,0)),0) -> 0 | AW16: =IF($S$6=FALSE,0,SUM(AV16:AV16)) -> 0 | AX16: =AU16+AW16 -> 1000 | AY16: =A16 -> 台灣 | AZ16: =AN16 -> 1000 | BA16: =AT16 -> 0 | BB16: =AW16 -> 0 | BD16: =A16 -> 台灣 | BE16: =AA16 -> 25400 | BF16: =AA40 -> 20000 | BG16: =AX16 -> 1000 | BH16: =AX40 -> 65400 | BI16: =BE16+BF16 -> 45400 | BJ16: =BE16+BG16 -> 26400 | BK16: =BE16+BF16+BG16 -> 46400 | BL16: =BG16+BH16 -> 66400 | BM16: =BI16+BL16 -> 111800 | BO16: =AA16 -> 25400 | BP16: =AX16 -> 1000 | BR16: =AC16 -> 2400 | BS16: =AD16 -> 0 | BT16: =AE16 -> 23000 | BU16: =BF16+BG16+BH16 -> 86400
A17: 大陸 | B17: 設計 | C17: TRUE | D17: CNY | E17: =IF($B$5>0,IF($U$5=FALSE,0,IF(C17=FALSE,0,ROUNDUP($B$5/10,0)*500)),0) -> 500 | F17: 0 | G17: 0 | H17: 0 | I17: =IF($S$5=FALSE,0,SUM(E17:H17)) -> 500 | J17: =I17*$L$5 -> 2425 | K17: CNY | L17: =IF($B$5>0,IF($U$6=FALSE,0,IF(C17=FALSE,0,ROUNDUP($B$5/10,0)*950)),0) -> 950 | M17: 0 | N17: 0 | O17: 0 | P17: 0 | Q17: 0 | R17: =IF($S$5=FALSE,0,SUM(L17:Q17)) -> 950 | S17: =R17*$L$5 -> 4607.5 | T17: =J17+S17 -> 7032.5 | U17: =IF($B$5>0,IF($U$7=FALSE,0,IF(C17=FALSE,0,ROUNDUP($B$5/10,0)*26000)),0) -> 26000 | V17: 0 | W17: =IF($B$5>0,IF($U$7=FALSE,0,IF(C17=FALSE,0,IF($B$6/$B$5<=10,0,IF(選項!$K$2=1,1000*($B$6-$B$5*10),2000*($B$6-$B$5*10))))),0) -> 0 | X17: =IF($B$5>0,IF($U$7=FALSE,0,IF(C17=FALSE,0,IF(選項!$K$2=1,10000*($B$5-1),15000*($B$5-1)))),0) -> 0 | Y17: 0 | Z17: =IF($S$5=FALSE,0,SUM(U17:Y17)) -> 26000 | AA17: =T17+Z17 -> 33032.5 | AB17: =A17 -> 大陸 | AC17: =J17 -> 2425 | AD17: =S17 -> 4607.5 | AE17: =Z17 -> 26000 | AG17: =A17 -> 大陸 | AH17: =IF($B$5>0,IF(C17=FALSE,0,ROUNDUP($B$5/10,0)),0) -> 1 | AI17: CNY | AJ17: =IF($B$5>0,IF($U$5=FALSE,0,IF(C17=FALSE,0,ROUNDUP($B$5/10,0)*(5+600))),0) -> 605 | AM17: =IF($S$6=FALSE,0,SUM(AJ17:AL17)) -> 605 | AN17: =AM17*$L$5 -> 2934.25 | AO17: CNY | AP17: =IF($B$5>0,IF($U$6=FALSE,0,IF(C17=FALSE,0,ROUNDUP($B$5/10,0)*200)),0) -> 200 | AS17: =IF($S$6=FALSE,0,SUM(AP17:AR17)) -> 200 | AT17: =AS17*$L$5 -> 970 | AU17: =AN17+AT17 -> 3904.25 | AV17: =IF($B$5>0,IF($U$7=FALSE,0,IF(C17=FALSE,0,2000)),0) -> 2000 | AW17: =IF($S$6=FALSE,0,SUM(AV17:AV17)) -> 2000 | AX17: =AU17+AW17 -> 5904.25 | AY17: =A17 -> 大陸 | AZ17: =AN17 -> 2934.25 | BA17: =AT17 -> 970 | BB17: =AW17 -> 2000 | BD17: =A17 -> 大陸 | BE17: =AA17 -> 33032.5 | BF17: =AA41 -> 0 | BG17: =AX17 -> 5904.25 | BH17: =AX41 -> 179740 | BI17: =BE17+BF17 -> 33032.5 | BJ17: =BE17+BG17 -> 38936.75 | BK17: =BE17+BF17+BG17 -> 38936.75 | BL17: =BG17+BH17 -> 185644.25 | BM17: =BI17+BL17 -> 218676.75 | BO17: =AA17 -> 33032.5 | BP17: =AX17 -> 5904.25 | BR17: =AC17 -> 2425 | BS17: =AD17 -> 4607.5 | BT17: =AE17 -> 26000 | BU17: =BF17+BG17+BH17 -> 185644.25
A18: 美國 | B18: 設計 | C18: TRUE | D18: USD | E18: =IF($B$5>0,IF($U$5=FALSE,0,IF(C18=FALSE,0,IF($B$9="500人以上",1300,520))),0) -> 520 | F18: 0 | G18: 0 | H18: 0 | I18: =IF($S$5=FALSE,0,SUM(E18:H18)) -> 520 | J18: =I18*$J$5 -> 16744 | K18: USD | L18: =IF($B$5>0,IF($U$6=FALSE,0,IF(C18=FALSE,0,400+150)),0) -> 550 | M18: 0 | N18: 0 | O18: 0 | P18: =IF($B$5>0,IF($U$6=FALSE,0,IF(C18=FALSE,0,100)),0) -> 100 | Q18: 0 | R18: =IF($S$5=FALSE,0,SUM(L18:Q18)) -> 650 | S18: =R18*$J$5 -> 20930 | T18: =J18+S18 -> 37674 | U18: =IF($B$5>0,IF($U$7=FALSE,0,IF(C18=FALSE,0,IF(選項!$K$2=1,30000,40000))),0) -> 40000 | V18: 0 | W18: =IF($B$5>0,IF($U$7=FALSE,0,IF(C18=FALSE,0,IF($B$6/$B$5<=10,0,IF(選項!$K$2=1,1000*($B$6-$B$5*10),2000*($B$6-$B$5*10))))),0) -> 0 | X18: =IF($B$5>0,IF($U$7=FALSE,0,IF(C18=FALSE,0,IF(選項!$K$2=1,10000*($B$5-1),25000*($B$5-1)))),0) -> 0 | Y18: 0 | Z18: =IF($S$5=FALSE,0,SUM(U18:Y18)) -> 40000 | AA18: =T18+Z18 -> 77674 | AB18: =A18 -> 美國 | AC18: =J18 -> 16744 | AD18: =S18 -> 20930 | AE18: =Z18 -> 40000 | AG18: =A18 -> 美國 | AH18: =IF($B$5>0,IF(C18=FALSE,0,1),0) -> 1 | AI18: USD | AJ18: =IF($B$5>0,IF($U$5=FALSE,0,IF(C18=FALSE,0,IF($B$9="500人以上",1300,520))),0) -> 520 | AM18: =IF($S$6=FALSE,0,SUM(AJ18:AL18)) -> 520 | AN18: =AM18*$J$5 -> 16744 | AO18: USD | AP18: =IF($B$5>0,IF($U$6=FALSE,0,IF(C18=FALSE,0,370)),0) -> 370 | AS18: =IF($S$6=FALSE,0,SUM(AP18:AR18)) -> 370 | AT18: =AS18*$J$5 -> 11914 | AU18: =AN18+AT18 -> 28658 | AV18: =IF($B$5>0,IF($U$7=FALSE,0,IF(C18=FALSE,0,2000)),0) -> 2000 | AW18: =IF($S$6=FALSE,0,SUM(AV18:AV18)) -> 2000 | AX18: =AU18+AW18 -> 30658 | AY18: =A18 -> 美國 | AZ18: =AN18 -> 16744 | BA18: =AT18 -> 11914 | BB18: =AW18 -> 2000 | BD18: =A18 -> 美國 | BE18: =AA18 -> 77674 | BF18: =AA42 -> 64767 | BG18: =AX18 -> 30658 | BH18: =AX42 -> 0 | BI18: =BE18+BF18 -> 142441 | BJ18: =BE18+BG18 -> 108332 | BK18: =BE18+BF18+BG18 -> 173099 | BL18: =BG18+BH18 -> 30658 | BM18: =BI18+BL18 -> 173099 | BO18: =AA18 -> 77674 | BP18: =AX18 -> 30658 | BR18: =AC18 -> 16744 | BS18: =AD18 -> 20930 | BT18: =AE18 -> 40000 | BU18: =BF18+BG18+BH18 -> 95425
A19: 歐盟 | B19: 設計 | C19: TRUE | D19: EUR | E19: =IF($B$5>0,IF($U$5=FALSE,0,IF(C19=FALSE,0,350)),0) -> 350 | F19: 0 | G19: =IF($B$5>0,IF($U$5=FALSE,0,IF(C19=FALSE,0,($B$5-1)*125)),0) -> 0 | H19: 0 | I19: =IF($S$5=FALSE,0,SUM(E19:H19)) -> 350 | J19: =I19*$J$6 -> 13125 | K19: EUR | L19: =IF($B$5>0,IF($U$6=FALSE,0,IF(C19=FALSE,0,150)),0) -> 150 | M19: 0 | N19: 0 | O19: =IF($B$5>0,IF($U$6=FALSE,0,IF(C19=FALSE,0,($B$5-1)*50)),0) -> 0 | P19: 0 | Q19: 0 | R19: =IF($S$5=FALSE,0,SUM(L19:Q19)) -> 150 | S19: =R19*$J$6 -> 5625 | T19: =J19+S19 -> 18750 | U19: =IF($B$5>0,IF($U$7=FALSE,0,IF(C19=FALSE,0,30000)),0) -> 30000 | V19: 0 | W19: 0 | X19: =IF($B$5>0,IF($U$7=FALSE,0,IF(C19=FALSE,0,IF(選項!$K$2=1,10000*($B$5-1),20000*($B$5-1)))),0) -> 0 | Y19: 0 | Z19: =IF($S$5=FALSE,0,SUM(U19:Y19)) -> 30000 | AA19: =T19+Z19 -> 48750 | AB19: =A19 -> 歐盟 | AC19: =J19 -> 13125 | AD19: =S19 -> 5625 | AE19: =Z19 -> 30000 | AG19: =A19 -> 歐盟 | AH19: =IF($B$5>0,IF(C19=FALSE,0,$B$5),0) -> 1 | AI19: EUR | AJ19: 0 | AK19: 0 | AM19: =IF($S$6=FALSE,0,SUM(AJ19:AL19)) -> 0 | AN19: =AM19*$J$6 -> 0 | AO19: EUR | AP19: =IF($B$5>0,IF($U$6=FALSE,0,IF(C19=FALSE,0,0)),0) -> 0 | AQ19: =IF($B$5>0,IF($U$6=FALSE,0,IF(C19=FALSE,0,IF($B$5>1,($B$5-1)*0,0))),0) -> 0 | AS19: =IF($S$6=FALSE,0,SUM(AP19:AR19)) -> 0 | AT19: =AS19*$J$6 -> 0 | AU19: =AN19+AT19 -> 0 | AV19: =IF($B$5>0,IF($U$7=FALSE,0,IF(C19=FALSE,0,IF($B$5>5,2000+2000*(ROUNDDOWN($B$5/5,0)-1),2000))),0) -> 2000 | AW19: =IF($S$6=FALSE,0,SUM(AV19:AV19)) -> 2000 | AX19: =AU19+AW19 -> 2000 | AY19: =A19 -> 歐盟 | AZ19: =AN19 -> 0 | BA19: =AT19 -> 0 | BB19: =AW19 -> 2000 | BD19: =A19 -> 歐盟 | BE19: =AA19 -> 48750 | BF19: =AA43 -> 0 | BG19: =AX19 -> 2000 | BH19: =AX43 -> 81180 | BI19: =BE19+BF19 -> 48750 | BJ19: =BE19+BG19 -> 50750 | BK19: =BE19+BF19+BG19 -> 50750 | BL19: =BG19+BH19 -> 83180 | BM19: =BI19+BL19 -> 131930 | BO19: =AA19 -> 48750 | BP19: =AX19 -> 2000 | BR19: =AC19 -> 13125 | BS19: =AD19 -> 5625 | BT19: =AE19 -> 30000 | BU19: =BF19+BG19+BH19 -> 83180
A20: 英國 | B20: 設計 | C20: TRUE | D20: GBP | E20: =IF($B$5>0,IF($U$5=FALSE,0,IF(C20=FALSE,0,ROUNDUP($B$5/50,0)*50)),0) -> 50 | F20: 0 | G20: =IF($B$5>0,IF($U$5=FALSE,0,IF(C20=FALSE,0,IF($B$5>40,100,IF($B$5>30,80,IF($B$5>20,60,IF($B$5>10,40,IF($B$5>1,20,0))))))),0) -> 0 | H20: 0 | I20: =IF($S$5=FALSE,0,SUM(E20:H20)) -> 50 | J20: =I20*$J$6 -> 1875 | K20: EUR | L20: =IF($B$5>0,IF($U$6=FALSE,0,IF(C20=FALSE,0,ROUNDUP($B$5/50,0)*160)),0) -> 160 | M20: 0 | N20: 0 | O20: =IF($B$5>0,IF($U$6=FALSE,0,IF(C20=FALSE,0,IF($B$5>40,240,IF($B$5>30,190,IF($B$5>20,140,IF($B$5>10,90,IF($B$5>1,40,0))))))),0) -> 0 | P20: 0 | Q20: 0 | R20: =IF($S$5=FALSE,0,SUM(L20:Q20)) -> 160 | S20: =R20*$J$6 -> 6000 | T20: =J20+S20 -> 7875 | U20: =IF($B$5>0,IF($U$7=FALSE,0,IF(C20=FALSE,0,ROUNDUP($B$5/50,0)*30000)),0) -> 30000 | V20: 0 | W20: =IF($B$5>0,IF($U$7=FALSE,0,IF(C20=FALSE,0,IF($B$6/$B$5<=10,0,IF(選項!$K$2=1,1000*($B$6-$B$5*10),2000*($B$6-$B$5*10))))),0) -> 0 | X20: =IF($B$5>0,IF($U$7=FALSE,0,IF(C20=FALSE,0,IF(選項!$K$2=1,10000*($B$5-1),20000*($B$5-1)))),0) -> 0 | Y20: 0 | Z20: =IF($S$5=FALSE,0,SUM(U20:Y20)) -> 30000 | AA20: =T20+Z20 -> 37875 | AB20: =A20 -> 英國 | AC20: =J20 -> 1875 | AD20: =S20 -> 6000 | AE20: =Z20 -> 30000 | AG20: =A20 -> 英國 | AH20: =IF($B$5>0,IF(C20=FALSE,0,$B$5),0) -> 1 | AI20: EUR | AJ20: 0 | AK20: 0 | AM20: =IF($S$6=FALSE,0,SUM(AJ20:AL20)) -> 0 | AN20: =AM20*$J$6 -> 0 | AO20: EUR | AP20: 0 | AQ20: 0 | AS20: =IF($S$6=FALSE,0,SUM(AP20:AR20)) -> 0 | AT20: =AS20*$J$6 -> 0 | AU20: =AN20+AT20 -> 0 | AV20: =IF($B$5>0,IF($U$7=FALSE,0,IF(C20=FALSE,0,IF($B$5>5,2000+2000*(ROUNDDOWN($B$5/5,0)-1),2000))),0) -> 2000 | AW20: =IF($S$6=FALSE,0,SUM(AV20:AV20)) -> 2000 | AX20: =AU20+AW20 -> 2000 | AY20: =A20 -> 英國 | AZ20: =AN20 -> 0 | BA20: =AT20 -> 0 | BB20: =AW20 -> 2000 | BD20: =A20 -> 英國 | BE20: =AA20 -> 37875 | BF20: =AA44 -> 0 | BG20: =AX20 -> 2000 | BH20: =AX44 -> 56064 | BI20: =BE20+BF20 -> 37875 | BJ20: =BE20+BG20 -> 39875 | BK20: =BE20+BF20+BG20 -> 39875 | BL20: =BG20+BH20 -> 58064 | BM20: =BI20+BL20 -> 95939 | BO20: =AA20 -> 37875 | BP20: =AX20 -> 2000 | BR20: =AC20 -> 1875 | BS20: =AD20 -> 6000 | BT20: =AE20 -> 30000 | BU20: =BF20+BG20+BH20 -> 58064
A21: 日本 | B21: 設計 | C21: TRUE | D21: JPY | E21: =IF($B$5>0,IF($U$5=FALSE,0,IF(C21=FALSE,0,16000)),0) -> 16000 | F21: 0 | G21: =IF($B$5>0,IF($U$5=FALSE,0,IF(C21=FALSE,0,($B$5-1)*16000)),0) -> 0 | H21: 0 | I21: =IF($S$5=FALSE,0,SUM(E21:H21)) -> 16000 | J21: =I21*$J$7 -> 3360 | K21: JPY | L21: =IF($B$5>0,IF($U$6=FALSE,0,IF(C21=FALSE,0,93200)),0) -> 93200 | M21: 0 | N21: 0 | O21: =IF($B$5>0,IF($U$6=FALSE,0,IF(C21=FALSE,0,($B$5-1)*93200)),0) -> 0 | P21: 0 | Q21: 0 | R21: =IF($S$5=FALSE,0,SUM(L21:Q21)) -> 93200 | S21: =R21*$J$7 -> 19572 | T21: =J21+S21 -> 22932 | U21: =IF($B$5>0,IF($U$7=FALSE,0,IF(C21=FALSE,0,30000)),0) -> 30000 | V21: 0 | W21: =IF($B$5>0,IF($U$7=FALSE,0,IF(C21=FALSE,0,IF($B$6/$B$5<=10,0,IF(選項!$K$2=1,1000*($B$6-$B$5*10),2000*($B$6-$B$5*10))))),0) -> 0 | X21: =IF($B$5>0,IF($U$7=FALSE,0,IF(C21=FALSE,0,IF(選項!$K$2=1,10000*($B$5-1),20000*($B$5-1)))),0) -> 0 | Y21: 0 | Z21: =IF($S$5=FALSE,0,SUM(U21:Y21)) -> 30000 | AA21: =T21+Z21 -> 52932 | AB21: =A21 -> 日本 | AC21: =J21 -> 3360 | AD21: =S21 -> 19572 | AE21: =Z21 -> 30000 | AG21: =A21 -> 日本 | AH21: =IF($B$5>0,IF(C21=FALSE,0,$B$5),0) -> 1 | AI21: JPY | AJ21: =IF($B$5>0,IF($U$5=FALSE,0,IF(C21=FALSE,0,25500)),0) -> 25500 | AK21: =IF($B$5>0,IF($U$5=FALSE,0,IF(C21=FALSE,0,(25500)*($B$5-1))),0) -> 0 | AM21: =IF($S$6=FALSE,0,SUM(AJ21:AL21)) -> 25500 | AN21: =AM21*$J$7 -> 5355 | AO21: JPY | AP21: =IF($B$5>0,IF($U$6=FALSE,0,IF(C21=FALSE,0,8000)),0) -> 8000 | AQ21: =IF($B$5>0,IF($U$6=FALSE,0,IF(C21=FALSE,0,(8000)*($B$5-1))),0) -> 0 | AS21: =IF($S$6=FALSE,0,SUM(AP21:AR21)) -> 8000 | AT21: =AS21*$J$7 -> 1680 | AU21: =AN21+AT21 -> 7035 | AV21: =IF($B$5>0,IF($U$7=FALSE,0,IF(C21=FALSE,0,$B$5*2000)),0) -> 2000 | AW21: =IF($S$6=FALSE,0,SUM(AV21:AV21)) -> 2000 | AX21: =AU21+AW21 -> 9035 | AY21: =A21 -> 日本 | AZ21: =AN21 -> 5355 | BA21: =AT21 -> 1680 | BB21: =AW21 -> 2000 | BD21: =A21 -> 日本 | BE21: =AA21 -> 52932 | BF21: =AA45 -> 48100 | BG21: =AX21 -> 9035 | BH21: =AX45 -> 232808 | BI21: =BE21+BF21 -> 101032 | BJ21: =BE21+BG21 -> 61967 | BK21: =BE21+BF21+BG21 -> 110067 | BL21: =BG21+BH21 -> 241843 | BM21: =BI21+BL21 -> 342875 | BO21: =AA21 -> 52932 | BP21: =AX21 -> 9035 | BR21: =AC21 -> 3360 | BS21: =AD21 -> 19572 | BT21: =AE21 -> 30000 | BU21: =BF21+BG21+BH21 -> 289943
A22: 韓國 | B22: 設計 | C22: TRUE | D22: KRW | E22: =IF($B$5>0,IF($U$5=FALSE,0,IF(C22=FALSE,0,94000)),0) -> 94000 | F22: 0 | G22: =IF($B$5>0,IF($U$5=FALSE,0,IF(C22=FALSE,0,($B$5-1)*94000)),0) -> 0 | H22: 0 | I22: =IF($S$5=FALSE,0,SUM(E22:H22)) -> 94000 | J22: =I22*$J$8 -> 2444 | K22: USD | L22: =IF($B$5>0,IF($U$6=FALSE,0,IF(C22=FALSE,0,700)),0) -> 700 | M22: 0 | N22: 0 | O22: =IF($B$5>0,IF($U$6=FALSE,0,IF(C22=FALSE,0,($B$5-1)*700)),0) -> 0 | P22: 0 | Q22: 0 | R22: =IF($S$5=FALSE,0,SUM(L22:Q22)) -> 700 | S22: =R22*$J$5 -> 22540 | T22: =J22+S22 -> 24984 | U22: =IF($B$5>0,IF($U$7=FALSE,0,IF(C22=FALSE,0,30000)),0) -> 30000 | V22: 0 | W22: =IF($B$5>0,IF($U$7=FALSE,0,IF(C22=FALSE,0,IF($B$6/$B$5<=10,0,IF(選項!$K$2=1,1000*($B$6-$B$5*10),2000*($B$6-$B$5*10))))),0) -> 0 | X22: =IF($B$5>0,IF($U$7=FALSE,0,IF(C22=FALSE,0,IF(選項!$K$2=1,10000*($B$5-1),20000*($B$5-1)))),0) -> 0 | Y22: 0 | Z22: =IF($S$5=FALSE,0,SUM(U22:Y22)) -> 30000 | AA22: =T22+Z22 -> 54984 | AB22: =A22 -> 韓國 | AC22: =J22 -> 2444 | AD22: =S22 -> 22540 | AE22: =Z22 -> 30000 | AG22: =A22 -> 韓國 | AH22: =IF($B$5>0,IF(C22=FALSE,0,$B$5),0) -> 1 | AI22: KRW | AJ22: =IF($B$5>0,IF($U$5=FALSE,0,IF(C22=FALSE,0,75000)),0) -> 75000 | AK22: =IF($B$5>0,IF($U$5=FALSE,0,IF(C22=FALSE,0,75000*($B$5-1))),0) -> 0 | AM22: =IF($S$6=FALSE,0,SUM(AJ22:AL22)) -> 75000 | AN22: =AM22*$J$8 -> 1950 | AO22: USD | AP22: =IF($B$5>0,IF($U$6=FALSE,0,IF(C22=FALSE,0,200)),0) -> 200 | AQ22: =IF($B$5>0,IF($U$6=FALSE,0,IF(C22=FALSE,0,200*($B$5-1))),0) -> 0 | AS22: =IF($S$6=FALSE,0,SUM(AP22:AR22)) -> 200 | AT22: =AS22*$J$5 -> 6440 | AU22: =AN22+AT22 -> 8390 | AV22: =IF($B$5>0,IF($U$7=FALSE,0,IF(C22=FALSE,0,$B$5*2000)),0) -> 2000 | AW22: =IF($S$6=FALSE,0,SUM(AV22:AV22)) -> 2000 | AX22: =AU22+AW22 -> 10390 | AY22: =A22 -> 韓國 | AZ22: =AN22 -> 1950 | BA22: =AT22 -> 6440 | BB22: =AW22 -> 2000 | BD22: =A22 -> 韓國 | BE22: =AA22 -> 54984 | BF22: =AA46 -> 115160 | BG22: =AX22 -> 10390 | BH22: =AX46 -> 251152 | BI22: =BE22+BF22 -> 170144 | BJ22: =BE22+BG22 -> 65374 | BK22: =BE22+BF22+BG22 -> 180534 | BL22: =BG22+BH22 -> 261542 | BM22: =BI22+BL22 -> 431686 | BO22: =AA22 -> 54984 | BP22: =AX22 -> 10390 | BR22: =AC22 -> 2444 | BS22: =AD22 -> 22540 | BT22: =AE22 -> 30000 | BU22: =BF22+BG22+BH22 -> 376702
A23: 加拿大 | B23: 設計 | C23: TRUE | D23: CAD | E23: =IF($B$5>0,IF($U$5=FALSE,0,IF(C23=FALSE,0,IF($B$6<10,591.95,591.95+14.62*($B$6-10)))),0) -> 591.95 | F23: 0 | G23: 0 | H23: 0 | I23: =IF($S$5=FALSE,0,SUM(E23:H23)) -> 591.95 | J23: =I23*$L$9 -> 13910.825 | K23: CAD | L23: =IF($B$5>0,IF($U$6=FALSE,0,IF(C23=FALSE,0,915)),0) -> 915 | M23: 0 | N23: 0 | O23: 0 | P23: 0 | Q23: 0 | R23: =IF($S$5=FALSE,0,SUM(L23:Q23)) -> 915 | S23: =R23*$L$9 -> 21502.5 | T23: =J23+S23 -> 35413.325 | U23: =IF($B$5>0,IF($U$7=FALSE,0,IF(C23=FALSE,0,30000)),0) -> 30000 | V23: 0 | W23: =IF($B$5>0,IF($U$7=FALSE,0,IF(C23=FALSE,0,IF($B$6/$B$5<=10,0,IF(選項!$K$2=1,1000*($B$6-$B$5*10),2000*($B$6-$B$5*10))))),0) -> 0 | X23: =IF($B$5>0,IF($U$7=FALSE,0,IF(C23=FALSE,0,IF(選項!$K$2=1,10000*($B$5-1),20000*($B$5-1)))),0) -> 0 | Y23: 0 | Z23: =IF($S$5=FALSE,0,SUM(U23:Y23)) -> 30000 | AA23: =T23+Z23 -> 65413.325 | AB23: =A23 -> 加拿大 | AC23: =J23 -> 13910.825 | AD23: =S23 -> 21502.5 | AE23: =Z23 -> 30000 | AG23: =A23 -> 加拿大 | AH23: =IF($B$5>0,IF(C23=FALSE,0,1),0) -> 1 | AI23: CAD | AJ23: =IF($B$5>0,IF($U$5=FALSE,0,IF(C23=FALSE,0,0)),0) -> 0 | AM23: =IF($S$6=FALSE,0,SUM(AJ23:AL23)) -> 0 | AN23: =AM23*$L$9 -> 0 | AO23: CAD | AP23: =IF($B$5>0,IF($U$6=FALSE,0,IF(C23=FALSE,0,315)),0) -> 315 | AS23: =IF($S$6=FALSE,0,SUM(AP23:AR23)) -> 315 | AT23: =AS23*$L$9 -> 7402.5 | AU23: =AN23+AT23 -> 7402.5 | AV23: =IF($B$5>0,IF($U$7=FALSE,0,IF(C23=FALSE,0,2000)),0) -> 2000 | AW23: =IF($S$6=FALSE,0,SUM(AV23:AV23)) -> 2000 | AX23: =AU23+AW23 -> 9402.5 | AY23: =A23 -> 加拿大 | AZ23: =AN23 -> 0 | BA23: =AT23 -> 7402.5 | BB23: =AW23 -> 2000 | BD23: =A23 -> 加拿大 | BE23: =AA23 -> 65413.325 | BF23: =AA47 -> 43800 | BG23: =AX23 -> 9402.5 | BH23: =AX47 -> 24571.27 | BI23: =BE23+BF23 -> 109213.32 | BJ23: =BE23+BG23 -> 74815.825 | BK23: =BE23+BF23+BG23 -> 118615.82 | BL23: =BG23+BH23 -> 33973.77 | BM23: =BI23+BL23 -> 143187.1 | BO23: =AA23 -> 65413.325 | BP23: =AX23 -> 9402.5 | BR23: =AC23 -> 13910.825 | BS23: =AD23 -> 21502.5 | BT23: =AE23 -> 30000 | BU23: =BF23+BG23+BH23 -> 77773.77
A24: 澳洲 | B24: 設計 | C24: TRUE | D24: AUD | E24: =IF(選項!$K$2=1,0,IF($B$5>0,IF($U$5=FALSE,0,IF(C24=FALSE,0,200)),0)) -> 200 | F24: 0 | G24: =IF(選項!$K$2=1,0,IF($B$5>0,IF($U$5=FALSE,0,IF(C24=FALSE,0,200*($B$5-1))),0)) -> 0 | H24: 0 | I24: =IF($S$5=FALSE,0,SUM(E24:H24)) -> 200 | J24: =I24*$L$10 -> 4640 | K24: AUD | L24: =IF(選項!$K$2=1,0,IF($B$5>0,IF($U$6=FALSE,0,IF(C24=FALSE,0,1390)),0)) -> 1390 | M24: 0 | N24: 0 | O24: =IF(選項!$K$2=1,0,IF($B$5>0,IF($U$6=FALSE,0,IF(C24=FALSE,0,1390*($B$5-1))),0)) -> 0 | P24: 0 | Q24: 0 | R24: =IF($S$5=FALSE,0,SUM(L24:Q24)) -> 1390 | S24: =R24*$L$10 -> 32248 | T24: =J24+S24 -> 36888 | U24: =IF(選項!$K$2=1,0,IF($B$5>0,IF($U$7=FALSE,0,IF(C24=FALSE,0,30000)),0)) -> 30000 | V24: 0 | W24: =IF($B$5>0,IF($U$7=FALSE,0,IF(C24=FALSE,0,IF($B$6/$B$5<=10,0,IF(選項!$K$2=1,1000*($B$6-$B$5*10),2000*($B$6-$B$5*10))))),0) -> 0 | X24: =IF(選項!$K$2=1,0,IF($B$5>0,IF($U$7=FALSE,0,IF(C24=FALSE,0,IF(選項!$K$2=1,10000*($B$5-1),20000*($B$5-1)))),0)) -> 0 | Y24: 0 | Z24: =IF($S$5=FALSE,0,SUM(U24:Y24)) -> 30000 | AA24: =T24+Z24 -> 66888 | AB24: =A24 -> 澳洲 | AC24: =J24 -> 4640 | AD24: =S24 -> 32248 | AE24: =Z24 -> 30000 | AG24: =A24 -> 澳洲 | AH24: =IF($B$5>0,IF(C24=FALSE,0,$B$5),0) -> 1 | AI24: AUD | AJ24: =IF(選項!$K$2=1,0,IF($B$5>0,IF($U$5=FALSE,0,IF(C24=FALSE,0,0)),0)) -> 0 | AK24: =IF(選項!$K$2=1,0,IF($B$5>0,IF($U$5=FALSE,0,IF(C24=FALSE,0,($B$5-1)*0)),0)) -> 0 | AM24: =IF($S$6=FALSE,0,SUM(AJ24:AL24)) -> 0 | AN24: =AM24*$L$10 -> 0 | AO24: AUD | AP24: =IF(選項!$K$2=1,0,IF($B$5>0,IF($U$6=FALSE,0,IF(C24=FALSE,0,555)),0)) -> 555 | AQ24: =IF(選項!$K$2=1,0,IF($B$5>0,IF($U$6=FALSE,0,IF(C24=FALSE,0,555*($B$5-1))),0)) -> 0 | AS24: =IF($S$6=FALSE,0,SUM(AP24:AR24)) -> 555 | AT24: =AS24*$L$10 -> 12876 | AU24: =AN24+AT24 -> 12876 | AV24: =IF(選項!$K$2=1,0,IF($B$5>0,IF($U$7=FALSE,0,IF(C24=FALSE,0,$B$5*2000)),0)) -> 2000 | AW24: =IF($S$6=FALSE,0,SUM(AV24:AV24)) -> 2000 | AX24: =AU24+AW24 -> 14876 | AY24: =A24 -> 澳洲 | AZ24: =AN24 -> 0 | BA24: =AT24 -> 12876 | BB24: =AW24 -> 2000 | BD24: =A24 -> 澳洲 | BE24: =AA24 -> 66888 | BF24: =AA48 -> 47852 | BG24: =AX24 -> 14876 | BH24: =AX48 -> 27504 | BI24: =BE24+BF24 -> 114740 | BJ24: =BE24+BG24 -> 81764 | BK24: =BE24+BF24+BG24 -> 129616 | BL24: =BG24+BH24 -> 42380 | BM24: =BI24+BL24 -> 157120 | BO24: =AA24 -> 66888 | BP24: =AX24 -> 14876 | BR24: =AC24 -> 4640 | BS24: =AD24 -> 32248 | BT24: =AE24 -> 30000 | BU24: =BF24+BG24+BH24 -> 90232
A25: 新加坡 | B25: 設計 | C25: TRUE | D25: SGD | E25: =IF($B$5>0,IF($U$5=FALSE,0,IF(C25=FALSE,0,200)),0) -> 200 | F25: 0 | G25: =IF($B$5>0,IF($U$5=FALSE,0,IF(C25=FALSE,0,($B$5-1)*200)),0) -> 0 | H25: 0 | I25: =IF($S$5=FALSE,0,SUM(E25:H25)) -> 200 | J25: =I25*$L$6 -> 5080 | K25: SGD | L25: =IF($B$5>0,IF($U$6=FALSE,0,IF(C25=FALSE,0,550)),0) -> 550 | M25: 0 | N25: 0 | O25: =IF($B$5>0,IF($U$6=FALSE,0,IF(C25=FALSE,0,($B$5-1)*450)),0) -> 0 | P25: 0 | Q25: 0 | R25: =IF($S$5=FALSE,0,SUM(L25:Q25)) -> 550 | S25: =R25*$L$6 -> 13970 | T25: =J25+S25 -> 19050 | U25: =IF($B$5>0,IF($U$7=FALSE,0,IF(C25=FALSE,0,30000)),0) -> 30000 | V25: 0 | W25: =IF($B$5>0,IF($U$7=FALSE,0,IF(C25=FALSE,0,IF($B$6/$B$5<=10,0,IF(選項!$K$2=1,1000*($B$6-$B$5*10),2000*($B$6-$B$5*10))))),0) -> 0 | X25: =IF($B$5>0,IF($U$7=FALSE,0,IF(C25=FALSE,0,IF(選項!$K$2=1,10000*($B$5-1),20000*($B$5-1)))),0) -> 0 | Y25: 0 | Z25: =IF($S$5=FALSE,0,SUM(U25:Y25)) -> 30000 | AA25: =T25+Z25 -> 49050 | AB25: =A25 -> 新加坡 | AC25: =J25 -> 5080 | AD25: =S25 -> 13970 | AE25: =Z25 -> 30000 | AG25: =A25 -> 新加坡 | AH25: =IF($B$5>0,IF(C25=FALSE,0,$B$5),0) -> 1 | AI25: SGD | AJ25: =IF($B$5>0,IF($U$5=FALSE,0,IF(C25=FALSE,0,0)),0) -> 0 | AK25: =IF($B$5>0,IF($U$5=FALSE,0,IF(C25=FALSE,0,0)),0) -> 0 | AM25: =IF($S$6=FALSE,0,SUM(AJ25:AL25)) -> 0 | AN25: =AM25*$L$6 -> 0 | AO25: SGD | AP25: =IF($B$5>0,IF($U$6=FALSE,0,IF(C25=FALSE,0,300)),0) -> 300 | AQ25: =IF($B$5>0,IF($U$6=FALSE,0,IF(C25=FALSE,0,200*($B$5-1))),0) -> 0 | AS25: =IF($S$6=FALSE,0,SUM(AP25:AR25)) -> 300 | AT25: =AS25*$L$6 -> 7620 | AU25: =AN25+AT25 -> 7620 | AV25: =IF($B$5>0,IF($U$7=FALSE,0,IF(C25=FALSE,0,IF($B$5>5,2000+2000*(ROUNDDOWN($B$5/5,0)-1),2000))),0) -> 2000 | AW25: =IF($S$6=FALSE,0,SUM(AV25:AV25)) -> 2000 | AX25: =AU25+AW25 -> 9620 | AY25: =A25 -> 新加坡 | AZ25: =AN25 -> 0 | BA25: =AT25 -> 7620 | BB25: =AW25 -> 2000 | BD25: =A25 -> 新加坡 | BE25: =AA25 -> 49050 | BF25: =AA49 -> 0 | BG25: =AX25 -> 9620 | BH25: =AX49 -> 46830 | BI25: =BE25+BF25 -> 49050 | BJ25: =BE25+BG25 -> 58670 | BK25: =BE25+BF25+BG25 -> 58670 | BL25: =BG25+BH25 -> 56450 | BM25: =BI25+BL25 -> 105500 | BO25: =AA25 -> 49050 | BP25: =AX25 -> 9620 | BR25: =AC25 -> 5080 | BS25: =AD25 -> 13970 | BT25: =AE25 -> 30000 | BU25: =BF25+BG25+BH25 -> 56450
A26: 馬來西亞 | B26: 設計 | C26: TRUE | D26: MYR | E26: =IF($B$5>0,IF($U$5=FALSE,0,IF(C26=FALSE,0,500+200*$B$6)),0) -> 2100 | F26: 0 | G26: =IF($B$5>0,IF($U$5=FALSE,0,IF(C26=FALSE,0,500*($B$5-1))),0) -> 0 | H26: 0 | I26: =IF($S$5=FALSE,0,SUM(E26:H26)) -> 2100 | J26: =I26*$L$8 -> 17430 | K26: MYR | L26: =IF($B$5>0,IF($U$6=FALSE,0,IF(C26=FALSE,0,800+150+150)),0) -> 1100 | M26: 0 | N26: 0 | O26: =IF($B$5>0,IF($U$6=FALSE,0,IF(C26=FALSE,0,800*($B$5-1))),0) -> 0 | P26: 0 | Q26: 0 | R26: =IF($S$5=FALSE,0,SUM(L26:Q26)) -> 1100 | S26: =R26*$L$8 -> 9130 | T26: =J26+S26 -> 26560 | U26: =IF($B$5>0,IF($U$7=FALSE,0,IF(C26=FALSE,0,30000)),0) -> 30000 | V26: 0 | W26: =IF($B$5>0,IF($U$7=FALSE,0,IF(C26=FALSE,0,IF($B$6/$B$5<=10,0,IF(選項!$K$2=1,1000*($B$6-$B$5*10),2000*($B$6-$B$5*10))))),0) -> 0 | X26: =IF($B$5>0,IF($U$7=FALSE,0,IF(C26=FALSE,0,IF(選項!$K$2=1,10000*($B$5-1),20000*($B$5-1)))),0) -> 0 | Y26: 0 | Z26: =IF($S$5=FALSE,0,SUM(U26:Y26)) -> 30000 | AA26: =T26+Z26 -> 56560 | AB26: =A26 -> 馬來西亞 | AC26: =J26 -> 17430 | AD26: =S26 -> 9130 | AE26: =Z26 -> 30000 | AG26: =A26 -> 馬來西亞 | AH26: =IF($B$5>0,IF(C26=FALSE,0,$B$5),0) -> 1 | AI26: MYR | AJ26: =IF($B$5>0,IF($U$5=FALSE,0,IF(C26=FALSE,0,0)),0) -> 0 | AK26: =IF($B$5>0,IF($U$5=FALSE,0,IF(C26=FALSE,0,0)),0) -> 0 | AM26: =IF($S$6=FALSE,0,SUM(AJ26:AL26)) -> 0 | AN26: =AM26*$L$8 -> 0 | AO26: MYR | AP26: =IF($B$5>0,IF($U$6=FALSE,0,IF(C26=FALSE,0,500)),0) -> 500 | AQ26: =IF($B$5>0,IF($U$6=FALSE,0,IF(C26=FALSE,0,($B$5-1)*500)),0) -> 0 | AS26: =IF($S$6=FALSE,0,SUM(AP26:AR26)) -> 500 | AT26: =AS26*$L$8 -> 4150 | AU26: =AN26+AT26 -> 4150 | AV26: =IF($B$5>0,IF($U$7=FALSE,0,IF(C26=FALSE,0,$B$5*2000)),0) -> 2000 | AW26: =IF($S$6=FALSE,0,SUM(AV26:AV26)) -> 2000 | AX26: =AU26+AW26 -> 6150 | AY26: =A26 -> 馬來西亞 | AZ26: =AN26 -> 0 | BA26: =AT26 -> 4150 | BB26: =AW26 -> 2000 | BD26: =A26 -> 馬來西亞 | BE26: =AA26 -> 56560 | BF26: =AA50 -> 35790 | BG26: =AX26 -> 6150 | BH26: =AX50 -> 66480 | BI26: =BE26+BF26 -> 92350 | BJ26: =BE26+BG26 -> 62710 | BK26: =BE26+BF26+BG26 -> 98500 | BL26: =BG26+BH26 -> 72630 | BM26: =BI26+BL26 -> 164980 | BO26: =AA26 -> 56560 | BP26: =AX26 -> 6150 | BR26: =AC26 -> 17430 | BS26: =AD26 -> 9130 | BT26: =AE26 -> 30000 | BU26: =BF26+BG26+BH26 -> 108420
A27: 菲律賓 | B27: 設計 | C27: TRUE | D27: USD | E27: =IF($B$5>0,IF($U$5=FALSE,0,IF(C27=FALSE,0,81+22)),0) -> 103 | F27: 0 | G27: =IF($B$5>0,IF($U$5=FALSE,0,IF(C27=FALSE,0,($B$5-1)*41)),0) -> 0 | H27: 0 | I27: =IF($S$5=FALSE,0,SUM(E27:H27)) -> 103 | J27: =I27*$J$5 -> 3316.6 | K27: USD | L27: =IF($B$5>0,IF($U$6=FALSE,0,IF(C27=FALSE,0,250)),0) -> 250 | M27: 0 | N27: 0 | O27: =IF($B$5>0,IF($U$6=FALSE,0,IF(C27=FALSE,0,($B$5-1)*0)),0) -> 0 | P27: 0 | Q27: =IF($B$5>0,IF($U$6=FALSE,0,IF(C27=FALSE,0,10*$B$6)),0) -> 80 | R27: =IF($S$5=FALSE,0,SUM(L27:Q27)) -> 330 | S27: =R27*$J$5 -> 10626 | T27: =J27+S27 -> 13942.6 | U27: =IF($B$5>0,IF($U$7=FALSE,0,IF(C27=FALSE,0,IF(選項!$K$2=1,30000,40000))),0) -> 40000 | V27: 0 | W27: =IF($B$5>0,IF($U$7=FALSE,0,IF(C27=FALSE,0,IF($B$6/$B$5<=10,0,IF(選項!$K$2=1,1000*($B$6-$B$5*10),2000*($B$6-$B$5*10))))),0) -> 0 | X27: =IF($B$5>0,IF($U$7=FALSE,0,IF(C27=FALSE,0,IF(選項!$K$2=1,10000*($B$5-1),25000*($B$5-1)))),0) -> 0 | Y27: 0 | Z27: =IF($S$5=FALSE,0,SUM(U27:Y27)) -> 40000 | AA27: =T27+Z27 -> 53942.6 | AB27: =A27 -> 菲律賓 | AC27: =J27 -> 3316.6 | AD27: =S27 -> 10626 | AE27: =Z27 -> 40000 | AG27: =A27 -> 菲律賓 | AH27: =IF($B$5>0,IF(C27=FALSE,0,1),0) -> 1 | AI27: USD | AJ27: =IF($B$5>0,IF($U$5=FALSE,0,IF(C27=FALSE,0,22+27)),0) -> 49 | AK27: =IF($B$5>0,IF($U$5=FALSE,0,IF(C27=FALSE,0,0)),0) -> 0 | AM27: =IF($S$6=FALSE,0,SUM(AJ27:AL27)) -> 49 | AN27: =AM27*$J$5 -> 1577.8 | AO27: USD | AP27: =IF($B$5>0,IF($U$6=FALSE,0,IF(C27=FALSE,0,100+150)),0) -> 250 | AS27: =IF($S$6=FALSE,0,SUM(AP27:AR27)) -> 250 | AT27: =AS27*$J$5 -> 8050 | AU27: =AN27+AT27 -> 9627.8 | AV27: =IF($B$5>0,IF($U$7=FALSE,0,IF(C27=FALSE,0,2000)),0) -> 2000 | AW27: =IF($S$6=FALSE,0,SUM(AV27:AV27)) -> 2000 | AX27: =AU27+AW27 -> 11627.8 | AY27: =A27 -> 菲律賓 | AZ27: =AN27 -> 1577.8 | BA27: =AT27 -> 8050 | BB27: =AW27 -> 2000 | BD27: =A27 -> 菲律賓 | BE27: =AA27 -> 53942.6 | BF27: =AA51 -> 0 | BG27: =AX27 -> 11627.8 | BH27: =AX51 -> 22558 | BI27: =BE27+BF27 -> 53942.6 | BJ27: =BE27+BG27 -> 65570.4 | BK27: =BE27+BF27+BG27 -> 65570.4 | BL27: =BG27+BH27 -> 34185.8 | BM27: =BI27+BL27 -> 88128.4 | BO27: =AA27 -> 53942.6 | BP27: =AX27 -> 11627.8 | BR27: =AC27 -> 3316.6 | BS27: =AD27 -> 10626 | BT27: =AE27 -> 40000 | BU27: =BF27+BG27+BH27 -> 34185.8
A28: 印尼 | B28: 設計 | C28: TRUE | D28: USD | E28: =IF($B$5>0,IF($U$5=FALSE,0,IF(C28=FALSE,0,80)),0) -> 80 | F28: 0 | G28: =IF($B$5>0,IF($U$5=FALSE,0,IF(C28=FALSE,0,($B$5-1)*80)),0) -> 0 | H28: 0 | I28: =IF($S$5=FALSE,0,SUM(E28:H28)) -> 80 | J28: =I28*$J$5 -> 2576 | K28: USD | L28: =IF($B$5>0,IF($U$6=FALSE,0,IF(C28=FALSE,0,500)),0) -> 500 | M28: 0 | N28: 0 | O28: =IF($B$5>0,IF($U$6=FALSE,0,IF(C28=FALSE,0,($B$5-1)*500)),0) -> 0 | P28: 0 | Q28: =IF($B$5>0,IF($U$6=FALSE,0,IF(C28=FALSE,0,$B$6*10)),0) -> 80 | R28: =IF($S$5=FALSE,0,SUM(L28:Q28)) -> 580 | S28: =R28*$J$5 -> 18676 | T28: =J28+S28 -> 21252 | U28: =IF($B$5>0,IF($U$7=FALSE,0,IF(C28=FALSE,0,30000)),0) -> 30000 | V28: 0 | W28: =IF($B$5>0,IF($U$7=FALSE,0,IF(C28=FALSE,0,IF($B$6/$B$5<=10,0,IF(選項!$K$2=1,1000*($B$6-$B$5*10),2000*($B$6-$B$5*10))))),0) -> 0 | X28: =IF($B$5>0,IF($U$7=FALSE,0,IF(C28=FALSE,0,IF(選項!$K$2=1,10000*($B$5-1),20000*($B$5-1)))),0) -> 0 | Y28: 0 | Z28: =IF($S$5=FALSE,0,SUM(U28:Y28)) -> 30000 | AA28: =T28+Z28 -> 51252 | AB28: =A28 -> 印尼 | AC28: =J28 -> 2576 | AD28: =S28 -> 18676 | AE28: =Z28 -> 30000 | AG28: =A28 -> 印尼 | AH28: =IF($B$5>0,IF(C28=FALSE,0,$B$5),0) -> 1 | AI28: USD | AJ28: 0 | AM28: =IF($S$6=FALSE,0,SUM(AJ28:AL28)) -> 0 | AN28: =AM28*$J$5 -> 0 | AO28: USD | AP28: =IF($B$5>0,IF($U$6=FALSE,0,IF(C28=FALSE,0,150)),0) -> 150 | AQ28: =IF($B$5>0,IF($U$6=FALSE,0,IF(C28=FALSE,0,($B$5-1)*150)),0) -> 0 | AS28: =IF($S$6=FALSE,0,SUM(AP28:AR28)) -> 150 | AT28: =AS28*$J$5 -> 4830 | AU28: =AN28+AT28 -> 4830 | AV28: =IF($B$5>0,IF($U$7=FALSE,0,IF(C28=FALSE,0,$B$5*2000)),0) -> 2000 | AW28: =IF($S$6=FALSE,0,SUM(AV28:AV28)) -> 2000 | AX28: =AU28+AW28 -> 6830 | AY28: =A28 -> 印尼 | AZ28: =AN28 -> 0 | BA28: =AT28 -> 4830 | BB28: =AW28 -> 2000 | BD28: =A28 -> 印尼 | BE28: =AA28 -> 51252 | BF28: =AA52 -> 42710 | BG28: =AX28 -> 6830 | BH28: =AX52 -> 0 | BI28: =BE28+BF28 -> 93962 | BJ28: =BE28+BG28 -> 58082 | BK28: =BE28+BF28+BG28 -> 100792 | BL28: =BG28+BH28 -> 6830 | BM28: =BI28+BL28 -> 100792 | BO28: =AA28 -> 51252 | BP28: =AX28 -> 6830 | BR28: =AC28 -> 2576 | BS28: =AD28 -> 18676 | BT28: =AE28 -> 30000 | BU28: =BF28+BG28+BH28 -> 49540
A29: 越南 | B29: 設計 | C29: TRUE | D29: VND | E29: =IF(選項!$K$2=1,0,IF($B$5>0,IF($U$5=FALSE,0,IF(C29=FALSE,0,150000+120000+60000*($B$6-1))),0)) -> 690000 | F29: =IF(選項!$K$2=1,0,IF($B$5>0,IF($U$5=FALSE,0,IF(C29=FALSE,0,1180000)),0)) -> 1180000 | G29: 0 | H29: 0 | I29: =IF($S$5=FALSE,0,SUM(E29:H29)) -> 1870000 | J29: =I29*$L$7 -> 2618 | K29: USD | L29: =IF(選項!$K$2=1,0,IF($B$5>0,IF($U$6=FALSE,0,IF(C29=FALSE,0,200+40+12*($B$6-1)+125)),0)) -> 449 | M29: 0 | N29: =IF(選項!$K$2=1,0,IF($B$5>0,IF($U$6=FALSE,0,IF(C29=FALSE,0,90)),0)) -> 90 | O29: =IF(選項!$K$2=1,0,IF($B$5>0,IF($U$6=FALSE,0,IF(C29=FALSE,0,(50+50)*($B$5-1))),0)) -> 0 | P29: 0 | Q29: 0 | R29: =IF($S$5=FALSE,0,SUM(L29:Q29)) -> 539 | S29: =R29*$J$5 -> 17355.8 | T29: =J29+S29 -> 19973.8 | U29: =IF(選項!$K$2=1,0,IF($B$5>0,IF($U$7=FALSE,0,IF(C29=FALSE,0,30000)),0)) -> 30000 | V29: 0 | W29: =IF($B$5>0,IF($U$7=FALSE,0,IF(C29=FALSE,0,IF($B$6/$B$5<=10,0,IF(選項!$K$2=1,1000*($B$6-$B$5*10),2000*($B$6-$B$5*10))))),0) -> 0 | X29: =IF(選項!$K$2=1,0,IF($B$5>0,IF($U$7=FALSE,0,IF(C29=FALSE,0,IF(選項!$K$2=1,10000*($B$5-1),20000*($B$5-1)))),0)) -> 0 | Y29: 0 | Z29: =IF($S$5=FALSE,0,SUM(U29:Y29)) -> 30000 | AA29: =T29+Z29 -> 49973.8 | AB29: =A29 -> 越南 | AC29: =J29 -> 2618 | AD29: =S29 -> 17355.8 | AE29: =Z29 -> 30000 | AG29: =A29 -> 越南 | AH29: =IF(選項!$K$2=1,0,IF($B$5>0,IF(C29=FALSE,0,1),0)) -> 1 | AI29: VND | AJ29: =IF(選項!$K$2=1,0,IF($B$5>0,IF($U$5=FALSE,0,IF(C29=FALSE,0,240000+120000)),0)) -> 360000 | AK29: =IF(選項!$K$2=1,0,IF($B$5>0,IF($U$5=FALSE,0,IF(C29=FALSE,0,($B$5-1)*100000)),0)) -> 0 | AL29: =IF(選項!$K$2=1,0,IF($B$5>0,IF($U$5=FALSE,0,IF(C29=FALSE,0,($B$6-1)*60000)),0)) -> 420000 | AM29: =IF($S$6=FALSE,0,SUM(AJ29:AL29)) -> 780000 | AN29: =AM29*$L$7 -> 1092 | AO29: USD | AP29: =IF(選項!$K$2=1,0,IF($B$5>0,IF($U$6=FALSE,0,IF(C29=FALSE,0,90+40)),0)) -> 130 | AQ29: =IF(選項!$K$2=1,0,IF($B$5>0,IF($U$6=FALSE,0,IF(C29=FALSE,0,($B$5-1)*32)),0)) -> 0 | AR29: =IF(選項!$K$2=1,0,IF($B$5>0,IF($U$6=FALSE,0,IF(C29=FALSE,0,($B$6-1)*12)),0)) -> 84 | AS29: =IF($S$6=FALSE,0,SUM(AP29:AR29)) -> 214 | AT29: =AS29*$J$5 -> 6890.8 | AU29: =AN29+AT29 -> 7982.8 | AV29: =IF(選項!$K$2=1,0,IF($B$5>0,IF($U$7=FALSE,0,IF(C29=FALSE,0,2000)),0)) -> 2000 | AW29: =IF($S$6=FALSE,0,SUM(AV29:AV29)) -> 2000 | AX29: =AU29+AW29 -> 9982.8 | AY29: =A29 -> 越南 | AZ29: =AN29 -> 1092 | BA29: =AT29 -> 6890.8 | BB29: =AW29 -> 2000 | BD29: =A29 -> 越南 | BE29: =AA29 -> 49973.8 | BF29: =AA53 -> 60966 | BG29: =AX29 -> 9982.8 | BH29: =AX53 -> 23664 | BI29: =BE29+BF29 -> 110939.8 | BJ29: =BE29+BG29 -> 59956.6 | BK29: =BE29+BF29+BG29 -> 120922.6 | BL29: =BG29+BH29 -> 33646.8 | BM29: =BI29+BL29 -> 144586.6 | BO29: =AA29 -> 49973.8 | BP29: =AX29 -> 9982.8 | BR29: =AC29 -> 2618 | BS29: =AD29 -> 17355.8 | BT29: =AE29 -> 30000 | BU29: =BF29+BG29+BH29 -> 94612.8
A30: 泰國 | B30: 設計 | C30: TRUE | D30: THB | E30: =IF($B$5>0,IF($U$5=FALSE,0,IF(C30=FALSE,0,250)),0) -> 250 | F30: 0 | G30: =IF($B$5>0,IF($U$5=FALSE,0,IF(C30=FALSE,0,($B$5-1)*250)),0) -> 0 | H30: 0 | I30: =IF($S$5=FALSE,0,SUM(E30:H30)) -> 250 | J30: =I30*$J$9 -> 262.5 | K30: THB | L30: =IF($B$5>0,IF($U$6=FALSE,0,IF(C30=FALSE,0,14500)),0) -> 14500 | M30: 0 | N30: 0 | O30: =IF($B$5>0,IF($U$6=FALSE,0,IF(C30=FALSE,0,($B$5-1)*14500)),0) -> 0 | P30: 0 | Q30: =IF($B$5>0,IF($U$6=FALSE,0,IF(C30=FALSE,0,4000*$B$5)),0) -> 4000 | R30: =IF($S$5=FALSE,0,SUM(L30:Q30)) -> 18500 | S30: =R30*$J$9 -> 19425 | T30: =J30+S30 -> 19687.5 | U30: =IF($B$5>0,IF($U$7=FALSE,0,IF(C30=FALSE,0,30000)),0) -> 30000 | V30: 0 | W30: 0 | X30: =IF($B$5>0,IF($U$7=FALSE,0,IF(C30=FALSE,0,IF(選項!$K$2=1,10000*($B$5-1),20000*($B$5-1)))),0) -> 0 | Y30: 0 | Z30: =IF($S$5=FALSE,0,SUM(U30:Y30)) -> 30000 | AA30: =T30+Z30 -> 49687.5 | AB30: =A30 -> 泰國 | AC30: =J30 -> 262.5 | AD30: =S30 -> 19425 | AE30: =Z30 -> 30000 | AG30: =A30 -> 泰國 | AH30: =IF($B$5>0,IF(C30=FALSE,0,$B$5),0) -> 1 | AI30: THB | AJ30: =IF($B$5>0,IF($U$5=FALSE,0,IF(C30=FALSE,0,500)),0) -> 500 | AK30: =IF($B$5>0,IF($U$5=FALSE,0,IF(C30=FALSE,0,500*($B$5-1))),0) -> 0 | AM30: =IF($S$6=FALSE,0,SUM(AJ30:AL30)) -> 500 | AN30: =AM30*$J$9 -> 525 | AO30: THB | AP30: =IF($B$5>0,IF($U$6=FALSE,0,IF(C30=FALSE,0,3500)),0) -> 3500 | AQ30: =IF($B$5>0,IF($U$6=FALSE,0,IF(C30=FALSE,0,($B$5-1)*3500)),0) -> 0 | AS30: =IF($S$6=FALSE,0,SUM(AP30:AR30)) -> 3500 | AT30: =AS30*$J$9 -> 3675 | AU30: =AN30+AT30 -> 4200 | AV30: =IF($B$5>0,IF($U$7=FALSE,0,IF(C30=FALSE,0,$B$5*2000)),0) -> 2000 | AW30: =IF($S$6=FALSE,0,SUM(AV30:AV30)) -> 2000 | AX30: =AU30+AW30 -> 6200 | AY30: =A30 -> 泰國 | AZ30: =AN30 -> 525 | BA30: =AT30 -> 3675 | BB30: =AW30 -> 2000 | BD30: =A30 -> 泰國 | BE30: =AA30 -> 49687.5 | BF30: =AA54 -> 40592.5 | BG30: =AX30 -> 6200 | BH30: =AX54 -> 58822.5 | BI30: =BE30+BF30 -> 90280 | BJ30: =BE30+BG30 -> 55887.5 | BK30: =BE30+BF30+BG30 -> 96480 | BL30: =BG30+BH30 -> 65022.5 | BM30: =BI30+BL30 -> 155302.5 | BO30: =AA30 -> 49687.5 | BP30: =AX30 -> 6200 | BR30: =AC30 -> 262.5 | BS30: =AD30 -> 19425 | BT30: =AE30 -> 30000 | BU30: =BF30+BG30+BH30 -> 105615
A31: 印度 | B31: 設計 | C31: TRUE | D31: USD | E31: =IF($B$5>0,IF($U$5=FALSE,0,IF(C31=FALSE,0,57)),0) -> 57 | F31: 0 | G31: =IF($B$5>0,IF($U$5=FALSE,0,IF(C31=FALSE,0,($B$5-1)*57)),0) -> 0 | H31: 0 | I31: =IF($S$5=FALSE,0,SUM(E31:H31)) -> 57 | J31: =I31*$J$5 -> 1835.4 | K31: USD | L31: =IF($B$5>0,IF($U$6=FALSE,0,IF(C31=FALSE,0,250)),0) -> 250 | M31: 0 | N31: 0 | O31: =IF($B$5>0,IF($U$6=FALSE,0,IF(C31=FALSE,0,($B$5-1)*250)),0) -> 0 | P31: 0 | Q31: 0 | R31: =IF($S$5=FALSE,0,SUM(L31:Q31)) -> 250 | S31: =R31*$J$5 -> 8050 | T31: =J31+S31 -> 9885.4 | U31: =IF($B$5>0,IF($U$7=FALSE,0,IF(C31=FALSE,0,30000)),0) -> 30000 | V31: 0 | W31: =IF($B$5>0,IF($U$7=FALSE,0,IF(C31=FALSE,0,IF($B$6/$B$5<=10,0,IF(選項!$K$2=1,1000*($B$6-$B$5*10),2000*($B$6-$B$5*10))))),0) -> 0 | X31: =IF($B$5>0,IF($U$7=FALSE,0,IF(C31=FALSE,0,IF(選項!$K$2=1,10000*($B$5-1),20000*($B$5-1)))),0) -> 0 | Y31: 0 | Z31: =IF($S$5=FALSE,0,SUM(U31:Y31)) -> 30000 | AA31: =T31+Z31 -> 39885.4 | AB31: =A31 -> 印度 | AC31: =J31 -> 1835.4 | AD31: =S31 -> 8050 | AE31: =Z31 -> 30000 | AG31: =A31 -> 印度 | AH31: =IF($B$5>0,IF(C31=FALSE,0,$B$5),0) -> 1 | AI31: USD | AJ31: 0 | AM31: =IF($S$6=FALSE,0,SUM(AJ31:AL31)) -> 0 | AN31: =AM31*$J$5 -> 0 | AO31: USD | AP31: =IF($B$5>0,IF($U$6=FALSE,0,IF(C31=FALSE,0,100)),0) -> 100 | AQ31: =IF($B$5>0,IF($U$6=FALSE,0,IF(C31=FALSE,0,($B$5-1)*100)),0) -> 0 | AS31: =IF($S$6=FALSE,0,SUM(AP31:AR31)) -> 100 | AT31: =AS31*$J$5 -> 3220 | AU31: =AN31+AT31 -> 3220 | AV31: =IF($B$5>0,IF($U$7=FALSE,0,IF(C31=FALSE,0,$B$5*2000)),0) -> 2000 | AW31: =IF($S$6=FALSE,0,SUM(AV31:AV31)) -> 2000 | AX31: =AU31+AW31 -> 5220 | AY31: =A31 -> 印度 | AZ31: =AN31 -> 0 | BA31: =AT31 -> 3220 | BB31: =AW31 -> 2000 | BD31: =A31 -> 印度 | BE31: =AA31 -> 39885.4 | BF31: =AA55 -> 39490 | BG31: =AX31 -> 5220 | BH31: =AX55 -> 11890.8 | BI31: =BE31+BF31 -> 79375.4 | BJ31: =BE31+BG31 -> 45105.4 | BK31: =BE31+BF31+BG31 -> 84595.4 | BL31: =BG31+BH31 -> 17110.8 | BM31: =BI31+BL31 -> 96486.2 | BO31: =AA31 -> 39885.4 | BP31: =AX31 -> 5220 | BR31: =AC31 -> 1835.4 | BS31: =AD31 -> 8050 | BT31: =AE31 -> 30000 | BU31: =BF31+BG31+BH31 -> 56600.8
I32: 合計 | J32: =SUM(J16:J31) -> 94042.325 | R32: 合計 | S32: =SUM(S16:S31) -> 230257.8 | T32: =SUM(T16:T31) -> 324300.13 | Z32: =SUM(Z16:Z31) -> 489000 | AA32: =SUM(AA16:AA31) -> 813300.12 | AC32: =SUM(AC16:AC31) -> 94042.325 | AD32: =SUM(AD16:AD31) -> 230257.8 | AE32: =SUM(AE16:AE31) -> 489000 | AM32: 合計 | AN32: =SUM(AN16:AN31) -> 31178.05 | AS32: 合計 | AT32: =SUM(AT16:AT31) -> 79718.3 | AU32: =SUM(AU16:AU31) -> 110896.35 | AV32: =SUM(AV16:AV31) -> 30000 | AW32: =SUM(AW16:AW31) -> 30000 | AX32: =SUM(AX16:AX31) -> 140896.35 | AZ32: =SUM(AZ16:AZ31) -> 31178.05 | BA32: =SUM(BA16:BA31) -> 79718.3 | BB32: =SUM(BB16:BB31) -> 30000 | BE32: =SUM(BE16:BE31) -> 813300.12 | BF32: =SUM(BF16:BF31) -> 559227.5 | BG32: =SUM(BG16:BG31) -> 140896.35 | BH32: =SUM(BH16:BH31) -> 1148664.6 | BI32: =SUM(BI16:BI31) -> 1372527.6 | BJ32: =SUM(BJ16:BJ31) -> 954196.47 | BK32: =SUM(BK16:BK31) -> 1513424 | BL32: =SUM(BL16:BL31) -> 1289560.9 | BM32: =SUM(BM16:BM31) -> 2662088.5 | BO32: =SUM(BO16:BO31) -> 813300.12 | BP32: =SUM(BP16:BP31) -> 140896.35 | BR32: =SUM(BR16:BR31) -> 94042.325 | BS32: =SUM(BS16:BS31) -> 230257.8 | BT32: =SUM(BT16:BT31) -> 489000 | BU32: =SUM(BU16:BU31) -> 1848788.4
G33: ↑英國超項費的官費及代理人費的公式有瑕疵，只能估算總設計項數50以內的超項費，超過50項時的公式還沒想到怎麼寫(官方允許的上限只能50項)
A36: 第三部分：辦理各地區「設計專利」的「一次答辯費用」：估多次會牽涉到CPA、再審查等額外官費，太複雜。 | AG36: 第四部分：辦理各地區「設計專利」的「後續年費費用（不包含最基本的第一次年費）」，連動「年費繳納年數」下拉選單
A37: 答辯階段 | AC37: 繪製答辯費圓餅圖專用 | AG37: 後續年費階段（不包含最基本的第一次年費） | AZ37: 繪製後續年費圓餅圖專用
A38: 申請地區 | B38: 專利類型 | C38: 計費 類型 | D38: 官方費用 (R1) | K38: 外國代理人費用 (R2) | T38: 總代墊費用 (R1+R2) | U38: 慧盈服務費細項 | Z38: 慧盈服務費 (R3) (NTD) | AA38: 專利申請費用小計 (R = R1+R2+R3) (NTD) | AB38: 申請地區 | AC38: 官方費用(R1) | AD38: 外國代理人費用(R2) | AE38: 慧盈服務費(R3) | AG38: 申請地區 | AH38: 專利類型 | AI38: 官方費用 (M1) | AO38: 外國代理人費用 (M2) | AU38: 總代墊費用 (M1+M2) | AV38: 慧盈服務費細項 | AW38: 慧盈服務費 (M3) (NTD) | AX38: 專利維護費用小計 (M = M1+M2+M3) (NTD) | AY38: 申請地區 | AZ38: 官方費用(M1) | BA38: 外國代理人費用(M2) | BB38: 慧盈服務費(M3)
D39: 幣別 | E39: 修正費 | F39: 實審費 | G39: 超項費 | H39: 超圖費 | I39: 原幣別金額 | J39: 折合台幣 | K39: 幣別 | L39: OA通知費 | M39: 答辯費 | N39: 公開費 | O39: 實審費 | P39: 超項費 | Q39: 超圖費 | R39: 原幣別金額 | S39: 折合台幣 | T39: 折合台幣 | U39: 答辯費 | V39: 實審費 | W39: 超圖費 | X39: 特殊程序費 | Y39: 特殊程序費 | AI39: 幣別 | AJ39: 後續年費 | AM39: 原幣別金額 | AN39: 折合台幣 | AO39: 幣別 | AP39: 後續年費 | AS39: 原幣別金額 | AT39: 折合台幣 | AU39: 折合台幣 | AV39: 後續年費
A40: 台灣 | B40: 設計 | C40: =C16 -> TRUE | D40: NTD | I40: =IF($S$8=FALSE,0,SUM(E40:H40)) -> 0 | J40: =I40*1 -> 0 | K40: NTD | R40: =IF($S$8=FALSE,0,SUM(L40:Q40)) -> 0 | S40: =R40*1 -> 0 | T40: =J40+S40 -> 0 | U40: =IF($B$5>0,IF($U$7=FALSE,0,IF(C40=FALSE,0,$B$5*20000)),0) -> 20000 | Z40: =IF($S$8=FALSE,0,SUM(U40:Y40)) -> 20000 | AA40: =T40+Z40 -> 20000 | AB40: =A40 -> 台灣 | AC40: =J40 -> 0 | AD40: =S40 -> 0 | AE40: =Z40 -> 20000 | AG40: =A40 -> 台灣 | AH40: 設計 | AI40: NTD | AJ40: =IF($U$5=FALSE,0,IF(C40=FALSE,0,HLOOKUP(選項!$N$2,D年費表!$AH$2:$BG$19,2))) -> 29400 | AM40: =IF($S$7=FALSE,0,SUM(AJ40:AL40)) -> 29400 | AN40: =AM40*1 -> 29400 | AO40: NTD | AP40: =IF($U$6=FALSE,0,IF(C40=FALSE,0,HLOOKUP(選項!$N$2,D年費表!$AH$24:$BG$41,2))) -> 0 | AS40: =IF($S$7=FALSE,0,SUM(AP40:AR40)) -> 0 | AT40: =AS40*1 -> 0 | AU40: =AN40+AT40 -> 29400 | AV40: =IF($U$7=FALSE,0,IF(C40=FALSE,0,HLOOKUP(選項!$N$2,D年費表!$AH$46:$BG$63,2))) -> 36000 | AW40: =IF($S$7=FALSE,0,SUM(AV40:AV40)) -> 36000 | AX40: =AU40+AW40 -> 65400 | AY40: =A40 -> 台灣 | AZ40: =AN40 -> 29400 | BA40: =AT40 -> 0 | BB40: =AW40 -> 36000
A41: 大陸 | B41: 設計 | C41: =C17 -> TRUE | D41: CNY | I41: =IF($S$8=FALSE,0,SUM(E41:H41)) -> 0 | J41: =I41*$L$5 -> 0 | K41: CNY | R41: =IF($S$8=FALSE,0,SUM(L41:Q41)) -> 0 | S41: =R41*$L$5 -> 0 | T41: =J41+S41 -> 0 | Z41: =IF($S$8=FALSE,0,SUM(U41:Y41)) -> 0 | AA41: =T41+Z41 -> 0 | AB41: =A41 -> 大陸 | AC41: =J41 -> 0 | AD41: =S41 -> 0 | AE41: =Z41 -> 0 | AG41: =A41 -> 大陸 | AH41: 設計 | AI41: CNY | AJ41: =IF($U$5=FALSE,0,IF(C41=FALSE,0,HLOOKUP(選項!$N$2,D年費表!$AH$2:$BG$19,3))) -> 25600 | AM41: =IF($S$7=FALSE,0,SUM(AJ41:AL41)) -> 25600 | AN41: =AM41*$L$5 -> 124160 | AO41: CNY | AP41: =IF($U$6=FALSE,0,IF(C41=FALSE,0,HLOOKUP(選項!$N$2,D年費表!$AH$24:$BG$41,3))) -> 2800 | AS41: =IF($S$7=FALSE,0,SUM(AP41:AR41)) -> 2800 | AT41: =AS41*$L$5 -> 13580 | AU41: =AN41+AT41 -> 137740 | AV41: =IF($U$7=FALSE,0,IF(C41=FALSE,0,HLOOKUP(選項!$N$2,D年費表!$AH$46:$BG$63,3))) -> 42000 | AW41: =IF($S$7=FALSE,0,SUM(AV41:AV41)) -> 42000 | AX41: =AU41+AW41 -> 179740 | AY41: =A41 -> 大陸 | AZ41: =AN41 -> 124160 | BA41: =AT41 -> 13580 | BB41: =AW41 -> 42000
A42: 美國 | B42: 設計 | C42: =C18 -> TRUE | D42: USD | I42: =IF($S$8=FALSE,0,SUM(E42:H42)) -> 0 | J42: =I42*$J$5 -> 0 | K42: USD | L42: =IF($B$5>0,IF($U$6=FALSE,0,IF(C42=FALSE,0,135)),0) -> 135 | M42: =IF($B$5>0,IF($U$6=FALSE,0,IF(C42=FALSE,0,1100)),0) -> 1100 | R42: =IF($S$8=FALSE,0,SUM(L42:Q42)) -> 1235 | S42: =R42*$J$5 -> 39767 | T42: =J42+S42 -> 39767 | U42: =IF($B$5>0,IF($U$7=FALSE,0,IF(C42=FALSE,0,25000)),0) -> 25000 | Z42: =IF($S$8=FALSE,0,SUM(U42:Y42)) -> 25000 | AA42: =T42+Z42 -> 64767 | AB42: =A42 -> 美國 | AC42: =J42 -> 0 | AD42: =S42 -> 39767 | AE42: =Z42 -> 25000 | AG42: =A42 -> 美國 | AH42: 設計 | AI42: USD | AJ42: =IF($U$5=FALSE,0,IF(C42=FALSE,0,HLOOKUP(選項!$N$2,D年費表!$AH$2:$BG$19,4))) -> 0 | AM42: =IF($S$7=FALSE,0,SUM(AJ42:AL42)) -> 0 | AN42: =AM42*$J$5 -> 0 | AO42: USD | AP42: =IF($U$6=FALSE,0,IF(C42=FALSE,0,HLOOKUP(選項!$N$2,D年費表!$AH$24:$BG$41,4))) -> 0 | AS42: =IF($S$7=FALSE,0,SUM(AP42:AR42)) -> 0 | AT42: =AS42*$J$5 -> 0 | AU42: =AN42+AT42 -> 0 | AV42: =IF($U$7=FALSE,0,IF(C42=FALSE,0,HLOOKUP(選項!$N$2,D年費表!$AH$46:$BG$63,4))) -> 0 | AW42: =IF($S$7=FALSE,0,SUM(AV42:AV42)) -> 0 | AX42: =AU42+AW42 -> 0 | AY42: =A42 -> 美國 | AZ42: =AN42 -> 0 | BA42: =AT42 -> 0 | BB42: =AW42 -> 0
A43: 歐盟 | B43: 設計 | C43: =C19 -> TRUE | D43: EUR | I43: =IF($S$8=FALSE,0,SUM(E43:H43)) -> 0 | J43: =I43*$J$6 -> 0 | K43: EUR | R43: =IF($S$8=FALSE,0,SUM(L43:Q43)) -> 0 | S43: =R43*$J$6 -> 0 | T43: =J43+S43 -> 0 | Z43: =IF($S$8=FALSE,0,SUM(U43:Y43)) -> 0 | AA43: =T43+Z43 -> 0 | AB43: =A43 -> 歐盟 | AC43: =J43 -> 0 | AD43: =S43 -> 0 | AE43: =Z43 -> 0 | AG43: =A43 -> 歐盟 | AH43: 設計 | AI43: EUR | AJ43: =IF($U$5=FALSE,0,IF(C43=FALSE,0,HLOOKUP(選項!$N$2,D年費表!$AH$2:$BG$19,5))) -> 1500 | AM43: =IF($S$7=FALSE,0,SUM(AJ43:AL43)) -> 1500 | AN43: =AM43*$J$5 -> 48300 | AO43: EUR | AP43: =IF($U$6=FALSE,0,IF(C43=FALSE,0,HLOOKUP(選項!$N$2,D年費表!$AH$24:$BG$41,5))) -> 400 | AS43: =IF($S$7=FALSE,0,SUM(AP43:AR43)) -> 400 | AT43: =AS43*$J$5 -> 12880 | AU43: =AN43+AT43 -> 61180 | AV43: =IF($U$7=FALSE,0,IF(C43=FALSE,0,HLOOKUP(選項!$N$2,D年費表!$AH$46:$BG$63,5))) -> 20000 | AW43: =IF($S$7=FALSE,0,SUM(AV43:AV43)) -> 20000 | AX43: =AU43+AW43 -> 81180 | AY43: =A43 -> 歐盟 | AZ43: =AN43 -> 48300 | BA43: =AT43 -> 12880 | BB43: =AW43 -> 20000
A44: 英國 | B44: 設計 | C44: =C20 -> TRUE | D44: EUR | I44: =IF($S$8=FALSE,0,SUM(E44:H44)) -> 0 | J44: =I44*$J$6 -> 0 | K44: EUR | R44: =IF($S$8=FALSE,0,SUM(L44:Q44)) -> 0 | S44: =R44*$J$6 -> 0 | T44: =J44+S44 -> 0 | Z44: =IF($S$8=FALSE,0,SUM(U44:Y44)) -> 0 | AA44: =T44+Z44 -> 0 | AB44: =A44 -> 英國 | AC44: =J44 -> 0 | AD44: =S44 -> 0 | AE44: =Z44 -> 0 | AG44: =A44 -> 英國 | AH44: 設計 | AI44: EUR | AJ44: =IF($U$5=FALSE,0,IF(C44=FALSE,0,HLOOKUP(選項!$N$2,D年費表!$AH$2:$BG$19,6))) -> 520 | AM44: =IF($S$7=FALSE,0,SUM(AJ44:AL44)) -> 520 | AN44: =AM44*$J$5 -> 16744 | AO44: EUR | AP44: =IF($U$6=FALSE,0,IF(C44=FALSE,0,HLOOKUP(選項!$N$2,D年費表!$AH$24:$BG$41,6))) -> 600 | AS44: =IF($S$7=FALSE,0,SUM(AP44:AR44)) -> 600 | AT44: =AS44*$J$5 -> 19320 | AU44: =AN44+AT44 -> 36064 | AV44: =IF($U$7=FALSE,0,IF(C44=FALSE,0,HLOOKUP(選項!$N$2,D年費表!$AH$46:$BG$63,6))) -> 20000 | AW44: =IF($S$7=FALSE,0,SUM(AV44:AV44)) -> 20000 | AX44: =AU44+AW44 -> 56064 | AY44: =A44 -> 英國 | AZ44: =AN44 -> 16744 | BA44: =AT44 -> 19320 | BB44: =AW44 -> 20000
...

Sheet D年費表
A1: 各年度官費 | D1: 各年官費（領證費會包含「第一次年費」，所以「第一次年費」要填0，以避免重複計算） | AE1: 不同繳納年數之累計官費 | AH1: 繳費年數，領證會含第一次年費，所以年費不能從第1年起算
A2: 申請地區 | B2: 類型 | C2: 幣別 | D2: 1 | E2: 2 | F2: 3 | G2: 4 | H2: 5 | I2: 6 | J2: 7 | K2: 8 | L2: 9 | M2: 10 | N2: 11 | O2: 12 | P2: 13 | Q2: 14 | R2: 15 | S2: 16 | T2: 17 | U2: 18 | V2: 19 | W2: 20 | X2: 21 | Y2: 22 | Z2: 23 | AA2: 24 | AB2: 25 | AC2: 小計 | AE2: 申請地區 | AF2: 類型 | AG2: 幣別 | AH2: 1 | AI2: 2 | AJ2: 3 | AK2: 4 | AL2: 5 | AM2: 6 | AN2: 7 | AO2: 8 | AP2: 9 | AQ2: 10 | AR2: 11 | AS2: 12 | AT2: 13 | AU2: 14 | AV2: 15 | AW2: 16 | AX2: 17 | AY2: 18 | AZ2: 19 | BA2: 20 | BB2: 21 | BC2: 22 | BD2: 23 | BE2: 24 | BF2: 25 | BG2: 最大年限
A3: 台灣 | B3: 設計 | C3: NTD | E3: =IF(設計案成本估算!$B$10="大企業",800,0)*設計案成本估算!$B$5 -> 0 | F3: =IF(設計案成本估算!$B$10="大企業",800,0)*設計案成本估算!$B$5 -> 0 | G3: =IF(設計案成本估算!$B$5>0,IF(設計案成本估算!$B$10="大企業",2000,800)*設計案成本估算!$B$5,0) -> 800 | H3: =IF(設計案成本估算!$B$5>0,IF(設計案成本估算!$B$10="大企業",2000,800)*設計案成本估算!$B$5,0) -> 800 | I3: =IF(設計案成本估算!$B$5>0,IF(設計案成本估算!$B$10="大企業",2000,800)*設計案成本估算!$B$5,0) -> 800 | J3: =IF(設計案成本估算!$B$5>0,IF(設計案成本估算!$B$10="大企業",3000,3000)*設計案成本估算!$B$5,0) -> 3000 | K3: =IF(設計案成本估算!$B$5>0,IF(設計案成本估算!$B$10="大企業",3000,3000)*設計案成本估算!$B$5,0) -> 3000 | L3: =IF(設計案成本估算!$B$5>0,IF(設計案成本估算!$B$10="大企業",3000,3000)*設計案成本估算!$B$5,0) -> 3000 | M3: =IF(設計案成本估算!$B$5>0,IF(設計案成本估算!$B$10="大企業",3000,3000)*設計案成本估算!$B$5,0) -> 3000 | N3: =IF(設計案成本估算!$B$5>0,IF(設計案成本估算!$B$10="大企業",3000,3000)*設計案成本估算!$B$5,0) -> 3000 | O3: =IF(設計案成本估算!$B$5>0,IF(設計案成本估算!$B$10="大企業",3000,3000)*設計案成本估算!$B$5,0) -> 3000 | P3: =IF(設計案成本估算!$B$5>0,IF(設計案成本估算!$B$10="大企業",3000,3000)*設計案成本估算!$B$5,0) -> 3000 | Q3: =IF(設計案成本估算!$B$5>0,IF(設計案成本估算!$B$10="大企業",3000,3000)*設計案成本估算!$B$5,0) -> 3000 | R3: =IF(設計案成本估算!$B$5>0,IF(設計案成本估算!$B$10="大企業",3000,3000)*設計案成本估算!$B$5,0) -> 3000 | AC3: =SUM(D3:AB3) -> 29400 | AE3: 台灣 | AF3: =B3 -> 設計 | AG3: =C3 -> NTD | AH3: =D3 -> 0 | AI3: =AH3+E3 -> 0 | AJ3: =AI3+F3 -> 0 | AK3: =AJ3+G3 -> 800 | AL3: =AK3+H3 -> 1600 | AM3: =AL3+I3 -> 2400 | AN3: =AM3+J3 -> 5400 | AO3: =AN3+K3 -> 8400 | AP3: =AO3+L3 -> 11400 | ... BF3: =BE3+AB3 -> 29400 | BG3: =BF3 -> 29400
A4: 大陸 | B4: 設計 | C4: CNY | E4: =IF(設計案成本估算!$B$5>0,ROUNDUP(設計案成本估算!$B$5/10,0)*600,0) -> 600 | F4: =IF(設計案成本估算!$B$5>0,ROUNDUP(設計案成本估算!$B$5/10,0)*600,0) -> 600 | G4: =IF(設計案成本估算!$B$5>0,ROUNDUP(設計案成本估算!$B$5/10,0)*900,0) -> 900 | H4: =IF(設計案成本估算!$B$5>0,ROUNDUP(設計案成本估算!$B$5/10,0)*900,0) -> 900 | I4: =IF(設計案成本估算!$B$5>0,ROUNDUP(設計案成本估算!$B$5/10,0)*1200,0) -> 1200 | J4: =IF(設計案成本估算!$B$5>0,ROUNDUP(設計案成本估算!$B$5/10,0)*1200,0) -> 1200 | K4: =IF(設計案成本估算!$B$5>0,ROUNDUP(設計案成本估算!$B$5/10,0)*1200,0) -> 1200 | L4: =IF(設計案成本估算!$B$5>0,ROUNDUP(設計案成本估算!$B$5/10,0)*2000,0) -> 2000 | M4: =IF(設計案成本估算!$B$5>0,ROUNDUP(設計案成本估算!$B$5/10,0)*2000,0) -> 2000 | N4: =IF(設計案成本估算!$B$5>0,ROUNDUP(設計案成本估算!$B$5/10,0)*3000,0) -> 3000 | O4: =IF(設計案成本估算!$B$5>0,ROUNDUP(設計案成本估算!$B$5/10,0)*3000,0) -> 3000 | P4: =IF(設計案成本估算!$B$5>0,ROUNDUP(設計案成本估算!$B$5/10,0)*3000,0) -> 3000 | Q4: =IF(設計案成本估算!$B$5>0,ROUNDUP(設計案成本估算!$B$5/10,0)*3000,0) -> 3000 | R4: =IF(設計案成本估算!$B$5>0,ROUNDUP(設計案成本估算!$B$5/10,0)*3000,0) -> 3000 | AC4: =SUM(D4:AB4) -> 25600 | AE4: 大陸 | AF4: =B4 -> 設計 | AG4: =C4 -> CNY | AH4: =D4 -> 0 | AI4: =AH4+E4 -> 600 | AJ4: =AI4+F4 -> 1200 | AK4: =AJ4+G4 -> 2100 | AL4: =AK4+H4 -> 3000 | AM4: =AL4+I4 -> 4200 | AN4: =AM4+J4 -> 5400 | AO4: =AN4+K4 -> 6600 | AP4: =AO4+L4 -> 8600 | ... BF4: =BE4+AB4 -> 25600 | BG4: =BF4 -> 25600
A5: 美國 | B5: 設計 | C5: USD | AC5: =SUM(D5:AB5) -> 0 | AE5: 美國 | AF5: =B5 -> 設計 | AG5: =C5 -> USD | AH5: =D5 -> 0 | AI5: =AH5+E5 -> 0 | AJ5: =AI5+F5 -> 0 | AK5: =AJ5+G5 -> 0 | AL5: =AK5+H5 -> 0 | AM5: =AL5+I5 -> 0 | AN5: =AM5+J5 -> 0 | AO5: =AN5+K5 -> 0 | AP5: =AO5+L5 -> 0 | ... BF5: =BE5+AB5 -> 0 | BG5: =BF5 -> 0
A6: 歐盟 | B6: 設計 | C6: EUR | I6: =IF(設計案成本估算!$B$5>0,150*設計案成本估算!$B$5,0) -> 150 | N6: =IF(設計案成本估算!$B$5>0,250*設計案成本估算!$B$5,0) -> 250 | S6: =IF(設計案成本估算!$B$5>0,400*設計案成本估算!$B$5,0) -> 400 | X6: =IF(設計案成本估算!$B$5>0,700*設計案成本估算!$B$5,0) -> 700 | AC6: =SUM(D6:AB6) -> 1500 | AE6: 歐盟 | AF6: =B6 -> 設計 | AG6: =C6 -> EUR | AH6: =D6 -> 0 | AI6: =AH6+E6 -> 0 | AJ6: =AI6+F6 -> 0 | AK6: =AJ6+G6 -> 0 | AL6: =AK6+H6 -> 0 | AM6: =AL6+I6 -> 150 | AN6: =AM6+J6 -> 150 | AO6: =AN6+K6 -> 150 | AP6: =AO6+L6 -> 150 | ... BF6: =BE6+AB6 -> 1500 | BG6: =BF6 -> 1500
A7: 英國 | B7: 設計 | C7: EUR | I7: =IF(設計案成本估算!$B$5>0,90*設計案成本估算!$B$5,0) -> 90 | N7: =IF(設計案成本估算!$B$5>0,115*設計案成本估算!$B$5,0) -> 115 | S7: =IF(設計案成本估算!$B$5>0,140*設計案成本估算!$B$5,0) -> 140 | X7: =IF(設計案成本估算!$B$5>0,175*設計案成本估算!$B$5,0) -> 175 | AC7: =SUM(D7:AB7) -> 520 | AE7: 英國 | AF7: =B7 -> 設計 | AG7: =C7 -> EUR | AH7: =D7 -> 0 | AI7: =AH7+E7 -> 0 | AJ7: =AI7+F7 -> 0 | AK7: =AJ7+G7 -> 0 | AL7: =AK7+H7 -> 0 | AM7: =AL7+I7 -> 90 | AN7: =AM7+J7 -> 90 | AO7: =AN7+K7 -> 90 | AP7: =AO7+L7 -> 90 | ... BF7: =BE7+AB7 -> 520 | BG7: =BF7 -> 520
A8: 日本 | B8: 設計 | C8: JPY | G8: =IF(設計案成本估算!$B$5>0,16900*設計案成本估算!$B$5,0) -> 16900 | H8: =IF(設計案成本估算!$B$5>0,16900*設計案成本估算!$B$5,0) -> 16900 | I8: =IF(設計案成本估算!$B$5>0,16900*設計案成本估算!$B$5,0) -> 16900 | J8: =IF(設計案成本估算!$B$5>0,16900*設計案成本估算!$B$5,0) -> 16900 | K8: =IF(設計案成本估算!$B$5>0,16900*設計案成本估算!$B$5,0) -> 16900 | L8: =IF(設計案成本估算!$B$5>0,16900*設計案成本估算!$B$5,0) -> 16900 | M8: =IF(設計案成本估算!$B$5>0,16900*設計案成本估算!$B$5,0) -> 16900 | N8: =IF(設計案成本估算!$B$5>0,16900*設計案成本估算!$B$5,0) -> 16900 | ... AB8: =IF(設計案成本估算!$B$5>0,16900*設計案成本估算!$B$5,0) -> 16900 | AC8: =SUM(D8:AB8) -> 371800 | AE8: 日本 | AF8: =B8 -> 設計 | AG8: =C8 -> JPY | AH8: =D8 -> 0 | AI8: =AH8+E8 -> 0 | AJ8: =AI8+F8 -> 0 | AK8: =AJ8+G8 -> 16900 | AL8: =AK8+H8 -> 33800 | AM8: =AL8+I8 -> 50700 | AN8: =AM8+J8 -> 67600 | AO8: =AN8+K8 -> 84500 | AP8: =AO8+L8 -> 101400 | ... BF8: =BE8+AB8 -> 371800 | BG8: =BF8 -> 371800
A9: 韓國 | B9: 設計 | C9: KRW | G9: =IF(設計案成本估算!$B$5>0,35000*設計案成本估算!$B$5,0) -> 35000 | H9: =IF(設計案成本估算!$B$5>0,35000*設計案成本估算!$B$5,0) -> 35000 | I9: =IF(設計案成本估算!$B$5>0,35000*設計案成本估算!$B$5,0) -> 35000 | J9: =IF(設計案成本估算!$B$5>0,70000*設計案成本估算!$B$5,0) -> 70000 | K9: =IF(設計案成本估算!$B$5>0,70000*設計案成本估算!$B$5,0) -> 70000 | L9: =IF(設計案成本估算!$B$5>0,70000*設計案成本估算!$B$5,0) -> 70000 | M9: =IF(設計案成本估算!$B$5>0,140000*設計案成本估算!$B$5,0) -> 140000 | N9: =IF(設計案成本估算!$B$5>0,140000*設計案成本估算!$B$5,0) -> 140000 | O9: =IF(設計案成本估算!$B$5>0,140000*設計案成本估算!$B$5,0) -> 140000 | P9: =IF(設計案成本估算!$B$5>0,210000*設計案成本估算!$B$5,0) -> 210000 | Q9: =IF(設計案成本估算!$B$5>0,210000*設計案成本估算!$B$5,0) -> 210000 | R9: =IF(設計案成本估算!$B$5>0,210000*設計案成本估算!$B$5,0) -> 210000 | S9: =IF(設計案成本估算!$B$5>0,210000*設計案成本估算!$B$5,0) -> 210000 | T9: =IF(設計案成本估算!$B$5>0,210000*設計案成本估算!$B$5,0) -> 210000 | U9: =IF(設計案成本估算!$B$5>0,210000*設計案成本估算!$B$5,0) -> 210000 | V9: =IF(設計案成本估算!$B$5>0,210000*設計案成本估算!$B$5,0) -> 210000 | W9: =IF(設計案成本估算!$B$5>0,210000*設計案成本估算!$B$5,0) -> 210000 | AC9: =SUM(D9:AB9) -> 2415000 | AE9: 韓國 | AF9: =B9 -> 設計 | AG9: =C9 -> KRW | AH9: =D9 -> 0 | AI9: =AH9+E9 -> 0 | AJ9: =AI9+F9 -> 0 | AK9: =AJ9+G9 -> 35000 | AL9: =AK9+H9 -> 70000 | AM9: =AL9+I9 -> 105000 | AN9: =AM9+J9 -> 175000 | AO9: =AN9+K9 -> 245000 | AP9: =AO9+L9 -> 315000 | ... BF9: =BE9+AB9 -> 2415000 | BG9: =BF9 -> 2415000
A10: 加拿大 | B10: 設計 | C10: CAD | I10: =IF(設計案成本估算!$B$5>0,517.82,0) -> 517.82 | AC10: =SUM(D10:AB10) -> 517.82 | AE10: 加拿大 | AF10: =B10 -> 設計 | AG10: =C10 -> CAD | AH10: =D10 -> 0 | AI10: =AH10+E10 -> 0 | AJ10: =AI10+F10 -> 0 | AK10: =AJ10+G10 -> 0 | AL10: =AK10+H10 -> 0 | AM10: =AL10+I10 -> 517.82 | AN10: =AM10+J10 -> 517.82 | AO10: =AN10+K10 -> 517.82 | AP10: =AO10+L10 -> 517.82 | ... BF10: =BE10+AB10 -> 517.82 | BG10: =BF10 -> 517.82
A11: 澳洲 | B11: 設計 | C11: AUD | I11: =IF(設計案成本估算!$B$5>0,400*設計案成本估算!$B$5,0) -> 400 | AC11: =SUM(D11:AB11) -> 400 | AE11: 印度 | AF11: =B11 -> 設計 | AG11: =C11 -> AUD | AH11: =D11 -> 0 | AI11: =AH11+E11 -> 0 | AJ11: =AI11+F11 -> 0 | AK11: =AJ11+G11 -> 0 | AL11: =AK11+H11 -> 0 | AM11: =AL11+I11 -> 400 | AN11: =AM11+J11 -> 400 | AO11: =AN11+K11 -> 400 | AP11: =AO11+L11 -> 400 | ... BF11: =BE11+AB11 -> 400 | BG11: =BF11 -> 400
A12: 新加坡 | B12: 設計 | C12: SGD | I12: =IF(設計案成本估算!$B$5>0,220*設計案成本估算!$B$5,0) -> 220 | N12: =IF(設計案成本估算!$B$5>0,330*設計案成本估算!$B$5,0) -> 330 | AC12: =SUM(D12:AB12) -> 550 | AE12: 新加坡 | AF12: =B12 -> 設計 | AG12: =C12 -> SGD | AH12: =D12 -> 0 | AI12: =AH12+E12 -> 0 | AJ12: =AI12+F12 -> 0 | AK12: =AJ12+G12 -> 0 | AL12: =AK12+H12 -> 0 | AM12: =AL12+I12 -> 220 | AN12: =AM12+J12 -> 220 | AO12: =AN12+K12 -> 220 | AP12: =AO12+L12 -> 220 | ... BF12: =BE12+AB12 -> 550 | BG12: =BF12 -> 550
A13: 馬來西亞 | B13: 設計 | C13: MYR | I13: =IF(設計案成本估算!$B$5>0,800*設計案成本估算!$B$5,0) -> 800 | N13: =IF(設計案成本估算!$B$5>0,800*設計案成本估算!$B$5,0) -> 800 | S13: =IF(設計案成本估算!$B$5>0,800*設計案成本估算!$B$5,0) -> 800 | X13: =IF(設計案成本估算!$B$5>0,800*設計案成本估算!$B$5,0) -> 800 | AC13: =SUM(D13:AB13) -> 3200 | AE13: 馬來西亞 | AF13: =B13 -> 設計 | AG13: =C13 -> MYR | AH13: =D13 -> 0 | AI13: =AH13+E13 -> 0 | AJ13: =AI13+F13 -> 0 | AK13: =AJ13+G13 -> 0 | AL13: =AK13+H13 -> 0 | AM13: =AL13+I13 -> 800 | AN13: =AM13+J13 -> 800 | AO13: =AN13+K13 -> 800 | AP13: =AO13+L13 -> 800 | ... BF13: =BE13+AB13 -> 3200 | BG13: =BF13 -> 3200
