Workbook
Name 是否選項: #REF!
Name 計費類型_一案兩請之新型: 選項!$E$2:$E$3
Name 計費類型_日韓泰: 選項!$D$2:$D$3
Name 計費類型_台中美歐新馬加: 選項!$B$2:$B$5
Name 計費類型_設計: 選項!$F$2:$F$3
Name 計費類型_越: 選項!$C$2:$C$4

Sheet 設計案成本估算
A2: 以下為慧盈提供各地區「設計專利」申請服務之預估費用。紅色部份是您可自行調整的數字/選項，藍色數字是依照收費標準估算的金額。
A4: 案件基本參數 | E4: 階段費用 | F4: 計費項目 | J4: 匯率基礎
A5: 設計項數 | B5: 1 | E5: (視需要勾選) | F5: (正常要全勾) | J5: 美元(USD) | K5: 32.2 | L5: 人民幣(CNY) | M5: 4.85
A6: 總圖數 | B6: 8 | J6: 歐元(EUR) | K6: 37.5 | L6: 新加坡幣(SGD) | M6: 25.4
A7: 設計類型 | J7: 日圓(JPY) | K7: 0.21 | L7: 越南幣(VND) | M7: 0.0014
J8: 韓元(KRW) | K8: 0.026 | L8: 馬來幣(MYR) | M8: 8.3
A9: 申請人規模 | B9: 少於100人 | J9: 泰幣(THB) | K9: 1.05 | L9: 加拿大幣(CAD) | M9: 23.5
A10: 申請人屬性 | B10: 中小企業 | J10: 英鎊(GBP) | K10: 44 | L10: 澳洲幣(AUD) | M10: 23.2
A11: 預估證書數 | B11: =B72 -> 16
A13: 一、委託慧盈辦理「設計專利」從撰稿到提交申請階段的預估「申請費」：
A14: 申請地區 | B14: 專利類型 | C14: 是否申請 (請勾選) | D14: 官方費用 (A1) | G14: 外國代理人費用 (A2) | J14: 總代墊費用 (A1+A2) | K14: 慧盈服務費 (A3) (NTD) | L14: 設計申請費用 小計 (A = A1+A2+A3) | M14: 申請地區
D15: 幣別 | E15: 原幣別金額 | F15: 折合台幣 | G15: 幣別 | H15: 原幣別金額 | I15: 折合台幣 | J15: 折合台幣
A16: 台灣 | B16: 設計 | D16: NTD | E16: =D!I16 -> 2400 | F16: =E16 -> 2400 | G16: NTD | H16: =D!R16 -> 0 | I16: =H16 -> 0 | J16: =F16+I16 -> 2400 | K16: =D!Z16 -> 23000 | L16: =J16+K16 -> 25400 | M16: =A16 -> 台灣
A17: 大陸 | B17: 設計 | D17: CNY | E17: =D!I17 -> 500 | F17: =E17*$M$5 -> 2425 | G17: CNY | H17: =D!R17 -> 950 | I17: =H17*$M$5 -> 4607.5 | J17: =F17+I17 -> 7032.5 | K17: =D!Z17 -> 26000 | L17: =J17+K17 -> 33032.5 | M17: =A17 -> 大陸
A18: 美國 | B18: 設計 | D18: USD | E18: =D!I18 -> 520 | F18: =E18*$K$5 -> 16744 | G18: USD | H18: =D!R18 -> 650 | I18: =H18*$K$5 -> 20930 | J18: =F18+I18 -> 37674 | K18: =D!Z18 -> 40000 | L18: =J18+K18 -> 77674 | M18: =A18 -> 美國
A19: 歐盟 | B19: 設計 | D19: EUR | E19: =D!I19 -> 350 | F19: =E19*$K$6 -> 13125 | G19: EUR | H19: =D!R19 -> 150 | I19: =H19*$K$6 -> 5625 | J19: =F19+I19 -> 18750 | K19: =D!Z19 -> 30000 | L19: =J19+K19 -> 48750 | M19: =A19 -> 歐盟
A20: 英國 | B20: 設計 | D20: GBP | E20: =D!I20 -> 50 | F20: =E20*$K$10 -> 2200 | G20: EUR | H20: =D!R20 -> 160 | I20: =H20*$K$6 -> 6000 | J20: =F20+I20 -> 8200 | K20: =D!Z20 -> 30000 | L20: =J20+K20 -> 38200 | M20: =A20 -> 英國
A21: 日本 | B21: 設計 | D21: JPY | E21: =D!I21 -> 16000 | F21: =E21*$K$7 -> 3360 | G21: JPY | H21: =D!R21 -> 93200 | I21: =H21*$K$7 -> 19572 | J21: =F21+I21 -> 22932 | K21: =D!Z21 -> 30000 | L21: =J21+K21 -> 52932 | M21: =A21 -> 日本
A22: 韓國 | B22: 設計 | D22: KRW | E22: =D!I22 -> 94000 | F22: =E22*$K$8 -> 2444 | G22: USD | H22: =D!R22 -> 700 | I22: =H22*$K$5 -> 22540 | J22: =F22+I22 -> 24984 | K22: =D!Z22 -> 30000 | L22: =J22+K22 -> 54984 | M22: =A22 -> 韓國
A23: 加拿大 | B23: 設計 | D23: CAD | E23: =D!I23 -> 591.95 | F23: =E23*$M$9 -> 13910.825 | G23: CAD | H23: =D!R23 -> 915 | I23: =H23*$M$9 -> 21502.5 | J23: =F23+I23 -> 35413.325 | K23: =D!Z23 -> 30000 | L23: =J23+K23 -> 65413.325 | M23: =A23 -> 加拿大
A24: 澳洲 | B24: 設計 | D24: AUD | E24: =D!I24 -> 200 | F24: =E24*$M$10 -> 4640 | G24: AUD | H24: =D!R24 -> 1390 | I24: =H24*$M$10 -> 32248 | J24: =F24+I24 -> 36888 | K24: =D!Z24 -> 30000 | L24: =J24+K24 -> 66888 | M24: =A24 -> 澳洲 | N24: =IF(D!$C$24=FALSE,"",IF(選項!$K$2=1,"注意：澳洲尚未開放申請各種「圖像設計」之設計專利",""))
A25: 新加坡 | B25: 設計 | D25: SGD | E25: =D!I25 -> 200 | F25: =E25*$M$6 -> 5080 | G25: SGD | H25: =D!R25 -> 550 | I25: =H25*$M$6 -> 13970 | J25: =F25+I25 -> 19050 | K25: =D!Z25 -> 30000 | L25: =J25+K25 -> 49050 | M25: =A25 -> 新加坡
A26: 馬來西亞 | B26: 設計 | D26: MYR | E26: =D!I26 -> 2100 | F26: =E26*$M$8 -> 17430 | G26: MYR | H26: =D!R26 -> 1100 | I26: =H26*$M$8 -> 9130 | J26: =F26+I26 -> 26560 | K26: =D!Z26 -> 30000 | L26: =J26+K26 -> 56560 | M26: =A26 -> 馬來西亞 | N26: =IF(D!$C$26=FALSE,"",IF(選項!$K$2=1,"注意：馬來西亞不允許申請「動態GUI」之設計專利",""))
A27: 菲律賓 | B27: 設計 | D27: USD | E27: =D!I27 -> 103 | F27: =E27*$K$5 -> 3316.6 | G27: USD | H27: =D!R27 -> 330 | I27: =H27*$K$5 -> 10626 | J27: =F27+I27 -> 13942.6 | K27: =D!Z27 -> 40000 | L27: =J27+K27 -> 53942.6 | M27: =A27 -> 菲律賓
A28: 印尼 | B28: 設計 | D28: USD | E28: =D!I28 -> 80 | F28: =E28*$K$5 -> 2576 | G28: USD | H28: =D!R28 -> 580 | I28: =H28*$K$5 -> 18676 | J28: =F28+I28 -> 21252 | K28: =D!Z28 -> 30000 | L28: =J28+K28 -> 51252 | M28: =A28 -> 印尼
A29: 越南 | B29: 設計 | D29: VND | E29: =D!I29 -> 1870000 | F29: =E29*$M$7 -> 2618 | G29: USD | H29: =D!R29 -> 539 | I29: =H29*$K$5 -> 17355.8 | J29: =F29+I29 -> 19973.8 | K29: =D!Z29 -> 30000 | L29: =J29+K29 -> 49973.8 | M29: =A29 -> 越南 | N29: =IF(D!$C$29=FALSE,"",IF(選項!$K$2=1,"注意：越南尚未開放申請各種「圖像設計」之設計專利",""))
A30: 泰國 | B30: 設計 | D30: THB | E30: =D!I30 -> 250 | F30: =E30*$K$9 -> 262.5 | G30: THB | H30: =D!R30 -> 18500 | I30: =H30*$K$9 -> 19425 | J30: =F30+I30 -> 19687.5 | K30: =D!Z30 -> 30000 | L30: =J30+K30 -> 49687.5 | M30: =A30 -> 泰國 | N30: =IF(D!$C$30=FALSE,"",IF(選項!$K$2=1,"注意：泰國不允許申請「動態GUI」之設計專利",""))
A31: 印度 | B31: 設計 | D31: USD | E31: =D!I31 -> 57 | F31: =E31*$K$5 -> 1835.4 | G31: USD | H31: =D!R31 -> 250 | I31: =H31*$K$5 -> 8050 | J31: =F31+I31 -> 9885.4 | K31: =D!Z31 -> 30000 | L31: =J31+K31 -> 39885.4 | M31: =A31 -> 印度
A32: 預估證書數 | B32: =B72 -> 16 | E32: 合計 | F32: =SUM(F16:F31) -> 94367.325 | H32: 合計 | I32: =SUM(I16:I31) -> 230257.8 | J32: =SUM(J16:J31) -> 324625.13 | K32: =SUM(K16:K31) -> 489000 | L32: =SUM(L16:L31) -> 813625.12
A33: 備註：
A34: 1.上表計算結果僅係概估費用，皆假設要同日申請的設計都是近似設計，並「不」包含以下費用：
A35: (1)個別案件之「主張優先權」、「申請優先權證」、「提呈IDS」、「補正文件」等額外程序費用。
A36: (2)各地區官方或代理人因設計圖數過多所收取的「超圖費」。
A37: (3)被官方要求將個別案件中的不同設計分拆成獨立申請案所衍生的額外費用。
A38: (4)個別案件後續可能發生的核駁答辯費用，以及領取專利證書的費用。
A39: 2.「圖像設計」是指設計內容為電腦圖像（ICON）或圖形化使用者介面（Graphical User Interface，GUI）。
A40: 3.設計專利最長保護年限達10年的地區：泰國、印尼、加拿大、澳洲。
A41: 4.設計專利最長保護年限達15年的地區：台灣、大陸、美國、新加坡、菲律賓、越南、印度。
A42: 5.設計專利最長保護年限達20年的地區：韓國。
A43: 6.設計專利最長保護年限達25年的地區：日本、歐盟、英國、馬來西亞。
A44: 7.近似設計「可同案申請」(一案多實施例一證書)的地區：大陸、美國、菲律賓、越南、加拿大。
... A53: 二、委託慧盈辦理設計專利證書領證程序的「領證費」（包含最基本的第一次年費）：
A54: 申請地區 | B54: 核准後之 證書數量 (預估) | C54: 是否申請 (請勾選) | D54: 官方費用 (C1) | G54: 外國代理人費用 (C2) | J54: 總代墊費用 (C1+C2) | K54: 慧盈服務費 (C3) (NTD) | L54: 設計領證費用 小計 (C = C1+C2+C3) | M54: 申請地區
D55: 幣別 | E55: 原幣別金額 | F55: 折合台幣 | G55: 幣別 | H55: 原幣別金額 | I55: 折合台幣 | J55: 折合台幣
A56: 台灣 | B56: =D!AH16 -> 1 | D56: NTD | E56: =D!AM16 -> 1000 | F56: =E56 -> 1000 | G56: NTD | H56: =D!AS16 -> 0 | I56: =H56 -> 0 | J56: =F56+I56 -> 1000 | K56: =D!AW16 -> 0 | L56: =J56+K56 -> 1000 | M56: =A56 -> 台灣
A57: 大陸 | B57: =D!AH17 -> 1 | D57: CNY | E57: =D!AM17 -> 605 | F57: =E57*$M$5 -> 2934.25 | G57: CNY | H57: =D!AS17 -> 200 | I57: =H57*$M$5 -> 970 | J57: =F57+I57 -> 3904.25 | K57: =D!AW17 -> 2000 | L57: =J57+K57 -> 5904.25 | M57: =A57 -> 大陸
A58: 美國 | B58: =D!AH18 -> 1 | D58: USD | E58: =D!AM18 -> 520 | F58: =E58*$K$5 -> 16744 | G58: USD | H58: =D!AS18 -> 370 | I58: =H58*$K$5 -> 11914 | J58: =F58+I58 -> 28658 | K58: =D!AW18 -> 2000 | L58: =J58+K58 -> 30658 | M58: =A58 -> 美國
A59: 歐盟 | B59: =D!AH19 -> 1 | D59: EUR | E59: =D!AM19 -> 0 | F59: =E59*$K$6 -> 0 | G59: EUR | H59: =D!AS19 -> 0 | I59: =H59*$K$6 -> 0 | J59: =F59+I59 -> 0 | K59: =D!AW19 -> 2000 | L59: =J59+K59 -> 2000 | M59: =A59 -> 歐盟
A60: 英國 | B60: =D!AH20 -> 1 | D60: GBP | E60: =D!AM20 -> 0 | F60: =E60*$K$10 -> 0 | G60: EUR | H60: =D!R59 -> 0 | I60: =H60*$K$6 -> 0 | J60: =F60+I60 -> 0 | K60: =D!AW20 -> 2000 | L60: =J60+K60 -> 2000 | M60: =A60 -> 英國
A61: 日本 | B61: =D!AH21 -> 1 | D61: JPY | E61: =D!AM21 -> 25500 | F61: =E61*$K$7 -> 5355 | G61: JPY | H61: =D!AS21 -> 8000 | I61: =H61*$K$7 -> 1680 | J61: =F61+I61 -> 7035 | K61: =D!AW21 -> 2000 | L61: =J61+K61 -> 9035 | M61: =A61 -> 日本
A62: 韓國 | B62: =D!AH22 -> 1 | D62: KRW | E62: =D!AM22 -> 75000 | F62: =E62*$K$8 -> 1950 | G62: USD | H62: =D!AS22 -> 200 | I62: =H62*$K$5 -> 6440 | J62: =F62+I62 -> 8390 | K62: =D!AW22 -> 2000 | L62: =J62+K62 -> 10390 | M62: =A62 -> 韓國
A63: 加拿大 | B63: =D!AH23 -> 1 | D63: CAD | E63: =D!AM23 -> 0 | F63: =E63*$M$9 -> 0 | G63: CAD | H63: =D!AS23 -> 315 | I63: =H63*$M$9 -> 7402.5 | J63: =F63+I63 -> 7402.5 | K63: =D!AW23 -> 2000 | L63: =J63+K63 -> 9402.5 | M63: =A63 -> 加拿大
A64: 澳洲 | B64: =D!AH24 -> 1 | D64: AUD | E64: =D!AM24 -> 0 | F64: =E64*$M$10 -> 0 | G64: AUD | H64: =D!AS24 -> 555 | I64: =H64*$M$10 -> 12876 | J64: =F64+I64 -> 12876 | K64: =D!AW24 -> 2000 | L64: =J64+K64 -> 14876 | M64: =A64 -> 澳洲 | N64: =IF(D!$C$24=FALSE,"",IF(選項!$K$2=1,"注意：澳洲尚未開放申請各種「圖像設計」之設計專利",""))
A65: 新加坡 | B65: =D!AH25 -> 1 | D65: SGD | E65: =D!AM25 -> 0 | F65: =E65*$M$6 -> 0 | G65: SGD | H65: =D!AS25 -> 300 | I65: =H65*$M$6 -> 7620 | J65: =F65+I65 -> 7620 | K65: =D!AW25 -> 2000 | L65: =J65+K65 -> 9620 | M65: =A65 -> 新加坡
A66: 馬來西亞 | B66: =D!AH26 -> 1 | D66: MYR | E66: =D!AM26 -> 0 | F66: =E66*$M$8 -> 0 | G66: MYR | H66: =D!AS26 -> 500 | I66: =H66*$M$8 -> 4150 | J66: =F66+I66 -> 4150 | K66: =D!AW26 -> 2000 | L66: =J66+K66 -> 6150 | M66: =A66 -> 馬來西亞 | N66: =IF(D!$C$26=FALSE,"",IF(選項!$K$2=1,"注意：馬來西亞不允許申請「動態GUI」之設計專利",""))
A67: 菲律賓 | B67: =D!AH27 -> 1 | D67: USD | E67: =D!AM27 -> 49 | F67: =E67*$K$5 -> 1577.8 | G67: USD | H67: =D!AS27 -> 250 | I67: =H67*$K$5 -> 8050 | J67: =F67+I67 -> 9627.8 | K67: =D!AW27 -> 2000 | L67: =J67+K67 -> 11627.8 | M67: =A67 -> 菲律賓
A68: 印尼 | B68: =D!AH28 -> 1 | D68: USD | E68: =D!AM28 -> 0 | F68: =E68*$K$5 -> 0 | G68: USD | H68: =D!AS28 -> 150 | I68: =H68*$K$5 -> 4830 | J68: =F68+I68 -> 4830 | K68: =D!AW28 -> 2000 | L68: =J68+K68 -> 6830 | M68: =A68 -> 印尼
A69: 越南 | B69: =D!AH29 -> 1 | D69: VND | E69: =D!AM29 -> 780000 | F69: =E69*$M$7 -> 1092 | G69: USD | H69: =D!AS29 -> 214 | I69: =H69*$K$5 -> 6890.8 | J69: =F69+I69 -> 7982.8 | K69: =D!AW29 -> 2000 | L69: =J69+K69 -> 9982.8 | M69: =A69 -> 越南 | N69: =IF(D!$C$29=FALSE,"",IF(選項!$K$2=1,"注意：越南尚未開放申請各種「圖像設計」之設計專利",""))
A70: 泰國 | B70: =D!AH30 -> 1 | D70: THB | E70: =D!AM30 -> 500 | F70: =E70*$K$9 -> 525 | G70: THB | H70: =D!AS30 -> 3500 | I70: =H70*$K$9 -> 3675 | J70: =F70+I70 -> 4200 | K70: =D!AW30 -> 2000 | L70: =J70+K70 -> 6200 | M70: =A70 -> 泰國 | N70: =IF(D!$C$30=FALSE,"",IF(選項!$K$2=1,"注意：泰國不允許申請「動態GUI」之設計專利",""))
A71: 印度 | B71: =D!AH31 -> 1 | D71: USD | E71: =D!AM31 -> 0 | F71: =E71*$K$5 -> 0 | G71: USD | H71: =D!AS31 -> 100 | I71: =H71*$K$5 -> 3220 | J71: =F71+I71 -> 3220 | K71: =D!AW31 -> 2000 | L71: =J71+K71 -> 5220 | M71: =A71 -> 印度
A72: 預估證書數 | B72: =SUM(B56:B71) -> 16 | E72: 合計 | F72: =SUM(F56:F71) -> 31178.05 | H72: 合計 | I72: =SUM(I56:I71) -> 79718.3 | J72: =SUM(J56:J71) -> 110896.35 | K72: =SUM(K56:K71) -> 30000 | L72: =SUM(L56:L71) -> 140896.35
A73: 備註：
A74: 1.上表中的預估費用，只包含領證費用及領證時必須一併繳納的最基本的第一次年費，不包含後續年費。
A78: 三、委託慧盈辦理設計申請案「核駁答辯程序」的預估「答辯費用」（只以答辯一次作為估算基礎）：
A79: 申請地區 | B79: 設計 審查制度 | C79: 是否申請 (請勾選) | D79: 官方費用 (R1) | G79: 外國代理人費用 (R2) | J79: 總代墊費用 (R1+R2) | K79: 慧盈服務費 (R3) (NTD) | L79: 設計答辯費用 小計 (R = R1+R2+R3) | M79: 申請地區
D80: 幣別 | E80: 原幣別金額 | F80: 折合台幣 | G80: 幣別 | H80: 原幣別金額 | I80: 折合台幣 | J80: 折合台幣
A81: 台灣 | B81: 實審 | D81: NTD | E81: =D!I40 -> 0 | F81: =E81 -> 0 | G81: NTD | H81: =D!R40 -> 0 | I81: =H81 -> 0 | J81: =F81+I81 -> 0 | K81: =D!Z40 -> 20000 | L81: =J81+K81 -> 20000 | M81: =A81 -> 台灣
A82: 大陸 | B82: 不需實審 | D82: CNY | E82: =D!I41 -> 0 | F82: =E82*$M$5 -> 0 | G82: CNY | H82: =D!R41 -> 0 | I82: =H82*$M$5 -> 0 | J82: =F82+I82 -> 0 | K82: =D!Z41 -> 0 | L82: =J82+K82 -> 0 | M82: =A82 -> 大陸
A83: 美國 | B83: 實審 | D83: USD | E83: =D!I42 -> 0 | F83: =E83*$K$5 -> 0 | G83: USD | H83: =D!R42 -> 1235 | I83: =H83*$K$5 -> 39767 | J83: =F83+I83 -> 39767 | K83: =D!Z42 -> 25000 | L83: =J83+K83 -> 64767 | M83: =A83 -> 美國
A84: 歐盟 | B84: 不需實審 | D84: EUR | E84: =D!I43 -> 0 | F84: =E84*$K$6 -> 0 | G84: EUR | H84: =D!R43 -> 0 | I84: =H84*$K$6 -> 0 | J84: =F84+I84 -> 0 | K84: =D!Z43 -> 0 | L84: =J84+K84 -> 0 | M84: =A84 -> 歐盟
A85: 英國 | B85: 不需實審 | D85: GBP | E85: =D!I44 -> 0 | F85: =E85*$K$10 -> 0 | G85: EUR | H85: =D!R44 -> 0 | I85: =H85*$K$6 -> 0 | J85: =F85+I85 -> 0 | K85: =D!Z44 -> 0 | L85: =J85+K85 -> 0 | M85: =A85 -> 英國
A86: 日本 | B86: 實審 | D86: JPY | E86: =D!I45 -> 0 | F86: =E86*$K$7 -> 0 | G86: JPY | H86: =D!R45 -> 110000 | I86: =H86*$K$7 -> 23100 | J86: =F86+I86 -> 23100 | K86: =D!Z45 -> 25000 | L86: =J86+K86 -> 48100 | M86: =A86 -> 日本
A87: 韓國 | B87: 實審 | D87: KRW | E87: =D!I46 -> 0 | F87: =E87*$K$8 -> 0 | G87: USD | H87: =D!R46 -> 2800 | I87: =H87*$K$5 -> 90160 | J87: =F87+I87 -> 90160 | K87: =D!Z46 -> 25000 | L87: =J87+K87 -> 115160 | M87: =A87 -> 韓國
A88: 加拿大 | B88: 實審 | D88: CAD | E88: =D!I47 -> 0 | F88: =E88*$M$9 -> 0 | G88: CAD | H88: =D!R47 -> 800 | I88: =H88*$M$9 -> 18800 | J88: =F88+I88 -> 18800 | K88: =D!Z47 -> 25000 | L88: =J88+K88 -> 43800 | M88: =A88 -> 加拿大
A89: 澳洲 | B89: 實審 | D89: AUD | E89: =D!I48 -> 0 | F89: =E89*$M$10 -> 0 | G89: AUD | H89: =D!R48 -> 985 | I89: =H89*$M$10 -> 22852 | J89: =F89+I89 -> 22852 | K89: =D!Z48 -> 25000 | L89: =J89+K89 -> 47852 | M89: =A89 -> 澳洲 | N89: =IF(D!$C$24=FALSE,"",IF(選項!$K$2=1,"注意：澳洲尚未開放申請各種「圖像設計」之設計專利",""))
A90: 新加坡 | B90: 不需實審 | D90: SGD | E90: =D!I49 -> 0 | F90: =E90*$M$6 -> 0 | G90: SGD | H90: =D!R49 -> 0 | I90: =H90*$M$6 -> 0 | J90: =F90+I90 -> 0 | K90: =D!Z49 -> 0 | L90: =J90+K90 -> 0 | M90: =A90 -> 新加坡
A91: 馬來西亞 | B91: 實審 | D91: MYR | E91: =D!I50 -> 0 | F91: =E91*$M$8 -> 0 | G91: MYR | H91: =D!R50 -> 1300 | I91: =H91*$M$8 -> 10790 | J91: =F91+I91 -> 10790 | K91: =D!Z50 -> 25000 | L91: =J91+K91 -> 35790 | M91: =A91 -> 馬來西亞 | N91: =IF(D!$C$26=FALSE,"",IF(選項!$K$2=1,"注意：馬來西亞不允許申請「動態GUI」之設計專利",""))
A92: 菲律賓 | B92: 不需實審 | D92: USD | E92: =D!I51 -> 0 | F92: =E92*$K$5 -> 0 | G92: USD | H92: =D!R51 -> 0 | I92: =H92*$K$5 -> 0 | J92: =F92+I92 -> 0 | K92: =D!Z51 -> 0 | L92: =J92+K92 -> 0 | M92: =A92 -> 菲律賓
A93: 印尼 | B93: 實審 | D93: USD | E93: =D!I52 -> 100 | F93: =E93*$K$5 -> 3220 | G93: USD | H93: =D!R52 -> 450 | I93: =H93*$K$5 -> 14490 | J93: =F93+I93 -> 17710 | K93: =D!Z52 -> 25000 | L93: =J93+K93 -> 42710 | M93: =A93 -> 印尼
A94: 越南 | B94: 實審 | D94: VND | E94: =D!I53 -> 160000 | F94: =E94*$M$7 -> 224 | G94: USD | H94: =D!R53 -> 1110 | I94: =H94*$K$5 -> 35742 | J94: =F94+I94 -> 35966 | K94: =D!Z53 -> 25000 | L94: =J94+K94 -> 60966 | M94: =A94 -> 越南 | N94: =IF(D!$C$29=FALSE,"",IF(選項!$K$2=1,"注意：越南尚未開放申請各種「圖像設計」之設計專利",""))
A95: 泰國 | B95: 實審 | D95: THB | E95: =D!I54 -> 50 | F95: =E95*$K$9 -> 52.5 | G95: THB | H95: =D!R54 -> 14800 | I95: =H95*$K$9 -> 15540 | J95: =F95+I95 -> 15592.5 | K95: =D!Z54 -> 25000 | L95: =J95+K95 -> 40592.5 | M95: =A95 -> 泰國 | N95: =IF(D!$C$30=FALSE,"",IF(選項!$K$2=1,"注意：泰國不允許申請「動態GUI」之設計專利",""))
A96: 印度 | B96: 實審 | D96: USD | E96: =D!I55 -> 0 | F96: =E96*$K$5 -> 0 | G96: USD | H96: =D!R55 -> 450 | I96: =H96*$K$5 -> 14490 | J96: =F96+I96 -> 14490 | K96: =D!Z55 -> 25000 | L96: =J96+K96 -> 39490 | M96: =A96 -> 印度
A97: 預估證書數 | B97: =B72 -> 16 | E97: 合計 | F97: =SUM(F81:F96) -> 3496.5 | H97: 合計 | I97: =SUM(I81:I96) -> 285731 | J97: =SUM(J81:J96) -> 289227.5 | K97: =SUM(K81:K96) -> 270000 | L97: =SUM(L81:L96) -> 559227.5
A98: 備註：
A99: 1.上表是針對「要實體審查」的設計案進行「一次」答辯的估算費用，不包含需要答辯超過一次時的費用。
A100: 2.設計案「要實體審查」的地區：台灣、美國、日本、韓國、越南、泰國、馬來西亞、印尼、加拿大。
A101: 3.要實體審查的設計案，其實需要答辯的比例並不高，美國案約50%，台灣案約30%，其他地區更低，所以實際答辯費用通常會比上表估算金額「低」很多。
A102: 4.設計案「不需實體審查」的地區：大陸、歐盟、英國、新加坡、菲律賓。
A103: 5.不需實體審查的設計案，基本上不需要進行答辯，只有在特殊情況下才可能發生需要答辯的狀況，所以在上表中的估算費用都是0。
A106: 四、委託慧盈控管及代繳設計專利的「後續年費」（已扣除最基本的第一次年費）：
A107: 申請地區 | B107: 設計 保護年限 | C107: 是否申請 (請勾選) | D107: 官方費用 (M1) | G107: 外國代理人費用 (M2) | J107: 總代墊費用 (M1+M2) | K107: 慧盈服務費 (M3) (NTD) | L107: 設計後續年費 小計 (M = M1+M2+M3) | M107: 申請地區
D108: 幣別 | E108: 原幣別金額 | F108: 折合台幣 | G108: 幣別 | H108: 原幣別金額 | I108: 折合台幣 | J108: 折合台幣
A109: 台灣 | B109: 15年 | D109: NTD | E109: =D!AM40 -> 29400 | F109: =E109 -> 29400 | G109: NTD | H109: =D!AS40 -> 0 | I109: =H109 -> 0 | J109: =F109+I109 -> 29400 | K109: =D!AW40 -> 36000 | L109: =J109+K109 -> 65400 | M109: =A109 -> 台灣
A110: 大陸 | B110: 15年 | D110: CNY | E110: =D!AM41 -> 25600 | F110: =E110*$M$5 -> 124160 | G110: CNY | H110: =D!AS41 -> 2800 | I110: =H110*$M$5 -> 13580 | J110: =F110+I110 -> 137740 | K110: =D!AW41 -> 42000 | L110: =J110+K110 -> 179740 | M110: =A110 -> 大陸
A111: 美國 | B111: 15年 | D111: USD | E111: =D!AM42 -> 0 | F111: =E111*$K$5 -> 0 | G111: USD | H111: =D!AS42 -> 0 | I111: =H111*$K$5 -> 0 | J111: =F111+I111 -> 0 | K111: =D!AW42 -> 0 | L111: =J111+K111 -> 0 | M111: =A111 -> 美國
A112: 歐盟 | B112: 25年 | D112: EUR | E112: =D!AM43 -> 1500 | F112: =E112*$K$6 -> 56250 | G112: EUR | H112: =D!AS43 -> 400 | I112: =H112*$K$6 -> 15000 | J112: =F112+I112 -> 71250 | K112: =D!AW43 -> 20000 | L112: =J112+K112 -> 91250 | M112: =A112 -> 歐盟
A113: 英國 | B113: 25年 | D113: EUR | E113: =D!AM44 -> 520 | F113: =E113*$K$6 -> 19500 | G113: EUR | H113: =D!AS44 -> 600 | I113: =H113*$K$6 -> 22500 | J113: =F113+I113 -> 42000 | K113: =D!AW44 -> 20000 | L113: =J113+K113 -> 62000 | M113: =A113 -> 英國
A114: 日本 | B114: 25年 | D114: JPY | E114: =D!AM45 -> 371800 | F114: =E114*$K$7 -> 78078 | G114: JPY | H114: =D!AS45 -> 213000 | I114: =H114*$K$7 -> 44730 | J114: =F114+I114 -> 122808 | K114: =D!AW45 -> 110000 | L114: =J114+K114 -> 232808 | M114: =A114 -> 日本
A115: 韓國 | B115: 20年 | D115: KRW | E115: =D!AM46 -> 2415000 | F115: =E115*$K$8 -> 62790 | G115: USD | H115: =D!AS46 -> 3210 | I115: =H115*$K$5 -> 103362 | J115: =F115+I115 -> 166152 | K115: =D!AW46 -> 85000 | L115: =J115+K115 -> 251152 | M115: =A115 -> 韓國
A116: 加拿大 | B116: 10年 | D116: CAD | E116: =D!AM47 -> 517.82 | F116: =E116*$M$9 -> 12168.77 | G116: CAD | H116: =D!AS47 -> 315 | I116: =H116*$M$9 -> 7402.5 | J116: =F116+I116 -> 19571.27 | K116: =D!AW47 -> 5000 | L116: =J116+K116 -> 24571.27 | M116: =A116 -> 加拿大
...

Sheet D
A2: 下表可計算委託慧盈專利辦理各國「設計專利」申請案的預估費用。紅色部份是可自行調整的數字或選單，藍色數字是依照本所收費標準估算的金額。
A3: 要提供估算結果給客戶時，先把藍底色「以外」的欄位都設「隱藏」，只留下藍底色的欄位後再copy到WORD或Email中給客戶。
A4: 案件基本參數 | I4: 匯率基礎 | O4: =ROUNDUP(B5/10,0) -> 1 | R4: 階段費用 | T4: 計費項目
A5: 設計項數 | B5: =設計案成本估算!B5 -> 1 | C5: ←影響部分案件的慧盈服務費、官方費用、或外國代理人費 | I5: 美元(USD) | J5: =設計案成本估算!K5 -> 32.2 | K5: 人民幣(CNY) | L5: =設計案成本估算!M5 -> 4.85 | R5: 申請費 | S5: TRUE | T5: 官方費用 | U5: TRUE
A6: 總圖數 | B6: =設計案成本估算!B6 -> 8 | C6: ←影響部分案件的慧盈服務費、官方費用、或外國代理人費 | I6: 歐元(EUR) | J6: =設計案成本估算!K6 -> 37.5 | K6: 新加坡幣(SGD) | L6: =設計案成本估算!M6 -> 25.4 | R6: 領證費 | S6: TRUE | T6: 外國代理人費 | U6: TRUE
A7: 設計類型 | C7: ←影響TW、JP、TH、ID案的慧盈申請服務費算法 | I7: 日圓(JPY) | J7: =設計案成本估算!K7 -> 0.21 | K7: 越南幣(VND) | L7: =設計案成本估算!M7 -> 0.0014 | R7: 後續年費 | S7: TRUE | T7: 慧盈服務費 | U7: TRUE
I8: 韓元(KRW) | J8: =設計案成本估算!K8 -> 0.026 | K8: 馬來幣(MYR) | L8: =設計案成本估算!M8 -> 8.3 | R8: 答辯費 | S8: TRUE
A9: 申請人規模 | B9: =設計案成本估算!B9 -> 少於100人 | C9: ←影響美國案、加拿大案的官方費用 | I9: 泰幣(THB) | J9: =設計案成本估算!K9 -> 1.05 | K9: 加拿大幣(CAD) | L9: =設計案成本估算!M9 -> 23.5
A10: 申請人屬性 | B10: =設計案成本估算!B10 -> 中小企業 | C10: ←企業需符合經濟部的中小企業認定標準才能算「中小企業」 | I10: 英鎊(GBP) | J10: =設計案成本估算!K10 -> 44 | K10: 澳洲幣(AUD) | L10: =設計案成本估算!M10 -> 23.2
A12: 第一部分：辦理各地區「設計專利」的「申請費用」：從撰稿到提交申請。 | AG12: 第二部分：辦理各地區「設計專利」的「領證費用（包含最基本的第一次年費）」。
A13: 撰稿到提交申請階段 | AC13: 繪製申請費圓餅圖專用 | AG13: 領證階段（包含最基本的第一次年費） | AZ13: 繪製領證費圓餅圖專用 | BD13: 繪製各國（申請+答辯費）與（領證＋年費）長條圖 | BO13: 繪製申請費與年費加總分析圖 | BR13: 繪製申請費與年費加總分析子母圖
A14: 申請地區 | B14: 專利類型 | C14: 是否申請 | D14: 官方費用 (A1) | K14: 外國代理人費用 (A2) | T14: 總代墊費用 (A = A1+A2) | U14: 慧盈服務費細項 | Z14: 慧盈服務費 (A3) (NTD) | AA14: 專利申請費用小計 (A = A1+A2+A3) (NTD) | AB14: 申請地區 | AC14: 官方費用(A1) | AD14: 外國代理人費用(A2) | AE14: 慧盈服務費(A3) | AG14: 申請地區 | AH14: 核准後之 證書數量 (預估) | AI14: 官方費用 (C1) | AO14: 外國代理人費用 (C2) | AU14: 總代墊費用 (C1+C2) | AV14: 慧盈服務費細項 | AW14: 慧盈服務費 (C3) (NTD) | AX14: 專利維護費用小計 (C = C1+C2+C3) (NTD) | AY14: 申請地區 | AZ14: 官方費用(C1) | BA14: 外國代理人費用(C2) | BB14: 慧盈服務費(C3) | BD14: 申請地區 | BE14: 申請費用(A) | BF14: 答辯費用(R) | BG14: 領證費用(C) | BH14: 後續年費(M) | BI14: 申請+答辯費用(A+R) | BJ14: 申請+領證費用(A+C) | BK14: 申請+答辯+領證費(A+R+C) | BL14: 領證+後續年費(C+M) | BM14: 專利布局總成本 (T = A+C+R+M) | BO14: 專利申請費用(A) | BP14: 專利領證費用(C) | BR14: 官方費用(A1) | BS14: 外國代理人費用(A2) | BT14: 慧盈服務費(A3) | BU14: 領證+答辯+後續年費(C+R+M)
D15: 幣別 | E15: 申請費 | F15: 審查費 | G15: (同日)超項費 | H15: 申請權登錄費 | I15: 原幣別金額 | J15: 折合台幣 | K15: 幣別 | L15: 申請費 | M15: 翻譯費 | N15: 審查費 | O15: (同日)超項費 | P15: 申請權登錄費 | Q15: 製圖費 | R15: 原幣別金額 | S15: 折合台幣 | T15: 折合台幣 | U15: 基本費 | V15: 超字費 | W15: 超圖費 | X15: 設計超項費 | Y15: 特殊程序費 | AI15: 幣別 | AJ15: 領證繳年費 | AK15: 超項費 | AL15: 超圖費 | AM15: 原幣別金額 | AN15: 折合台幣 | AO15: 幣別 | AP15: 領證繳年費 | AQ15: 超項費 | AR15: 超圖費 | AS15: 原幣別金額 | AT15: 折合台幣 | AU15: 折合台幣 | AV15: 領證費
A16: 台灣 | B16: 設計 | C16: TRUE | D16: NTD | E16: =IF($B$5>0,IF($U$5=FALSE,0,IF(C16=FALSE,0,2400)),0) -> 2400 | F16: 0 | G16: =IF($B$5>0,IF($U$5=FALSE,0,IF(E16=FALSE,0,($B$5-1)*2400)),0) -> 0 | H16: 0 | I16: =IF($S$5=FALSE,0,SUM(E16:H16)) -> 2400 | J16: =I16*1 -> 2400 | K16: NTD | L16: 0 | M16: 0 | N16: 0 | O16: 0 | P16: 0 | Q16: 0 | R16: =IF($S$5=FALSE,0,SUM(L16:Q16)) -> 0 | S16: =R16*1 -> 0 | T16: =J16+S16 -> 2400 | U16: =IF($B$5>0,IF($U$7=FALSE,0,IF(C16=FALSE,0,23000)),0) -> 23000 | V16: 0 | W16: =IF($B$5>0,IF($U$7=FALSE,0,IF(C16=FALSE,0,IF($B$6/$B$5<=10,0,IF(選項!$K$2=1,1000*($B$6-$B$5*10),2000*($B$6-$B$5*10))))),0) -> 0 | X16: =IF($B$5>0,IF($U$7=FALSE,0,IF(C16=FALSE,0,IF(選項!$K$2=1,10000*($B$5-1),15000*($B$5-1)))),0) -> 0 | Y16: 0 | Z16: =IF($S$5=FALSE,0,SUM(U16:Y16)) -> 23000 | AA16: =T16+Z16 -> 25400 | AB16: =A16 -> 台灣 | AC16: =J16 -> 2400 | AD16: =S16 -> 0 | AE16: =Z16 -> 23000 | AG16: =A16 -> 台灣 | AH16: =IF($B$5>0,IF(C16=FALSE,0,$B$5),0) -> 1 | AI16: NTD | AJ16: =IF($B$5>0,IF($U$5=FALSE,0,IF(C16=FALSE,0,IF($B$10="大企業",(1000+800),1000))),0) -> 1000 | AK16: =IF($B$5>0,IF($U$5=FALSE,0,IF(C16=FALSE,0,IF($B$10="大企業",(1000+800)*($B$5-1),1000*($B$5-1)))),0) -> 0 | AM16: =IF($S$6=FALSE,0,SUM(AJ16:AL16)) -> 1000 | AN16: =AM16*1 -> 1000 | AO16: NTD | AS16: =IF($S$6=FALSE,0,SUM(AP16:AR16)) -> 0 | AT16: =AS16*1 -> 0 | AU16: =AN16+AT16 -> 1000 | AV16: =IF($B$5>0,IF($U$7=FALSE,0,IF(C16=FALSE,0,0)),0) -> 0 | AW16: =IF($S$6=FALSE,0,SUM(AV16:AV16)) -> 0 | AX16: =AU16+AW16 -> 1000 | AY16: =A16 -> 台灣 | AZ16: =AN16 -> 1000 | BA16: =AT16 -> 0 | BB16: =AW16 -> 0 | BD16: =A16 -> 台灣 | BE16: =AA16 -> 25400 | BF16: =AA40 -> 20000 | BG16: =AX16 -> 1000 | BH16: =AX40 -> 65400 | BI16: =BE16+BF16 -> 45400 | BJ16: =BE16+BG16 -> 26400 | BK16: =BE16+BF16+BG16 -> 46400 | BL16: =BG16+BH16 -> 66400 | BM16: =BI16+BL16 -> 111800 | BO16: =AA16 -> 25400 | BP16: =AX16 -> 1000 | BR16: =AC16 -> 2400 | BS16: =AD16 -> 0 | BT16: =AE16 -> 23000 | BU16: =BF16+BG16+BH16 -> 86400
A17: 大陸 | B17: 設計 | C17: TRUE | D17: CNY | E17: =IF($B$5>0,IF($U$5=FALSE,0,IF(C17=FALSE,0,ROUNDUP($B$5/10,0)*500)),0) -> 500 | F17: 0 | G17: 0 | H17: 0 | I17: =IF($S$5=FALSE,0,SUM(E17:H17)) -> 500 | J17: =I17*$L$5 -> 2425 | K17: CNY | L17: =IF($B$5>0,IF($U$6=FALSE,0,IF(C17=FALSE,0,ROUNDUP($B$5/10,0)*950)),0) -> 950 | M17: 0 | N17: 0 | O17: 0 | P17: 0 | Q17: 0 | R17: =IF($S$5=FALSE,0,SUM(L17:Q17)) -> 950 | S17: =R17*$L$5 -> 4607.5 | T17: =J17+S17 -> 7032.5 | U17: =IF($B$5>0,IF($U$7=FALSE,0,IF(C17=FALSE,0,ROUNDUP($B$5/10,0)*26000)),0) -> 26000 | V17: 0 | W17: =IF($B$5>0,IF($U$7=FALSE,0,IF(C17=FALSE,0,IF($B$6/$B$5<=10,0,IF(選項!$K$2=1,1000*($B$6-$B$5*10),2000*($B$6-$B$5*10))))),0) -> 0 | X17: =IF($B$5>0,IF($U$7=FALSE,0,IF(C17=FALSE,0,IF(選項!$K$2=1,10000*($B$5-1),15000*($B$5-1)))),0) -> 0 | Y17: 0 | Z17: =IF($S$5=FALSE,0,SUM(U17:Y17)) -> 26000 | AA17: =T17+Z17 -> 33032.5 | AB17: =A17 -> 大陸 | AC17: =J17 -> 2425 | AD17: =S17 -> 4607.5 | AE17: =Z17 -> 26000 | AG17: =A17 -> 大陸 | AH17: =IF($B$5>0,IF(C17=FALSE,0,ROUNDUP($B$5/10,0)),0) -> 1 | AI17: CNY | AJ17: =IF($B$5>0,IF($U$5=FALSE,0,IF(C17=FALSE,0,ROUNDUP($B$5/10,0)*(5+600))),0) -> 605 | AM17: =IF($S$6=FALSE,0,SUM(AJ17:AL17)) -> 605 | AN17: =AM17*$L$5 -> 2934.25 | AO17: CNY | AP17: =IF($B$5>0,IF($U$6=FALSE,0,IF(C17=FALSE,0,ROUNDUP($B$5/10,0)*200)),0) -> 200 | AS17: =IF($S$6=FALSE,0,SUM(AP17:AR17)) -> 200 | AT17: =AS17*$L$5 -> 970 | AU17: =AN17+AT17 -> 3904.25 | AV17: =IF($B$5>0,IF($U$7=FALSE,0,IF(C17=FALSE,0,2000)),0) -> 2000 | AW17: =IF($S$6=FALSE,0,SUM(AV17:AV17)) -> 2000 | AX17: =AU17+AW17 -> 5904.25 | AY17: =A17 -> 大陸 | AZ17: =AN17 -> 2934.25 | BA17: =AT17 -> 970 | BB17: =AW17 -> 2000 | BD17: =A17 -> 大陸 | BE17: =AA17 -> 33032.5 | BF17: =AA41 -> 0 | BG17: =AX17 -> 5904.25 | BH17: =AX41 -> 179740 | BI17: =BE17+BF17 -> 33032.5 | BJ17: =BE17+BG17 -> 38936.75 | BK17: =BE17+BF17+BG17 -> 38936.75 | BL17: =BG17+BH17 -> 185644.25 | BM17: =BI17+BL17 -> 218676.75 | BO17: =AA17 -> 33032.5 | BP17: =AX17 -> 5904.25 | BR17: =AC17 -> 2425 | BS17: =AD17 -> 4607.5 | BT17: =AE17 -> 26000 | BU17: =BF17+BG17+BH17 -> 185644.25
A18: 美國 | B18: 設計 | C18: TRUE | D18: USD | E18: =IF($B$5>0,IF($U$5=FALSE,0,IF(C18=FALSE,0,IF($B$9="500人以上",1300,520))),0) -> 520 | F18: 0 | G18: 0 | H18: 0 | I18: =IF($S$5=FALSE,0,SUM(E18:H18)) -> 520 | J18: =I18*$J$5 -> 16744 | K18: USD | L18: =IF($B$5>0,IF($U$6=FALSE,0,IF(C18=FALSE,0,400+150)),0) -> 550 | M18: 0 | N18: 0 | O18: 0 | P18: =IF($B$5>0,IF($U$6=FALSE,0,IF(C18=FALSE,0,100)),0) -> 100 | Q18: 0 | R18: =IF($S$5=FALSE,0,SUM(L18:Q18)) -> 650 | S18: =R18*$J$5 -> 20930 | T18: =J18+S18 -> 37674 | U18: =IF($B$5>0,IF($U$7=FALSE,0,IF(C18=FALSE,0,IF(選項!$K$2=1,30000,40000))),0) -> 40000 | V18: 0 | W18: =IF($B$5>0,IF($U$7=FALSE,0,IF(C18=FALSE,0,IF($B$6/$B$5<=10,0,IF(選項!$K$2=1,1000*($B$6-$B$5*10),2000*($B$6-$B$5*10))))),0) -> 0 | X18: =IF($B$5>0,IF($U$7=FALSE,0,IF(C18=FALSE,0,IF(選項!$K$2=1,10000*($B$5-1),25000*($B$5-1)))),0) -> 0 | Y18: 0 | Z18: =IF($S$5=FALSE,0,SUM(U18:Y18)) -> 40000 | AA18: =T18+Z18 -> 77674 | AB18: =A18 -> 美國 | AC18: =J18 -> 16744 | AD18: =S18 -> 20930 | AE18: =Z18 -> 40000 | AG18: =A18 -> 美國 | AH18: =IF($B$5>0,IF(C18=FALSE,0,1),0) -> 1 | AI18: USD | AJ18: =IF($B$5>0,IF($U$5=FALSE,0,IF(C18=FALSE,0,IF($B$9="500人以上",1300,520))),0) -> 520 | AM18: =IF($S$6=FALSE,0,SUM(AJ18:AL18)) -> 520 | AN18: =AM18*$J$5 -> 16744 | AO18: USD | AP18: =IF($B$5>0,IF($U$6=FALSE,0,IF(C18=FALSE,0,370)),0) -> 370 | AS18: =IF($S$6=FALSE,0,SUM(AP18:AR18)) -> 370 | AT18: =AS18*$J$5 -> 11914 | AU18: =AN18+AT18 -> 28658 | AV18: =IF($B$5>0,IF($U$7=FALSE,0,IF(C18=FALSE,0,2000)),0) -> 2000 | AW18: =IF($S$6=FALSE,0,SUM(AV18:AV18)) -> 2000 | AX18: =AU18+AW18 -> 30658 | AY18: =A18 -> 美國 | AZ18: =AN18 -> 16744 | BA18: =AT18 -> 11914 | BB18: =AW18 -> 2000 | BD18: =A18 -> 美國 | BE18: =AA18 -> 77674 | BF18: =AA42 -> 64767 | BG18: =AX18 -> 30658 | BH18: =AX42 -> 0 | BI18: =BE18+BF18 -> 142441 | BJ18: =BE18+BG18 -> 108332 | BK18: =BE18+BF18+BG18 -> 173099 | BL18: =BG18+BH18 -> 30658 | BM18: =BI18+BL18 -> 173099 | BO18: =AA18 -> 77674 | BP18: =AX18 -> 30658 | BR18: =AC18 -> 16744 | BS18: =AD18 -> 20930 | BT18: =AE18 -> 40000 | BU18: =BF18+BG18+BH18 -> 95425
A19: 歐盟 | B19: 設計 | C19: TRUE | D19: EUR | E19: =IF($B$5>0,IF($U$5=FALSE,0,IF(C19=FALSE,0,350)),0) -> 350 | F19: 0 | G19: =IF($B$5>0,IF($U$5=FALSE,0,IF(C19=FALSE,0,($B$5-1)*125)),0) -> 0 | H19: 0 | I19: =IF($S$5=FALSE,0,SUM(E19:H19)) -> 350 | J19: =I19*$J$6 -> 13125 | K19: EUR | L19: =IF($B$5>0,IF($U$6=FALSE,0,IF(C19=FALSE,0,150)),0) -> 150 | M19: 0 | N19: 0 | O19: =IF($B$5>0,IF($U$6=FALSE,0,IF(C19=FALSE,0,($B$5-1)*50)),0) -> 0 | P19: 0 | Q19: 0 | R19: =IF($S$5=FALSE,0,SUM(L19:Q19)) -> 150 | S19: =R19*$J$6 -> 5625 | T19: =J19+S19 -> 18750 | U19: =IF($B$5>0,IF($U$7=FALSE,0,IF(C19=FALSE,0,30000)),0) -> 30000 | V19: 0 | W19: 0 | X19: =IF($B$5>0,IF($U$7=FALSE,0,IF(C19=FALSE,0,IF(選項!$K$2=1,10000*($B$5-1),20000*($B$5-1)))),0) -> 0 | Y19: 0 | Z19: =IF($S$5=FALSE,0,SUM(U19:Y19)) -> 30000 | AA19: =T19+Z19 -> 48750 | AB19: =A19 -> 歐盟 | AC19: =J19 -> 13125 | AD19: =S19 -> 5625 | AE19: =Z19 -> 30000 | AG19: =A19 -> 歐盟 | AH19: =IF($B$5>0,IF(C19=FALSE,0,$B$5),0) -> 1 | AI19: EUR | AJ19: 0 | AK19: 0 | AM19: =IF($S$6=FALSE,0,SUM(AJ19:AL19)) -> 0 | AN19: =AM19*$J$6 -> 0 | AO19: EUR | AP19: =IF($B$5>0,IF($U$6=FALSE,0,IF(C19=FALSE,0,0)),0) -> 0 | AQ19: =IF($B$5>0,IF($U$6=FALSE,0,IF(C19=FALSE,0,IF($B$5>1,($B$5-1)*0,0))),0) -> 0 | AS19: =IF($S$6=FALSE,0,SUM(AP19:AR19)) -> 0 | AT19: =AS19*$J$6 -> 0 | AU19: =AN19+AT19 -> 0 | AV19: =IF($B$5>0,IF($U$7=FALSE,0,IF(C19=FALSE,0,IF($B$5>5,2000+2000*(ROUNDDOWN($B$5/5,0)-1),2000))),0) -> 2000 | AW19: =IF($S$6=FALSE,0,SUM(AV19:AV19)) -> 2000 | AX19: =AU19+AW19 -> 2000 | AY19: =A19 -> 歐盟 | AZ19: =AN19 -> 0 | BA19: =AT19 -> 0 | BB19: =AW19 -> 2000 | BD19: =A19 -> 歐盟 | BE19: =AA19 -> 48750 | BF19: =AA43 -> 0 | BG19: =AX19 -> 2000 | BH19: =AX43 -> 81180 | BI19: =BE19+BF19 -> 48750 | BJ19: =BE19+BG19 -> 50750 | BK19: =BE19+BF19+BG19 -> 50750 | BL19: =BG19+BH19 -> 83180 | BM19: =BI19+BL19 -> 131930 | BO19: =AA19 -> 48750 | BP19: =AX19 -> 2000 | BR19: =AC19 -> 13125 | BS19: =AD19 -> 5625 | BT19: =AE19 -> 30000 | BU19: =BF19+BG19+BH19 -> 83180
A20: 英國 | B20: 設計 | C20: TRUE | D20: GBP | E20: =IF($B$5>0,IF($U$5=FALSE,0,IF(C20=FALSE,0,ROUNDUP($B$5/50,0)*50)),0) -> 50 | F20: 0 | G20: =IF($B$5>0,IF($U$5=FALSE,0,IF(C20=FALSE,0,IF($B$5>40,100,IF($B$5>30,80,IF($B$5>20,60,IF($B$5>10,40,IF($B$5>1,20,0))))))),0) -> 0 | H20: 0 | I20: =IF($S$5=FALSE,0,SUM(E20:H20)) -> 50 | J20: =I20*$J$6 -> 1875 | K20: EUR | L20: =IF($B$5>0,IF($U$6=FALSE,0,IF(C20=FALSE,0,ROUNDUP($B$5/50,0)*160)),0) -> 160 | M20: 0 | N20: 0 | O20: =IF($B$5>0,IF($U$6=FALSE,0,IF(C20=FALSE,0,IF($B$5>40,240,IF($B$5>30,190,IF($B$5>20,140,IF($B$5>10,90,IF($B$5>1,40,0))))))),0) -> 0 | P20: 0 | Q20: 0 | R20: =IF($S$5=FALSE,0,SUM(L20:Q20)) -> 160 | S20: =R20*$J$6 -> 6000 | T20: =J20+S20 -> 7875 | U20: =IF($B$5>0,IF($U$7=FALSE,0,IF(C20=FALSE,0,ROUNDUP($B$5/50,0)*30000)),0) -> 30000 | V20: 0 | W20: =IF($B$5>0,IF($U$7=FALSE,0,IF(C20=FALSE,0,IF($B$6/$B$5<=10,0,IF(選項!$K$2=1,1000*($B$6-$B$5*10),2000*($B$6-$B$5*10))))),0) -> 0 | X20: =IF($B$5>0,IF($U$7=FALSE,0,IF(C20=FALSE,0,IF(選項!$K$2=1,10000*($B$5-1),20000*($B$5-1)))),0) -> 0 | Y20: 0 | Z20: =IF($S$5=FALSE,0,SUM(U20:Y20)) -> 30000 | AA20: =T20+Z20 -> 37875 | AB20: =A20 -> 英國 | AC20: =J20 -> 1875 | AD20: =S20 -> 6000 | AE20: =Z20 -> 30000 | AG20: =A20 -> 英國 | AH20: =IF($B$5>0,IF(C20=FALSE,0,$B$5),0) -> 1 | AI20: EUR | AJ20: 0 | AK20: 0 | AM20: =IF($S$6=FALSE,0,SUM(AJ20:AL20)) -> 0 | AN20: =AM20*$J$6 -> 0 | AO20: EUR | AP20: 0 | AQ20: 0 | AS20: =IF($S$6=FALSE,0,SUM(AP20:AR20)) -> 0 | AT20: =AS20*$J$6 -> 0 | AU20: =AN20+AT20 -> 0 | AV20: =IF($B$5>0,IF($U$7=FALSE,0,IF(C20=FALSE,0,IF($B$5>5,2000+2000*(ROUNDDOWN($B$5/5,0)-1),2000))),0) -> 2000 | AW20: =IF($S$6=FALSE,0,SUM(AV20:AV20)) -> 2000 | AX20: =AU20+AW20 -> 2000 | AY20: =A20 -> 英國 | AZ20: =AN20 -> 0 | BA20: =AT20 -> 0 | BB20: =AW20 -> 2000 | BD20: =A20 -> 英國 | BE20: =AA20 -> 37875 | BF20: =AA44 -> 0 | BG20: =AX20 -> 2000 | BH20: =AX44 -> 56064 | BI20: =BE20+BF20 -> 37875 | BJ20: =BE20+BG20 -> 39875 | BK20: =BE20+BF20+BG20 -> 39875 | BL20: =BG20+BH20 -> 58064 | BM20: =BI20+BL20 -> 95939 | BO20: =AA20 -> 37875 | BP20: =AX20 -> 2000 | BR20: =AC20 -> 1875 | BS20: =AD20 -> 6000 | BT20: =AE20 -> 30000 | BU20: =BF20+BG20+BH20 -> 58064
A21: 日本 | B21: 設計 | C21: TRUE | D21: JPY | E21: =IF($B$5>0,IF($U$5=FALSE,0,IF(C21=FALSE,0,16000)),0) -> 16000 | F21: 0 | G21: =IF($B$5>0,IF($U$5=FALSE,0,IF(C21=FALSE,0,($B$5-1)*16000)),0) -> 0 | H21: 0 | I21: =IF($S$5=FALSE,0,SUM(E21:H21)) -> 16000 | J21: =I21*$J$7 -> 3360 | K21: JPY | L21: =IF($B$5>0,IF($U$6=FALSE,0,IF(C21=FALSE,0,93200)),0) -> 93200 | M21: 0 | N21: 0 | O21: =IF($B$5>0,IF($U$6=FALSE,0,IF(C21=FALSE,0,($B$5-1)*93200)),0) -> 0 | P21: 0 | Q21: 0 | R21: =IF($S$5=FALSE,0,SUM(L21:Q21)) -> 93200 | S21: =R21*$J$7 -> 19572 | T21: =J21+S21 -> 22932 | U21: =IF($B$5>0,IF($U$7=FALSE,0,IF(C21=FALSE,0,30000)),0) -> 30000 | V21: 0 | W21: =IF($B$5>0,IF($U$7=FALSE,0,IF(C21=FALSE,0,IF($B$6/$B$5<=10,0,IF(選項!$K$2=1,1000*($B$6-$B$5*10),2000*($B$6-$B$5*10))))),0) -> 0 | X21: =IF($B$5>0,IF($U$7=FALSE,0,IF(C21=FALSE,0,IF(選項!$K$2=1,10000*($B$5-1),20000*($B$5-1)))),0) -> 0 | Y21: 0 | Z21: =IF($S$5=FALSE,0,SUM(U21:Y21)) -> 30000 | AA21: =T21+Z21 -> 52932 | AB21: =A21 -> 日本 | AC21: =J21 -> 3360 | AD21: =S21 -> 19572 | AE21: =Z21 -> 30000 | AG21: =A21 -> 日本 | AH21: =IF($B$5>0,IF(C21=FALSE,0,$B$5),0) -> 1 | AI21: JPY | AJ21: =IF($B$5>0,IF($U$5=FALSE,0,IF(C21=FALSE,0,25500)),0) -> 25500 | AK21: =IF($B$5>0,IF($U$5=FALSE,0,IF(C21=FALSE,0,(25500)*($B$5-1))),0) -> 0 | AM21: =IF($S$6=FALSE,0,SUM(AJ21:AL21)) -> 25500 | AN21: =AM21*$J$7 -> 5355 | AO21: JPY | AP21: =IF($B$5>0,IF($U$6=FALSE,0,IF(C21=FALSE,0,8000)),0) -> 8000 | AQ21: =IF($B$5>0,IF($U$6=FALSE,0,IF(C21=FALSE,0,(8000)*($B$5-1))),0) -> 0 | AS21: =IF($S$6=FALSE,0,SUM(AP21:AR21)) -> 8000 | AT21: =AS21*$J$7 -> 1680 | AU21: =AN21+AT21 -> 7035 | AV21: =IF($B$5>0,IF($U$7=FALSE,0,IF(C21=FALSE,0,$B$5*2000)),0) -> 2000 | AW21: =IF($S$6=FALSE,0,SUM(AV21:AV21)) -> 2000 | AX21: =AU21+AW21 -> 9035 | AY21: =A21 -> 日本 | AZ21: =AN21 -> 5355 | BA21: =AT21 -> 1680 | BB21: =AW21 -> 2000 | BD21: =A21 -> 日本 | BE21: =AA21 -> 52932 | BF21: =AA45 -> 48100 | BG21: =AX21 -> 9035 | BH21: =AX45 -> 232808 | BI21: =BE21+BF21 -> 101032 | BJ21: =BE21+BG21 -> 61967 | BK21: =BE21+BF21+BG21 -> 110067 | BL21: =BG21+BH21 -> 241843 | BM21: =BI21+BL21 -> 342875 | BO21: =AA21 -> 52932 | BP21: =AX21 -> 9035 | BR21: =AC21 -> 3360 | BS21: =AD21 -> 19572 | BT21: =AE21 -> 30000 | BU21: =BF21+BG21+BH21 -> 289943
A22: 韓國 | B22: 設計 | C22: TRUE | D22: KRW | E22: =IF($B$5>0,IF($U$5=FALSE,0,IF(C22=FALSE,0,94000)),0) -> 94000 | F22: 0 | G22: =IF($B$5>0,IF($U$5=FALSE,0,IF(C22=FALSE,0,($B$5-1)*94000)),0) -> 0 | H22: 0 | I22: =IF($S$5=FALSE,0,SUM(E22:H22)) -> 94000 | J22: =I22*$J$8 -> 2444 | K22: USD | L22: =IF($B$5>0,IF($U$6=FALSE,0,IF(C22=FALSE,0,700)),0) -> 700 | M22: 0 | N22: 0 | O22: =IF($B$5>0,IF($U$6=FALSE,0,IF(C22=FALSE,0,($B$5-1)*700)),0) -> 0 | P22: 0 | Q22: 0 | R22: =IF($S$5=FALSE,0,SUM(L22:Q22)) -> 700 | S22: =R22*$J$5 -> 22540 | T22: =J22+S22 -> 24984 | U22: =IF($B$5>0,IF($U$7=FALSE,0,IF(C22=FALSE,0,30000)),0) -> 30000 | V22: 0 | W22: =IF($B$5>0,IF($U$7=FALSE,0,IF(C22=FALSE,0,IF($B$6/$B$5<=10,0,IF(選項!$K$2=1,1000*($B$6-$B$5*10),2000*($B$6-$B$5*10))))),0) -> 0 | X22: =IF($B$5>0,IF($U$7=FALSE,0,IF(C22=FALSE,0,IF(選項!$K$2=1,10000*($B$5-1),20000*($B$5-1)))),0) -> 0 | Y22: 0 | Z22: =IF($S$5=FALSE,0,SUM(U22:Y22)) -> 30000 | AA22: =T22+Z22 -> 54984 | AB22: =A22 -> 韓國 | AC22: =J22 -> 2444 | AD22: =S22 -> 22540 | AE22: =Z22 -> 30000 | AG22: =A22 -> 韓國 | AH22: =IF($B$5>0,IF(C22=FALSE,0,$B$5),0) -> 1 | AI22: KRW | AJ22: =IF($B$5>0,IF($U$5=FALSE,0,IF(C22=FALSE,0,75000)),0) -> 75000 | AK22: =IF($B$5>0,IF($U$5=FALSE,0,IF(C22=FALSE,0,75000*($B$5-1))),0) -> 0 | AM22: =IF($S$6=FALSE,0,SUM(AJ22:AL22)) -> 75000 | AN22: =AM22*$J$8 -> 1950 | AO22: USD | AP22: =IF($B$5>0,IF($U$6=FALSE,0,IF(C22=FALSE,0,200)),0) -> 200 | AQ22: =IF($B$5>0,IF($U$6=FALSE,0,IF(C22=FALSE,0,200*($B$5-1))),0) -> 0 | AS22: =IF($S$6=FALSE,0,SUM(AP22:AR22)) -> 200 | AT22: =AS22*$J$5 -> 6440 | AU22: =AN22+AT22 -> 8390 | AV22: =IF($B$5>0,IF($U$7=FALSE,0,IF(C22=FALSE,0,$B$5*2000)),0) -> 2000 | AW22: =IF($S$6=FALSE,0,SUM(AV22:AV22)) -> 2000 | AX22: =AU22+AW22 -> 10390 | AY22: =A22 -> 韓國 | AZ22: =AN22 -> 1950 | BA22: =AT22 -> 6440 | BB22: =AW22 -> 2000 | BD22: =A22 -> 韓國 | BE22: =AA22 -> 54984 | BF22: =AA46 -> 115160 | BG22: =AX22 -> 10390 | BH22: =AX46 -> 251152 | BI22: =BE22+BF22 -> 170144 | BJ22: =BE22+BG22 -> 65374 | BK22: =BE22+BF22+BG22 -> 180534 | BL22: =BG22+BH22 -> 261542 | BM22: =BI22+BL22 -> 431686 | BO22: =AA22 -> 54984 | BP22: =AX22 -> 10390 | BR22: =AC22 -> 2444 | BS22: =AD22 -> 22540 | BT22: =AE22 -> 30000 | BU22: =BF22+BG22+BH22 -> 376702
A23: 加拿大 | B23: 設計 | C23: TRUE | D23: CAD | E23: =IF($B$5>0,IF($U$5=FALSE,0,IF(C23=FALSE,0,IF($B$6<10,591.95,591.95+14.62*($B$6-10)))),0) -> 591.95 | F23: 0 | G23: 0 | H23: 0 | I23: =IF($S$5=FALSE,0,SUM(E23:H23)) -> 591.95 | J23: =I23*$L$9 -> 13910.825 | K23: CAD | L23: =IF($B$5>0,IF($U$6=FALSE,0,IF(C23=FALSE,0,915)),0) -> 915 | M23: 0 | N23: 0 | O23: 0 | P23: 0 | Q23: 0 | R23: =IF($S$5=FALSE,0,SUM(L23:Q23)) -> 915 | S23: =R23*$L$9 -> 21502.5 | T23: =J23+S23 -> 35413.325 | U23: =IF($B$5>0,IF($U$7=FALSE,0,IF(C23=FALSE,0,30000)),0) -> 30000 | V23: 0 | W23: =IF($B$5>0,IF($U$7=FALSE,0,IF(C23=FALSE,0,IF($B$6/$B$5<=10,0,IF(選項!$K$2=1,1000*($B$6-$B$5*10),2000*($B$6-$B$5*10))))),0) -> 0 | X23: =IF($B$5>0,IF($U$7=FALSE,0,IF(C23=FALSE,0,IF(選項!$K$2=1,10000*($B$5-1),20000*($B$5-1)))),0) -> 0 | Y23: 0 | Z23: =IF($S$5=FALSE,0,SUM(U23:Y23)) -> 30000 | AA23: =T23+Z23 -> 65413.325 | AB23: =A23 -> 加拿大 | AC23: =J23 -> 13910.825 | AD23: =S23 -> 21502.5 | AE23: =Z23 -> 30000 | AG23: =A23 -> 加拿大 | AH23: =IF($B$5>0,IF(C23=FALSE,0,1),0) -> 1 | AI23: CAD | AJ23: =IF($B$5>0,IF($U$5=FALSE,0,IF(C23=FALSE,0,0)),0) -> 0 | AM23: =IF($S$6=FALSE,0,SUM(AJ23:AL23)) -> 0 | AN23: =AM23*$L$9 -> 0 | AO23: CAD | AP23: =IF($B$5>0,IF($U$6=FALSE,0,IF(C23=FALSE,0,315)),0) -> 315 | AS23: =IF($S$6=FALSE,0,SUM(AP23:AR23)) -> 315 | AT23: =AS23*$L$9 -> 7402.5 | AU23: =AN23+AT23 -> 7402.5 | AV23: =IF($B$5>0,IF($U$7=FALSE,0,IF(C23=FALSE,0,2000)),0) -> 2000 | AW23: =IF($S$6=FALSE,0,SUM(AV23:AV23)) -> 2000 | AX23: =AU23+AW23 -> 9402.5 | AY23: =A23 -> 加拿大 | AZ23: =AN23 -> 0 | BA23: =AT23 -> 7402.5 | BB23: =AW23 -> 2000 | BD23: =A23 -> 加拿大 | BE23: =AA23 -> 65413.325 | BF23: =AA47 -> 43800 | BG23: =AX23 -> 9402.5 | BH23: =AX47 -> 24571.27 | BI23: =BE23+BF23 -> 109213.32 | BJ23: =BE23+BG23 -> 74815.825 | BK23: =BE23+BF23+BG23 -> 118615.82 | BL23: =BG23+BH23 -> 33973.77 | BM23: =BI23+BL23 -> 143187.1 | BO23: =AA23 -> 65413.325 | BP23: =AX23 -> 9402.5 | BR23: =AC23 -> 13910.825 | BS23: =AD23 -> 21502.5 | BT23: =AE23 -> 30000 | BU23: =BF23+BG23+BH23 -> 77773.77
A24: 澳洲 | B24: 設計 | C24: TRUE | D24: AUD | E24: =IF(選項!$K$2=1,0,IF($B$5>0,IF($U$5=FALSE,0,IF(C24=FALSE,0,200)),0)) -> 200 | F24: 0 | G24: =IF(選項!$K$2=1,0,IF($B$5>0,IF($U$5=FALSE,0,IF(C24=FALSE,0,200*($B$5-1))),0)) -> 0 | H24: 0 | I24: =IF($S$5=FALSE,0,SUM(E24:H24)) -> 200 | J24: =I24*$L$10 -> 4640 | K24: AUD | L24: =IF(選項!$K$2=1,0,IF($B$5>0,IF($U$6=FALSE,0,IF(C24=FALSE,0,1390)),0)) -> 1390 | M24: 0 | N24: 0 | O24: =IF(選項!$K$2=1,0,IF($B$5>0,IF($U$6=FALSE,0,IF(C24=FALSE,0,1390*($B$5-1))),0)) -> 0 | P24: 0 | Q24: 0 | R24: =IF($S$5=FALSE,0,SUM(L24:Q24)) -> 1390 | S24: =R24*$L$10 -> 32248 | T24: =J24+S24 -> 36888 | U24: =IF(選項!$K$2=1,0,IF($B$5>0,IF($U$7=FALSE,0,IF(C24=FALSE,0,30000)),0)) -> 30000 | V24: 0 | W24: =IF($B$5>0,IF($U$7=FALSE,0,IF(C24=FALSE,0,IF($B$6/$B$5<=10,0,IF(選項!$K$2=1,1000*($B$6-$B$5*10),2000*($B$6-$B$5*10))))),0) -> 0 | X24: =IF(選項!$K$2=1,0,IF($B$5>0,IF($U$7=FALSE,0,IF(C24=FALSE,0,IF(選項!$K$2=1,10000*($B$5-1),20000*($B$5-1)))),0)) -> 0 | Y24: 0 | Z24: =IF($S$5=FALSE,0,SUM(U24:Y24)) -> 30000 | AA24: =T24+Z24 -> 66888 | AB24: =A24 -> 澳洲 | AC24: =J24 -> 4640 | AD24: =S24 -> 32248 | AE24: =Z24 -> 30000 | AG24: =A24 -> 澳洲 | AH24: =IF($B$5>0,IF(C24=FALSE,0,$B$5),0) -> 1 | AI24: AUD | AJ24: =IF(選項!$K$2=1,0,IF($B$5>0,IF($U$5=FALSE,0,IF(C24=FALSE,0,0)),0)) -> 0 | AK24: =IF(選項!$K$2=1,0,IF($B$5>0,IF($U$5=FALSE,0,IF(C24=FALSE,0,($B$5-1)*0)),0)) -> 0 | AM24: =IF($S$6=FALSE,0,SUM(AJ24:AL24)) -> 0 | AN24: =AM24*$L$10 -> 0 | AO24: AUD | AP24: =IF(選項!$K$2=1,0,IF($B$5>0,IF($U$6=FALSE,0,IF(C24=FALSE,0,555)),0)) -> 555 | AQ24: =IF(選項!$K$2=1,0,IF($B$5>0,IF($U$6=FALSE,0,IF(C24=FALSE,0,555*($B$5-1))),0)) -> 0 | AS24: =IF($S$6=FALSE,0,SUM(AP24:AR24)) -> 555 | AT24: =AS24*$L$10 -> 12876 | AU24: =AN24+AT24 -> 12876 | AV24: =IF(選項!$K$2=1,0,IF($B$5>0,IF($U$7=FALSE,0,IF(C24=FALSE,0,$B$5*2000)),0)) -> 2000 | AW24: =IF($S$6=FALSE,0,SUM(AV24:AV24)) -> 2000 | AX24: =AU24+AW24 -> 14876 | AY24: =A24 -> 澳洲 | AZ24: =AN24 -> 0 | BA24: =AT24 -> 12876 | BB24: =AW24 -> 2000 | BD24: =A24 -> 澳洲 | BE24: =AA24 -> 66888 | BF24: =AA48 -> 47852 | BG24: =AX24 -> 14876 | BH24: =AX48 -> 27504 | BI24: =BE24+BF24 -> 114740 | BJ24: =BE24+BG24 -> 81764 | BK24: =BE24+BF24+BG24 -> 129616 | BL24: =BG24+BH24 -> 42380 | BM24: =BI24+BL24 -> 157120 | BO24: =AA24 -> 66888 | BP24: =AX24 -> 14876 | BR24: =AC24 -> 4640 | BS24: =AD24 -> 32248 | BT24: =AE24 -> 30000 | BU24: =BF24+BG24+BH24 -> 90232
A25: 新加坡 | B25: 設計 | C25: TRUE | D25: SGD | E25: =IF($B$5>0,IF($U$5=FALSE,0,IF(C25=FALSE,0,200)),0) -> 200 | F25: 0 | G25: =IF($B$5>0,IF($U$5=FALSE,0,IF(C25=FALSE,0,($B$5-1)*200)),0) -> 0 | H25: 0 | I25: =IF($S$5=FALSE,0,SUM(E25:H25)) -> 200 | J25: =I25*$L$6 -> 5080 | K25: SGD | L25: =IF($B$5>0,IF($U$6=FALSE,0,IF(C25=FALSE,0,550)),0) -> 550 | M25: 0 | N25: 0 | O25: =IF($B$5>0,IF($U$6=FALSE,0,IF(C25=FALSE,0,($B$5-1)*450)),0) -> 0 | P25: 0 | Q25: 0 | R25: =IF($S$5=FALSE,0,SUM(L25:Q25)) -> 550 | S25: =R25*$L$6 -> 13970 | T25: =J25+S25 -> 19050 | U25: =IF($B$5>0,IF($U$7=FALSE,0,IF(C25=FALSE,0,30000)),0) -> 30000 | V25: 0 | W25: =IF($B$5>0,IF($U$7=FALSE,0,IF(C25=FALSE,0,IF($B$6/$B$5<=10,0,IF(選項!$K$2=1,1000*($B$6-$B$5*10),2000*($B$6-$B$5*10))))),0) -> 0 | X25: =IF($B$5>0,IF($U$7=FALSE,0,IF(C25=FALSE,0,IF(選項!$K$2=1,10000*($B$5-1),20000*($B$5-1)))),0) -> 0 | Y25: 0 | Z25: =IF($S$5=FALSE,0,SUM(U25:Y25)) -> 30000 | AA25: =T25+Z25 -> 49050 | AB25: =A25 -> 新加坡 | AC25: =J25 -> 5080 | AD25: =S25 -> 13970 | AE25: =Z25 -> 30000 | AG25: =A25 -> 新加坡 | AH25: =IF($B$5>0,IF(C25=FALSE,0,$B$5),0) -> 1 | AI25: SGD | AJ25: =IF($B$5>0,IF($U$5=FALSE,0,IF(C25=FALSE,0,0)),0) -> 0 | AK25: =IF($B$5>0,IF($U$5=FALSE,0,IF(C25=FALSE,0,0)),0) -> 0 | AM25: =IF($S$6=FALSE,0,SUM(AJ25:AL25)) -> 0 | AN25: =AM25*$L$6 -> 0 | AO25: SGD | AP25: =IF($B$5>0,IF($U$6=FALSE,0,IF(C25=FALSE,0,300)),0) -> 300 | AQ25: =IF($B$5>0,IF($U$6=FALSE,0,IF(C25=FALSE,0,200*($B$5-1))),0) -> 0 | AS25: =IF($S$6=FALSE,0,SUM(AP25:AR25)) -> 300 | AT25: =AS25*$L$6 -> 7620 | AU25: =AN25+AT25 -> 7620 | AV25: =IF($B$5>0,IF($U$7=FALSE,0,IF(C25=FALSE,0,IF($B$5>5,2000+2000*(ROUNDDOWN($B$5/5,0)-1),2000))),0) -> 2000 | AW25: =IF($S$6=FALSE,0,SUM(AV25:AV25)) -> 2000 | AX25: =AU25+AW25 -> 9620 | AY25: =A25 -> 新加坡 | AZ25: =AN25 -> 0 | BA25: =AT25 -> 7620 | BB25: =AW25 -> 2000 | BD25: =A25 -> 新加坡 | BE25: =AA25 -> 49050 | BF25: =AA49 -> 0 | BG25: =AX25 -> 9620 | BH25: =AX49 -> 46830 | BI25: =BE25+BF25 -> 49050 | BJ25: =BE25+BG25 -> 58670 | BK25: =BE25+BF25+BG25 -> 58670 | BL25: =BG25+BH25 -> 56450 | BM25: =BI25+BL25 -> 105500 | BO25: =AA25 -> 49050 | BP25: =AX25 -> 9620 | BR25: =AC25 -> 5080 | BS25: =AD25 -> 13970 | BT25: =AE25 -> 30000 | BU25: =BF25+BG25+BH25 -> 56450
A26: 馬來西亞 | B26: 設計 | C26: TRUE | D26: MYR | E26: =IF($B$5>0,IF($U$5=FALSE,0,IF(C26=FALSE,0,500+200*$B$6)),0) -> 2100 | F26: 0 | G26: =IF($B$5>0,IF($U$5=FALSE,0,IF(C26=FALSE,0,500*($B$5-1))),0) -> 0 | H26: 0 | I26: =IF($S$5=FALSE,0,SUM(E26:H26)) -> 2100 | J26: =I26*$L$8 -> 17430 | K26: MYR | L26: =IF($B$5>0,IF($U$6=FALSE,0,IF(C26=FALSE,0,800+150+150)),0) -> 1100 | M26: 0 | N26: 0 | O26: =IF($B$5>0,IF($U$6=FALSE,0,IF(C26=FALSE,0,800*($B$5-1))),0) -> 0 | P26: 0 | Q26: 0 | R26: =IF($S$5=FALSE,0,SUM(L26:Q26)) -> 1100 | S26: =R26*$L$8 -> 9130 | T26: =J26+S26 -> 26560 | U26: =IF($B$5>0,IF($U$7=FALSE,0,IF(C26=FALSE,0,30000)),0) -> 30000 | V26: 0 | W26: =IF($B$5>0,IF($U$7=FALSE,0,IF(C26=FALSE,0,IF($B$6/$B$5<=10,0,IF(選項!$K$2=1,1000*($B$6-$B$5*10),2000*($B$6-$B$5*10))))),0) -> 0 | X26: =IF($B$5>0,IF($U$7=FALSE,0,IF(C26=FALSE,0,IF(選項!$K$2=1,10000*($B$5-1),20000*($B$5-1)))),0) -> 0 | Y26: 0 | Z26: =IF($S$5=FALSE,0,SUM(U26:Y26)) -> 30000 | AA26: =T26+Z26 -> 56560 | AB26: =A26 -> 馬來西亞 | AC26: =J26 -> 17430 | AD26: =S26 -> 9130 | AE26: =Z26 -> 30000 | AG26: =A26 -> 馬來西亞 | AH26: =IF($B$5>0,IF(C26=FALSE,0,$B$5),0) -> 1 | AI26: MYR | AJ26: =IF($B$5>0,IF($U$5=FALSE,0,IF(C26=FALSE,0,0)),0) -> 0 | AK26: =IF($B$5>0,IF($U$5=FALSE,0,IF(C26=FALSE,0,0)),0) -> 0 | AM26: =IF($S$6=FALSE,0,SUM(AJ26:AL26)) -> 0 | AN26: =AM26*$L$8 -> 0 | AO26: MYR | AP26: =IF($B$5>0,IF($U$6=FALSE,0,IF(C26=FALSE,0,500)),0) -> 500 | AQ26: =IF($B$5>0,IF($U$6=FALSE,0,IF(C26=FALSE,0,($B$5-1)*500)),0) -> 0 | AS26: =IF($S$6=FALSE,0,SUM(AP26:AR26)) -> 500 | AT26: =AS26*$L$8 -> 4150 | AU26: =AN26+AT26 -> 4150 | AV26: =IF($B$5>0,IF($U$7=FALSE,0,IF(C26=FALSE,0,$B$5*2000)),0) -> 2000 | AW26: =IF($S$6=FALSE,0,SUM(AV26:AV26)) -> 2000 | AX26: =AU26+AW26 -> 6150 | AY26: =A26 -> 馬來西亞 | AZ26: =AN26 -> 0 | BA26: =AT26 -> 4150 | BB26: =AW26 -> 2000 | BD26: =A26 -> 馬來西亞 | BE26: =AA26 -> 56560 | BF26: =AA50 -> 35790 | BG26: =AX26 -> 6150 | BH26: =AX50 -> 66480 | BI26: =BE26+BF26 -> 92350 | BJ26: =BE26+BG26 -> 62710 | BK26: =BE26+BF26+BG26 -> 98500 | BL26: =BG26+BH26 -> 72630 | BM26: =BI26+BL26 -> 164980 | BO26: =AA26 -> 56560 | BP26: =AX26 -> 6150 | BR26: =AC26 -> 17430 | BS26: =AD26 -> 9130 | BT26: =AE26 -> 30000 | BU26: =BF26+BG26+BH26 -> 108420
A27: 菲律賓 | B27: 設計 | C27: TRUE | D27: USD | E27: =IF($B$5>0,IF($U$5=FALSE,0,IF(C27=FALSE,0,81+22)),0) -> 103 | F27: 0 | G27: =IF($B$5>0,IF($U$5=FALSE,0,IF(C27=FALSE,0,($B$5-1)*41)),0) -> 0 | H27: 0 | I27: =IF($S$5=FALSE,0,SUM(E27:H27)) -> 103 | J27: =I27*$J$5 -> 3316.6 | K27: USD | L27: =IF($B$5>0,IF($U$6=FALSE,0,IF(C27=FALSE,0,250)),0) -> 250 | M27: 0 | N27: 0 | O27: =IF($B$5>0,IF($U$6=FALSE,0,IF(C27=FALSE,0,($B$5-1)*0)),0) -> 0 | P27: 0 | Q27: =IF($B$5>0,IF($U$6=FALSE,0,IF(C27=FALSE,0,10*$B$6)),0) -> 80 | R27: =IF($S$5=FALSE,0,SUM(L27:Q27)) -> 330 | S27: =R27*$J$5 -> 10626 | T27: =J27+S27 -> 13942.6 | U27: =IF($B$5>0,IF($U$7=FALSE,0,IF(C27=FALSE,0,IF(選項!$K$2=1,30000,40000))),0) -> 40000 | V27: 0 | W27: =IF($B$5>0,IF($U$7=FALSE,0,IF(C27=FALSE,0,IF($B$6/$B$5<=10,0,IF(選項!$K$2=1,1000*($B$6-$B$5*10),2000*($B$6-$B$5*10))))),0) -> 0 | X27: =IF($B$5>0,IF($U$7=FALSE,0,IF(C27=FALSE,0,IF(選項!$K$2=1,10000*($B$5-1),25000*($B$5-1)))),0) -> 0 | Y27: 0 | Z27: =IF($S$5=FALSE,0,SUM(U27:Y27)) -> 40000 | AA27: =T27+Z27 -> 53942.6 | AB27: =A27 -> 菲律賓 | AC27: =J27 -> 3316.6 | AD27: =S27 -> 10626 | AE27: =Z27 -> 40000 | AG27: =A27 -> 菲律賓 | AH27: =IF($B$5>0,IF(C27=FALSE,0,1),0) -> 1 | AI27: USD | AJ27: =IF($B$5>0,IF($U$5=FALSE,0,IF(C27=FALSE,0,22+27)),0) -> 49 | AK27: =IF($B$5>0,IF($U$5=FALSE,0,IF(C27=FALSE,0,0)),0) -> 0 | AM27: =IF($S$6=FALSE,0,SUM(AJ27:AL27)) -> 49 | AN27: =AM27*$J$5 -> 1577.8 | AO27: USD | AP27: =IF($B$5>0,IF($U$6=FALSE,0,IF(C27=FALSE,0,100+150)),0) -> 250 | AS27: =IF($S$6=FALSE,0,SUM(AP27:AR27)) -> 250 | AT27: =AS27*$J$5 -> 8050 | AU27: =AN27+AT27 -> 9627.8 | AV27: =IF($B$5>0,IF($U$7=FALSE,0,IF(C27=FALSE,0,2000)),0) -> 2000 | AW27: =IF($S$6=FALSE,0,SUM(AV27:AV27)) -> 2000 | AX27: =AU27+AW27 -> 11627.8 | AY27: =A27 -> 菲律賓 | AZ27: =AN27 -> 1577.8 | BA27: =AT27 -> 8050 | BB27: =AW27 -> 2000 | BD27: =A27 -> 菲律賓 | BE27: =AA27 -> 53942.6 | BF27: =AA51 -> 0 | BG27: =AX27 -> 11627.8 | BH27: =AX51 -> 22558 | BI27: =BE27+BF27 -> 53942.6 | BJ27: =BE27+BG27 -> 65570.4 | BK27: =BE27+BF27+BG27 -> 65570.4 | BL27: =BG27+BH27 -> 34185.8 | BM27: =BI27+BL27 -> 88128.4 | BO27: =AA27 -> 53942.6 | BP27: =AX27 -> 11627.8 | BR27: =AC27 -> 3316.6 | BS27: =AD27 -> 10626 | BT27: =AE27 -> 40000 | BU27: =BF27+BG27+BH27 -> 34185.8
A28: 印尼 | B28: 設計 | C28: TRUE | D28: USD | E28: =IF($B$5>0,IF($U$5=FALSE,0,IF(C28=FALSE,0,80)),0) -> 80 | F28: 0 | G28: =IF($B$5>0,IF($U$5=FALSE,0,IF(C28=FALSE,0,($B$5-1)*80)),0) -> 0 | H28: 0 | I28: =IF($S$5=FALSE,0,SUM(E28:H28)) -> 80 | J28: =I28*$J$5 -> 2576 | K28: USD | L28: =IF($B$5>0,IF($U$6=FALSE,0,IF(C28=FALSE,0,500)),0) -> 500 | M28: 0 | N28: 0 | O28: =IF($B$5>0,IF($U$6=FALSE,0,IF(C28=FALSE,0,($B$5-1)*500)),0) -> 0 | P28: 0 | Q28: =IF($B$5>0,IF($U$6=FALSE,0,IF(C28=FALSE,0,$B$6*10)),0) -> 80 | R28: =IF($S$5=FALSE,0,SUM(L28:Q28)) -> 580 | S28: =R28*$J$5 -> 18676 | T28: =J28+S28 -> 21252 | U28: =IF($B$5>0,IF($U$7=FALSE,0,IF(C28=FALSE,0,30000)),0) -> 30000 | V28: 0 | W28: =IF($B$5>0,IF($U$7=FALSE,0,IF(C28=FALSE,0,IF($B$6/$B$5<=10,0,IF(選項!$K$2=1,1000*($B$6-$B$5*10),2000*($B$6-$B$5*10))))),0) -> 0 | X28: =IF($B$5>0,IF($U$7=FALSE,0,IF(C28=FALSE,0,IF(選項!$K$2=1,10000*($B$5-1),20000*($B$5-1)))),0) -> 0 | Y28: 0 | Z28: =IF($S$5=FALSE,0,SUM(U28:Y28)) -> 30000 | AA28: =T28+Z28 -> 51252 | AB28: =A28 -> 印尼 | AC28: =J28 -> 2576 | AD28: =S28 -> 18676 | AE28: =Z28 -> 30000 | AG28: =A28 -> 印尼 | AH28: =IF($B$5>0,IF(C28=FALSE,0,$B$5),0) -> 1 | AI28: USD | AJ28: 0 | AM28: =IF($S$6=FALSE,0,SUM(AJ28:AL28)) -> 0 | AN28: =AM28*$J$5 -> 0 | AO28: USD | AP28: =IF($B$5>0,IF($U$6=FALSE,0,IF(C28=FALSE,0,150)),0) -> 150 | AQ28: =IF($B$5>0,IF($U$6=FALSE,0,IF(C28=FALSE,0,($B$5-1)*150)),0) -> 0 | AS28: =IF($S$6=FALSE,0,SUM(AP28:AR28)) -> 150 | AT28: =AS28*$J$5 -> 4830 | AU28: =AN28+AT28 -> 4830 | AV28: =IF($B$5>0,IF($U$7=FALSE,0,IF(C28=FALSE,0,$B$5*2000)),0) -> 2000 | AW28: =IF($S$6=FALSE,0,SUM(AV28:AV28)) -> 2000 | AX28: =AU28+AW28 -> 6830 | AY28: =A28 -> 印尼 | AZ28: =AN28 -> 0 | BA28: =AT28 -> 4830 | BB28: =AW28 -> 2000 | BD28: =A28 -> 印尼 | BE28: =AA28 -> 51252 | BF28: =AA52 -> 42710 | BG28: =AX28 -> 6830 | BH28: =AX52 -> 0 | BI28: =BE28+BF28 -> 93962 | BJ28: =BE28+BG28 -> 58082 | BK28: =BE28+BF28+BG28 -> 100792 | BL28: =BG28+BH28 -> 6830 | BM28: =BI28+BL28 -> 100792 | BO28: =AA28 -> 51252 | BP28: =AX28 -> 6830 | BR28: =AC28 -> 2576 | BS28: =AD28 -> 18676 | BT28: =AE28 -> 30000 | BU28: =BF28+BG28+BH28 -> 49540
A29: 越南 | B29: 設計 | C29: TRUE | D29: VND | E29: =IF(選項!$K$2=1,0,IF($B$5>0,IF($U$5=FALSE,0,IF(C29=FALSE,0,150000+120000+60000*($B$6-1))),0)) -> 690000 | F29: =IF(選項!$K$2=1,0,IF($B$5>0,IF($U$5=FALSE,0,IF(C29=FALSE,0,1180000)),0)) -> 1180000 | G29: 0 | H29: 0 | I29: =IF($S$5=FALSE,0,SUM(E29:H29)) -> 1870000 | J29: =I29*$L$7 -> 2618 | K29: USD | L29: =IF(選項!$K$2=1,0,IF($B$5>0,IF($U$6=FALSE,0,IF(C29=FALSE,0,200+40+12*($B$6-1)+125)),0)) -> 449 | M29: 0 | N29: =IF(選項!$K$2=1,0,IF($B$5>0,IF($U$6=FALSE,0,IF(C29=FALSE,0,90)),0)) -> 90 | O29: =IF(選項!$K$2=1,0,IF($B$5>0,IF($U$6=FALSE,0,IF(C29=FALSE,0,(50+50)*($B$5-1))),0)) -> 0 | P29: 0 | Q29: 0 | R29: =IF($S$5=FALSE,0,SUM(L29:Q29)) -> 539 | S29: =R29*$J$5 -> 17355.8 | T29: =J29+S29 -> 19973.8 | U29: =IF(選項!$K$2=1,0,IF($B$5>0,IF($U$7=FALSE,0,IF(C29=FALSE,0,30000)),0)) -> 30000 | V29: 0 | W29: =IF($B$5>0,IF($U$7=FALSE,0,IF(C29=FALSE,0,IF($B$6/$B$5<=10,0,IF(選項!$K$2=1,1000*($B$6-$B$5*10),2000*($B$6-$B$5*10))))),0) -> 0 | X29: =IF(選項!$K$2=1,0,IF($B$5>0,IF($U$7=FALSE,0,IF(C29=FALSE,0,IF(選項!$K$2=1,10000*($B$5-1),20000*($B$5-1)))),0)) -> 0 | Y29: 0 | Z29: =IF($S$5=FALSE,0,SUM(U29:Y29)) -> 30000 | AA29: =T29+Z29 -> 49973.8 | AB29: =A29 -> 越南 | AC29: =J29 -> 2618 | AD29: =S29 -> 17355.8 | AE29: =Z29 -> 30000 | AG29: =A29 -> 越南 | AH29: =IF(選項!$K$2=1,0,IF($B$5>0,IF(C29=FALSE,0,1),0)) -> 1 | AI29: VND | AJ29: =IF(選項!$K$2=1,0,IF($B$5>0,IF($U$5=FALSE,0,IF(C29=FALSE,0,240000+120000)),0)) -> 360000 | AK29: =IF(選項!$K$2=1,0,IF($B$5>0,IF($U$5=FALSE,0,IF(C29=FALSE,0,($B$5-1)*100000)),0)) -> 0 | AL29: =IF(選項!$K$2=1,0,IF($B$5>0,IF($U$5=FALSE,0,IF(C29=FALSE,0,($B$6-1)*60000)),0)) -> 420000 | AM29: =IF($S$6=FALSE,0,SUM(AJ29:AL29)) -> 780000 | AN29: =AM29*$L$7 -> 1092 | AO29: USD | AP29: =IF(選項!$K$2=1,0,IF($B$5>0,IF($U$6=FALSE,0,IF(C29=FALSE,0,90+40)),0)) -> 130 | AQ29: =IF(選項!$K$2=1,0,IF($B$5>0,IF($U$6=FALSE,0,IF(C29=FALSE,0,($B$5-1)*32)),0)) -> 0 | AR29: =IF(選項!$K$2=1,0,IF($B$5>0,IF($U$6=FALSE,0,IF(C29=FALSE,0,($B$6-1)*12)),0)) -> 84 | AS29: =IF($S$6=FALSE,0,SUM(AP29:AR29)) -> 214 | AT29: =AS29*$J$5 -> 6890.8 | AU29: =AN29+AT29 -> 7982.8 | AV29: =IF(選項!$K$2=1,0,IF($B$5>0,IF($U$7=FALSE,0,IF(C29=FALSE,0,2000)),0)) -> 2000 | AW29: =IF($S$6=FALSE,0,SUM(AV29:AV29)) -> 2000 | AX29: =AU29+AW29 -> 9982.8 | AY29: =A29 -> 越南 | AZ29: =AN29 -> 1092 | BA29: =AT29 -> 6890.8 | BB29: =AW29 -> 2000 | BD29: =A29 -> 越南 | BE29: =AA29 -> 49973.8 | BF29: =AA53 -> 60966 | BG29: =AX29 -> 9982.8 | BH29: =AX53 -> 23664 | BI29: =BE29+BF29 -> 110939.8 | BJ29: =BE29+BG29 -> 59956.6 | BK29: =BE29+BF29+BG29 -> 120922.6 | BL29: =BG29+BH29 -> 33646.8 | BM29: =BI29+BL29 -> 144586.6 | BO29: =AA29 -> 49973.8 | BP29: =AX29 -> 9982.8 | BR29: =AC29 -> 2618 | BS29: =AD29 -> 17355.8 | BT29: =AE29 -> 30000 | BU29: =BF29+BG29+BH29 -> 94612.8
A30: 泰國 | B30: 設計 | C30: TRUE | D30: THB | E30: =IF($B$5>0,IF($U$5=FALSE,0,IF(C30=FALSE,0,250)),0) -> 250 | F30: 0 | G30: =IF($B$5>0,IF($U$5=FALSE,0,IF(C30=FALSE,0,($B$5-1)*250)),0) -> 0 | H30: 0 | I30: =IF($S$5=FALSE,0,SUM(E30:H30)) -> 250 | J30: =I30*$J$9 -> 262.5 | K30: THB | L30: =IF($B$5>0,IF($U$6=FALSE,0,IF(C30=FALSE,0,14500)),0) -> 14500 | M30: 0 | N30: 0 | O30: =IF($B$5>0,IF($U$6=FALSE,0,IF(C30=FALSE,0,($B$5-1)*14500)),0) -> 0 | P30: 0 | Q30: =IF($B$5>0,IF($U$6=FALSE,0,IF(C30=FALSE,0,4000*$B$5)),0) -> 4000 | R30: =IF($S$5=FALSE,0,SUM(L30:Q30)) -> 18500 | S30: =R30*$J$9 -> 19425 | T30: =J30+S30 -> 19687.5 | U30: =IF($B$5>0,IF($U$7=FALSE,0,IF(C30=FALSE,0,30000)),0) -> 30000 | V30: 0 | W30: 0 | X30: =IF($B$5>0,IF($U$7=FALSE,0,IF(C30=FALSE,0,IF(選項!$K$2=1,10000*($B$5-1),20000*($B$5-1)))),0) -> 0 | Y30: 0 | Z30: =IF($S$5=FALSE,0,SUM(U30:Y30)) -> 30000 | AA30: =T30+Z30 -> 49687.5 | AB30: =A30 -> 泰國 | AC30: =J30 -> 262.5 | AD30: =S30 -> 19425 | AE30: =Z30 -> 30000 | AG30: =A30 -> 泰國 | AH30: =IF($B$5>0,IF(C30=FALSE,0,$B$5),0) -> 1 | AI30: THB | AJ30: =IF($B$5>0,IF($U$5=FALSE,0,IF(C30=FALSE,0,500)),0) -> 500 | AK30: =IF($B$5>0,IF($U$5=FALSE,0,IF(C30=FALSE,0,500*($B$5-1))),0) -> 0 | AM30: =IF($S$6=FALSE,0,SUM(AJ30:AL30)) -> 500 | AN30: =AM30*$J$9 -> 525 | AO30: THB | AP30: =IF($B$5>0,IF($U$6=FALSE,0,IF(C30=FALSE,0,3500)),0) -> 3500 | AQ30: =IF($B$5>0,IF($U$6=FALSE,0,IF(C30=FALSE,0,($B$5-1)*3500)),0) -> 0 | AS30: =IF($S$6=FALSE,0,SUM(AP30:AR30)) -> 3500 | AT30: =AS30*$J$9 -> 3675 | AU30: =AN30+AT30 -> 4200 | AV30: =IF($B$5>0,IF($U$7=FALSE,0,IF(C30=FALSE,0,$B$5*2000)),0) -> 2000 | AW30: =IF($S$6=FALSE,0,SUM(AV30:AV30)) -> 2000 | AX30: =AU30+AW30 -> 6200 | AY30: =A30 -> 泰國 | AZ30: =AN30 -> 525 | BA30: =AT30 -> 3675 | BB30: =AW30 -> 2000 | BD30: =A30 -> 泰國 | BE30: =AA30 -> 49687.5 | BF30: =AA54 -> 40592.5 | BG30: =AX30 -> 6200 | BH30: =AX54 -> 58822.5 | BI30: =BE30+BF30 -> 90280 | BJ30: =BE30+BG30 -> 55887.5 | BK30: =BE30+BF30+BG30 -> 96480 | BL30: =BG30+BH30 -> 65022.5 | BM30: =BI30+BL30 -> 155302.5 | BO30: =AA30 -> 49687.5 | BP30: =AX30 -> 6200 | BR30: =AC30 -> 262.5 | BS30: =AD30 -> 19425 | BT30: =AE30 -> 30000 | BU30: =BF30+BG30+BH30 -> 105615
A31: 印度 | B31: 設計 | C31: TRUE | D31: USD | E31: =IF($B$5>0,IF($U$5=FALSE,0,IF(C31=FALSE,0,57)),0) -> 57 | F31: 0 | G31: =IF($B$5>0,IF($U$5=FALSE,0,IF(C31=FALSE,0,($B$5-1)*57)),0) -> 0 | H31: 0 | I31: =IF($S$5=FALSE,0,SUM(E31:H31)) -> 57 | J31: =I31*$J$5 -> 1835.4 | K31: USD | L31: =IF($B$5>0,IF($U$6=FALSE,0,IF(C31=FALSE,0,250)),0) -> 250 | M31: 0 | N31: 0 | O31: =IF($B$5>0,IF($U$6=FALSE,0,IF(C31=FALSE,0,($B$5-1)*250)),0) -> 0 | P31: 0 | Q31: 0 | R31: =IF($S$5=FALSE,0,SUM(L31:Q31)) -> 250 | S31: =R31*$J$5 -> 8050 | T31: =J31+S31 -> 9885.4 | U31: =IF($B$5>0,IF($U$7=FALSE,0,IF(C31=FALSE,0,30000)),0) -> 30000 | V31: 0 | W31: =IF($B$5>0,IF($U$7=FALSE,0,IF(C31=FALSE,0,IF($B$6/$B$5<=10,0,IF(選項!$K$2=1,1000*($B$6-$B$5*10),2000*($B$6-$B$5*10))))),0) -> 0 | X31: =IF($B$5>0,IF($U$7=FALSE,0,IF(C31=FALSE,0,IF(選項!$K$2=1,10000*($B$5-1),20000*($B$5-1)))),0) -> 0 | Y31: 0 | Z31: =IF($S$5=FALSE,0,SUM(U31:Y31)) -> 30000 | AA31: =T31+Z31 -> 39885.4 | AB31: =A31 -> 印度 | AC31: =J31 -> 1835.4 | AD31: =S31 -> 8050 | AE31: =Z31 -> 30000 | AG31: =A31 -> 印度 | AH31: =IF($B$5>0,IF(C31=FALSE,0,$B$5),0) -> 1 | AI31: USD | AJ31: 0 | AM31: =IF($S$6=FALSE,0,SUM(AJ31:AL31)) -> 0 | AN31: =AM31*$J$5 -> 0 | AO31: USD | AP31: =IF($B$5>0,IF($U$6=FALSE,0,IF(C31=FALSE,0,100)),0) -> 100 | AQ31: =IF($B$5>0,IF($U$6=FALSE,0,IF(C31=FALSE,0,($B$5-1)*100)),0) -> 0 | AS31: =IF($S$6=FALSE,0,SUM(AP31:AR31)) -> 100 | AT31: =AS31*$J$5 -> 3220 | AU31: =AN31+AT31 -> 3220 | AV31: =IF($B$5>0,IF($U$7=FALSE,0,IF(C31=FALSE,0,$B$5*2000)),0) -> 2000 | AW31: =IF($S$6=FALSE,0,SUM(AV31:AV31)) -> 2000 | AX31: =AU31+AW31 -> 5220 | AY31: =A31 -> 印度 | AZ31: =AN31 -> 0 | BA31: =AT31 -> 3220 | BB31: =AW31 -> 2000 | BD31: =A31 -> 印度 | BE31: =AA31 -> 39885.4 | BF31: =AA55 -> 39490 | BG31: =AX31 -> 5220 | BH31: =AX55 -> 11890.8 | BI31: =BE31+BF31 -> 79375.4 | BJ31: =BE31+BG31 -> 45105.4 | BK31: =BE31+BF31+BG31 -> 84595.4 | BL31: =BG31+BH31 -> 17110.8 | BM31: =BI31+BL31 -> 96486.2 | BO31: =AA31 -> 39885.4 | BP31: =AX31 -> 5220 | BR31: =AC31 -> 1835.4 | BS31: =AD31 -> 8050 | BT31: =AE31 -> 30000 | BU31: =BF31+BG31+BH31 -> 56600.8
I32: 合計 | J32: =SUM(J16:J31) -> 94042.325 | R32: 合計 | S32: =SUM(S16:S31) -> 230257.8 | T32: =SUM(T16:T31) -> 324300.13 | Z32: =SUM(Z16:Z31) -> 489000 | AA32: =SUM(AA16:AA31) -> 813300.12 | AC32: =SUM(AC16:AC31) -> 94042.325 | AD32: =SUM(AD16:AD31) -> 230257.8 | AE32: =SUM(AE16:AE31) -> 489000 | AM32: 合計 | AN32: =SUM(AN16:AN31) -> 31178.05 | AS32: 合計 | AT32: =SUM(AT16:AT31) -> 79718.3 | AU32: =SUM(AU16:AU31) -> 110896.35 | AV32: =SUM(AV16:AV31) -> 30000 | AW32: =SUM(AW16:AW31) -> 30000 | AX32: =SUM(AX16:AX31) -> 140896.35 | AZ32: =SUM(AZ16:AZ31) -> 31178.05 | BA32: =SUM(BA16:BA31) -> 79718.3 | BB32: =SUM(BB16:BB31) -> 30000 | BE32: =SUM(BE16:BE31) -> 813300.12 | BF32: =SUM(BF16:BF31) -> 559227.5 | BG32: =SUM(BG16:BG31) -> 140896.35 | BH32: =SUM(BH16:BH31) -> 1148664.6 | BI32: =SUM(BI16:BI31) -> 1372527.6 | BJ32: =SUM(BJ16:BJ31) -> 954196.47 | BK32: =SUM(BK16:BK31) -> 1513424 | BL32: =SUM(BL16:BL31) -> 1289560.9 | BM32: =SUM(BM16:BM31) -> 2662088.5 | BO32: =SUM(BO16:BO31) -> 813300.12 | BP32: =SUM(BP16:BP31) -> 140896.35 | BR32: =SUM(BR16:BR31) -> 94042.325 | BS32: =SUM(BS16:BS31) -> 230257.8 | BT32: =SUM(BT16:BT31) -> 489000 | BU32: =SUM(BU16:BU31) -> 1848788.4
G33: ↑英國超項費的官費及代理人費的公式有瑕疵，只能估算總設計項數50以內的超項費，超過50項時的公式還沒想到怎麼寫(官方允許的上限只能50項)
A36: 第三部分：辦理各地區「設計專利」的「一次答辯費用」：估多次會牽涉到CPA、再審查等額外官費，太複雜。 | AG36: 第四部分：辦理各地區「設計專利」的「後續年費費用（不包含最基本的第一次年費）」，連動「年費繳納年數」下拉選單
A37: 答辯階段 | AC37: 繪製答辯費圓餅圖專用 | AG37: 後續年費階段（不包含最基本的第一次年費） | AZ37: 繪製後續年費圓餅圖專用
A38: 申請地區 | B38: 專利類型 | C38: 計費 類型 | D38: 官方費用 (R1) | K38: 外國代理人費用 (R2) | T38: 總代墊費用 (R1+R2) | U38: 慧盈服務費細項 | Z38: 慧盈服務費 (R3) (NTD) | AA38: 專利申請費用小計 (R = R1+R2+R3) (NTD) | AB38: 申請地區 | AC38: 官方費用(R1) | AD38: 外國代理人費用(R2) | AE38: 慧盈服務費(R3) | AG38: 申請地區 | AH38: 專利類型 | AI38: 官方費用 (M1) | AO38: 外國代理人費用 (M2) | AU38: 總代墊費用 (M1+M2) | AV38: 慧盈服務費細項 | AW38: 慧盈服務費 (M3) (NTD) | AX38: 專利維護費用小計 (M = M1+M2+M3) (NTD) | AY38: 申請地區 | AZ38: 官方費用(M1) | BA38: 外國代理人費用(M2) | BB38: 慧盈服務費(M3)
D39: 幣別 | E39: 修正費 | F39: 實審費 | G39: 超項費 | H39: 超圖費 | I39: 原幣別金額 | J39: 折合台幣 | K39: 幣別 | L39: OA通知費 | M39: 答辯費 | N39: 公開費 | O39: 實審費 | P39: 超項費 | Q39: 超圖費 | R39: 原幣別金額 | S39: 折合台幣 | T39: 折合台幣 | U39: 答辯費 | V39: 實審費 | W39: 超圖費 | X39: 特殊程序費 | Y39: 特殊程序費 | AI39: 幣別 | AJ39: 後續年費 | AM39: 原幣別金額 | AN39: 折合台幣 | AO39: 幣別 | AP39: 後續年費 | AS39: 原幣別金額 | AT39: 折合台幣 | AU39: 折合台幣 | AV39: 後續年費
A40: 台灣 | B40: 設計 | C40: =C16 -> TRUE | D40: NTD | I40: =IF($S$8=FALSE,0,SUM(E40:H40)) -> 0 | J40: =I40*1 -> 0 | K40: NTD | R40: =IF($S$8=FALSE,0,SUM(L40:Q40)) -> 0 | S40: =R40*1 -> 0 | T40: =J40+S40 -> 0 | U40: =IF($B$5>0,IF($U$7=FALSE,0,IF(C40=FALSE,0,$B$5*20000)),0) -> 20000 | Z40: =IF($S$8=FALSE,0,SUM(U40:Y40)) -> 20000 | AA40: =T40+Z40 -> 20000 | AB40: =A40 -> 台灣 | AC40: =J40 -> 0 | AD40: =S40 -> 0 | AE40: =Z40 -> 20000 | AG40: =A40 -> 台灣 | AH40: 設計 | AI40: NTD | AJ40: =IF($U$5=FALSE,0,IF(C40=FALSE,0,HLOOKUP(選項!$N$2,D年費表!$AH$2:$BG$19,2))) -> 29400 | AM40: =IF($S$7=FALSE,0,SUM(AJ40:AL40)) -> 29400 | AN40: =AM40*1 -> 29400 | AO40: NTD | AP40: =IF($U$6=FALSE,0,IF(C40=FALSE,0,HLOOKUP(選項!$N$2,D年費表!$AH$24:$BG$41,2))) -> 0 | AS40: =IF($S$7=FALSE,0,SUM(AP40:AR40)) -> 0 | AT40: =AS40*1 -> 0 | AU40: =AN40+AT40 -> 29400 | AV40: =IF($U$7=FALSE,0,IF(C40=FALSE,0,HLOOKUP(選項!$N$2,D年費表!$AH$46:$BG$63,2))) -> 36000 | AW40: =IF($S$7=FALSE,0,SUM(AV40:AV40)) -> 36000 | AX40: =AU40+AW40 -> 65400 | AY40: =A40 -> 台灣 | AZ40: =AN40 -> 29400 | BA40: =AT40 -> 0 | BB40: =AW40 -> 36000
A41: 大陸 | B41: 設計 | C41: =C17 -> TRUE | D41: CNY | I41: =IF($S$8=FALSE,0,SUM(E41:H41)) -> 0 | J41: =I41*$L$5 -> 0 | K41: CNY | R41: =IF($S$8=FALSE,0,SUM(L41:Q41)) -> 0 | S41: =R41*$L$5 -> 0 | T41: =J41+S41 -> 0 | Z41: =IF($S$8=FALSE,0,SUM(U41:Y41)) -> 0 | AA41: =T41+Z41 -> 0 | AB41: =A41 -> 大陸 | AC41: =J41 -> 0 | AD41: =S41 -> 0 | AE41: =Z41 -> 0 | AG41: =A41 -> 大陸 | AH41: 設計 | AI41: CNY | AJ41: =IF($U$5=FALSE,0,IF(C41=FALSE,0,HLOOKUP(選項!$N$2,D年費表!$AH$2:$BG$19,3))) -> 25600 | AM41: =IF($S$7=FALSE,0,SUM(AJ41:AL41)) -> 25600 | AN41: =AM41*$L$5 -> 124160 | AO41: CNY | AP41: =IF($U$6=FALSE,0,IF(C41=FALSE,0,HLOOKUP(選項!$N$2,D年費表!$AH$24:$BG$41,3))) -> 2800 | AS41: =IF($S$7=FALSE,0,SUM(AP41:AR41)) -> 2800 | AT41: =AS41*$L$5 -> 13580 | AU41: =AN41+AT41 -> 137740 | AV41: =IF($U$7=FALSE,0,IF(C41=FALSE,0,HLOOKUP(選項!$N$2,D年費表!$AH$46:$BG$63,3))) -> 42000 | AW41: =IF($S$7=FALSE,0,SUM(AV41:AV41)) -> 42000 | AX41: =AU41+AW41 -> 179740 | AY41: =A41 -> 大陸 | AZ41: =AN41 -> 124160 | BA41: =AT41 -> 13580 | BB41: =AW41 -> 42000
A42: 美國 | B42: 設計 | C42: =C18 -> TRUE | D42: USD | I42: =IF($S$8=FALSE,0,SUM(E42:H42)) -> 0 | J42: =I42*$J$5 -> 0 | K42: USD | L42: =IF($B$5>0,IF($U$6=FALSE,0,IF(C42=FALSE,0,135)),0) -> 135 | M42: =IF($B$5>0,IF($U$6=FALSE,0,IF(C42=FALSE,0,1100)),0) -> 1100 | R42: =IF($S$8=FALSE,0,SUM(L42:Q42)) -> 1235 | S42: =R42*$J$5 -> 39767 | T42: =J42+S42 -> 39767 | U42: =IF($B$5>0,IF($U$7=FALSE,0,IF(C42=FALSE,0,25000)),0) -> 25000 | Z42: =IF($S$8=FALSE,0,SUM(U42:Y42)) -> 25000 | AA42: =T42+Z42 -> 64767 | AB42: =A42 -> 美國 | AC42: =J42 -> 0 | AD42: =S42 -> 39767 | AE42: =Z42 -> 25000 | AG42: =A42 -> 美國 | AH42: 設計 | AI42: USD | AJ42: =IF($U$5=FALSE,0,IF(C42=FALSE,0,HLOOKUP(選項!$N$2,D年費表!$AH$2:$BG$19,4))) -> 0 | AM42: =IF($S$7=FALSE,0,SUM(AJ42:AL42)) -> 0 | AN42: =AM42*$J$5 -> 0 | AO42: USD | AP42: =IF($U$6=FALSE,0,IF(C42=FALSE,0,HLOOKUP(選項!$N$2,D年費表!$AH$24:$BG$41,4))) -> 0 | AS42: =IF($S$7=FALSE,0,SUM(AP42:AR42)) -> 0 | AT42: =AS42*$J$5 -> 0 | AU42: =AN42+AT42 -> 0 | AV42: =IF($U$7=FALSE,0,IF(C42=FALSE,0,HLOOKUP(選項!$N$2,D年費表!$AH$46:$BG$63,4))) -> 0 | AW42: =IF($S$7=FALSE,0,SUM(AV42:AV42)) -> 0 | AX42: =AU42+AW42 -> 0 | AY42: =A42 -> 美國 | AZ42: =AN42 -> 0 | BA42: =AT42 -> 0 | BB42: =AW42 -> 0
A43: 歐盟 | B43: 設計 | C43: =C19 -> TRUE | D43: EUR | I43: =IF($S$8=FALSE,0,SUM(E43:H43)) -> 0 | J43: =I43*$J$6 -> 0 | K43: EUR | R43: =IF($S$8=FALSE,0,SUM(L43:Q43)) -> 0 | S43: =R43*$J$6 -> 0 | T43: =J43+S43 -> 0 | Z43: =IF($S$8=FALSE,0,SUM(U43:Y43)) -> 0 | AA43: =T43+Z43 -> 0 | AB43: =A43 -> 歐盟 | AC43: =J43 -> 0 | AD43: =S43 -> 0 | AE43: =Z43 -> 0 | AG43: =A43 -> 歐盟 | AH43: 設計 | AI43: EUR | AJ43: =IF($U$5=FALSE,0,IF(C43=FALSE,0,HLOOKUP(選項!$N$2,D年費表!$AH$2:$BG$19,5))) -> 1500 | AM43: =IF($S$7=FALSE,0,SUM(AJ43:AL43)) -> 1500 | AN43: =AM43*$J$5 -> 48300 | AO43: EUR | AP43: =IF($U$6=FALSE,0,IF(C43=FALSE,0,HLOOKUP(選項!$N$2,D年費表!$AH$24:$BG$41,5))) -> 400 | AS43: =IF($S$7=FALSE,0,SUM(AP43:AR43)) -> 400 | AT43: =AS43*$J$5 -> 12880 | AU43: =AN43+AT43 -> 61180 | AV43: =IF($U$7=FALSE,0,IF(C43=FALSE,0,HLOOKUP(選項!$N$2,D年費表!$AH$46:$BG$63,5))) -> 20000 | AW43: =IF($S$7=FALSE,0,SUM(AV43:AV43)) -> 20000 | AX43: =AU43+AW43 -> 81180 | AY43: =A43 -> 歐盟 | AZ43: =AN43 -> 48300 | BA43: =AT43 -> 12880 | BB43: =AW43 -> 20000
A44: 英國 | B44: 設計 | C44: =C20 -> TRUE | D44: EUR | I44: =IF($S$8=FALSE,0,SUM(E44:H44)) -> 0 | J44: =I44*$J$6 -> 0 | K44: EUR | R44: =IF($S$8=FALSE,0,SUM(L44:Q44)) -> 0 | S44: =R44*$J$6 -> 0 | T44: =J44+S44 -> 0 | Z44: =IF($S$8=FALSE,0,SUM(U44:Y44)) -> 0 | AA44: =T44+Z44 -> 0 | AB44: =A44 -> 英國 | AC44: =J44 -> 0 | AD44: =S44 -> 0 | AE44: =Z44 -> 0 | AG44: =A44 -> 英國 | AH44: 設計 | AI44: EUR | AJ44: =IF($U$5=FALSE,0,IF(C44=FALSE,0,HLOOKUP(選項!$N$2,D年費表!$AH$2:$BG$19,6))) -> 520 | AM44: =IF($S$7=FALSE,0,SUM(AJ44:AL44)) -> 520 | AN44: =AM44*$J$5 -> 16744 | AO44: EUR | AP44: =IF($U$6=FALSE,0,IF(C44=FALSE,0,HLOOKUP(選項!$N$2,D年費表!$AH$24:$BG$41,6))) -> 600 | AS44: =IF($S$7=FALSE,0,SUM(AP44:AR44)) -> 600 | AT44: =AS44*$J$5 -> 19320 | AU44: =AN44+AT44 -> 36064 | AV44: =IF($U$7=FALSE,0,IF(C44=FALSE,0,HLOOKUP(選項!$N$2,D年費表!$AH$46:$BG$63,6))) -> 20000 | AW44: =IF($S$7=FALSE,0,SUM(AV44:AV44)) -> 20000 | AX44: =AU44+AW44 -> 56064 | AY44: =A44 -> 英國 | AZ44: =AN44 -> 16744 | BA44: =AT44 -> 19320 | BB44: =AW44 -> 20000
A45: 日本 | B45: 設計 | C45: =C21 -> TRUE | D45: JPY | I45: =IF($S$8=FALSE,0,SUM(E45:H45)) -> 0 | J45: =I45*$J$7 -> 0 | K45: JPY | L45: =IF($B$5>0,IF($U$6=FALSE,0,IF(C45=FALSE,0,30000)),0) -> 30000 | M45: =IF($B$5>0,IF($U$6=FALSE,0,IF(C45=FALSE,0,80000)),0) -> 80000 | P45: =IF($B$5>0,IF($U$6=FALSE,0,IF(C45=FALSE,0,($B$5-1)*80000)),0) -> 0 | R45: =IF($S$8=FALSE,0,SUM(L45:Q45)) -> 110000 | S45: =R45*$J$7 -> 23100 | T45: =J45+S45 -> 23100 | U45: =IF($B$5>0,IF($U$7=FALSE,0,IF(C45=FALSE,0,$B$5*25000)),0) -> 25000 | Z45: =IF($S$8=FALSE,0,SUM(U45:Y45)) -> 25000 | AA45: =T45+Z45 -> 48100 | AB45: =A45 -> 日本 | AC45: =J45 -> 0 | AD45: =S45 -> 23100 | AE45: =Z45 -> 25000 | AG45: =A45 -> 日本 | AH45: 設計 | AI45: JPY | AJ45: =IF($U$5=FALSE,0,IF(C45=FALSE,0,HLOOKUP(選項!$N$2,D年費表!$AH$2:$BG$19,7))) -> 371800 | AM45: =IF($S$7=FALSE,0,SUM(AJ45:AL45)) -> 371800 | AN45: =AM45*$J$7 -> 78078 | AO45: JPY | AP45: =IF($U$6=FALSE,0,IF(C45=FALSE,0,HLOOKUP(選項!$N$2,D年費表!$AH$24:$BG$41,7))) -> 213000 | AS45: =IF($S$7=FALSE,0,SUM(AP45:AR45)) -> 213000 | AT45: =AS45*$J$7 -> 44730 | AU45: =AN45+AT45 -> 122808 | AV45: =IF($U$7=FALSE,0,IF(C45=FALSE,0,HLOOKUP(選項!$N$2,D年費表!$AH$46:$BG$63,7))) -> 110000 | AW45: =IF($S$7=FALSE,0,SUM(AV45:AV45)) -> 110000 | AX45: =AU45+AW45 -> 232808 | AY45: =A45 -> 日本 | AZ45: =AN45 -> 78078 | BA45: =AT45 -> 44730 | BB45: =AW45 -> 110000
A46: 韓國 | B46: 設計 | C46: =C22 -> TRUE | D46: KRW | I46: =IF($S$8=FALSE,0,SUM(E46:H46)) -> 0 | J46: =I46*$J$8 -> 0 | K46: USD | M46: =IF($B$5>0,IF($U$6=FALSE,0,IF(C46=FALSE,0,300+2500)),0) -> 2800 | P46: =IF($B$5>0,IF($U$6=FALSE,0,IF(C46=FALSE,0,($B$5-1)*1000)),0) -> 0 | R46: =IF($S$8=FALSE,0,SUM(L46:Q46)) -> 2800 | S46: =R46*$J$5 -> 90160 | T46: =J46+S46 -> 90160 | U46: =IF($B$5>0,IF($U$7=FALSE,0,IF(C46=FALSE,0,$B$5*25000)),0) -> 25000 | Z46: =IF($S$8=FALSE,0,SUM(U46:Y46)) -> 25000 | AA46: =T46+Z46 -> 115160 | AB46: =A46 -> 韓國 | AC46: =J46 -> 0 | AD46: =S46 -> 90160 | AE46: =Z46 -> 25000 | AG46: =A46 -> 韓國 | AH46: 設計 | AI46: KRW | AJ46: =IF($U$5=FALSE,0,IF(C46=FALSE,0,HLOOKUP(選項!$N$2,D年費表!$AH$2:$BG$19,8))) -> 2415000 | AM46: =IF($S$7=FALSE,0,SUM(AJ46:AL46)) -> 2415000 | AN46: =AM46*$J$8 -> 62790 | AO46: USD | AP46: =IF($U$6=FALSE,0,IF(C46=FALSE,0,HLOOKUP(選項!$N$2,D年費表!$AH$24:$BG$41,8))) -> 3210 | AS46: =IF($S$7=FALSE,0,SUM(AP46:AR46)) -> 3210 | AT46: =AS46*$J$5 -> 103362 | AU46: =AN46+AT46 -> 166152 | AV46: =IF($U$7=FALSE,0,IF(C46=FALSE,0,HLOOKUP(選項!$N$2,D年費表!$AH$46:$BG$63,8))) -> 85000 | AW46: =IF($S$7=FALSE,0,SUM(AV46:AV46)) -> 85000 | AX46: =AU46+AW46 -> 251152 | AY46: =A46 -> 韓國 | AZ46: =AN46 -> 62790 | BA46: =AT46 -> 103362 | BB46: =AW46 -> 85000
A47: 加拿大 | B47: 設計 | C47: =C23 -> TRUE | D47: CAD | I47: =IF($S$8=FALSE,0,SUM(E47:H47)) -> 0 | J47: =I47*$L$9 -> 0 | K47: CAD | M47: =IF($B$5>0,IF($U$6=FALSE,0,IF(C47=FALSE,0,800)),0) -> 800 | R47: =IF($S$8=FALSE,0,SUM(L47:Q47)) -> 800 | S47: =R47*$L$9 -> 18800 | T47: =J47+S47 -> 18800 | U47: =IF($B$5>0,IF($U$7=FALSE,0,IF(C47=FALSE,0,25000)),0) -> 25000 | Z47: =IF($S$8=FALSE,0,SUM(U47:Y47)) -> 25000 | AA47: =T47+Z47 -> 43800 | AB47: =A47 -> 加拿大 | AC47: =J47 -> 0 | AD47: =S47 -> 18800 | AE47: =Z47 -> 25000 | AG47: =A47 -> 加拿大 | AH47: 設計 | AI47: CAD | AJ47: =IF($U$5=FALSE,0,IF(C47=FALSE,0,HLOOKUP(選項!$N$2,D年費表!$AH$2:$BG$19,9))) -> 517.82 | AM47: =IF($S$7=FALSE,0,SUM(AJ47:AL47)) -> 517.82 | AN47: =AM47*$L$9 -> 12168.77 | AO47: CAD | AP47: =IF($U$6=FALSE,0,IF(C47=FALSE,0,HLOOKUP(選項!$N$2,D年費表!$AH$24:$BG$41,9))) -> 315 | AS47: =IF($S$7=FALSE,0,SUM(AP47:AR47)) -> 315 | AT47: =AS47*$L$9 -> 7402.5 | AU47: =AN47+AT47 -> 19571.27 | AV47: =IF($U$7=FALSE,0,IF(C47=FALSE,0,HLOOKUP(選項!$N$2,D年費表!$AH$46:$BG$63,9))) -> 5000 | AW47: =IF($S$7=FALSE,0,SUM(AV47:AV47)) -> 5000 | AX47: =AU47+AW47 -> 24571.27 | AY47: =A47 -> 加拿大 | AZ47: =AN47 -> 12168.77 | BA47: =AT47 -> 7402.5 | BB47: =AW47 -> 5000
A48: 澳洲 | B48: 設計 | C48: =C24 -> TRUE | D48: AUD | E48: =IF(選項!$K$2=1,0,IF($B$5>0,IF($U$5=FALSE,0,IF(C48=FALSE,0,0)),0)) -> 0 | I48: =IF($S$8=FALSE,0,SUM(E48:H48)) -> 0 | J48: =I48*$L$10 -> 0 | K48: AUD | L48: =IF(選項!$K$2=1,0,IF($B$5>0,IF($U$6=FALSE,0,IF(C48=FALSE,0,410)),0)) -> 410 | M48: =IF(選項!$K$2=1,0,IF($B$5>0,IF($U$6=FALSE,0,IF(C48=FALSE,0,575)),0)) -> 575 | P48: =IF(選項!$K$2=1,0,IF($B$5>0,IF($U$6=FALSE,0,IF(C48=FALSE,0,($B$5-1)*(410+575))),0)) -> 0 | R48: =IF($S$8=FALSE,0,SUM(L48:Q48)) -> 985 | S48: =R48*$L$10 -> 22852 | T48: =J48+S48 -> 22852 | U48: =IF(選項!$K$2=1,0,IF($B$5>0,IF($U$7=FALSE,0,IF(C48=FALSE,0,$B$5*25000)),0)) -> 25000 | Z48: =IF($S$8=FALSE,0,SUM(U48:Y48)) -> 25000 | AA48: =T48+Z48 -> 47852 | AB48: =A48 -> 澳洲 | AC48: =J48 -> 0 | AD48: =S48 -> 22852 | AE48: =Z48 -> 25000 | AG48: =A48 -> 澳洲 | AH48: 設計 | AI48: AUD | AJ48: =IF(選項!$K$2=1,0,IF($U$5=FALSE,0,IF(C48=FALSE,0,HLOOKUP(選項!$N$2,D年費表!$AH$2:$BG$19,10)))) -> 400 | AM48: =IF($S$7=FALSE,0,SUM(AJ48:AL48)) -> 400 | AN48: =AM48*$L$10 -> 9280 | AO48: AUD | AP48: =IF(選項!$K$2=1,0,IF($U$6=FALSE,0,IF(C48=FALSE,0,HLOOKUP(選項!$N$2,D年費表!$AH$24:$BG$41,10)))) -> 570 | AS48: =IF($S$7=FALSE,0,SUM(AP48:AR48)) -> 570 | AT48: =AS48*$L$10 -> 13224 | AU48: =AN48+AT48 -> 22504 | AV48: =IF(選項!$K$2=1,0,IF($U$7=FALSE,0,IF(C48=FALSE,0,HLOOKUP(選項!$N$2,D年費表!$AH$46:$BG$63,10)))) -> 5000 | AW48: =IF($S$7=FALSE,0,SUM(AV48:AV48)) -> 5000 | AX48: =AU48+AW48 -> 27504 | AY48: =A48 -> 澳洲 | AZ48: =AN48 -> 9280 | BA48: =AT48 -> 13224 | BB48: =AW48 -> 5000
A49: 新加坡 | B49: 設計 | C49: =C25 -> TRUE | D49: SGD | I49: =IF($S$8=FALSE,0,SUM(E49:H49)) -> 0 | J49: =I49*$L$6 -> 0 | K49: SGD | R49: =IF($S$8=FALSE,0,SUM(L49:Q49)) -> 0 | S49: =R49*$L$6 -> 0 | T49: =J49+S49 -> 0 | Z49: =IF($S$8=FALSE,0,SUM(U49:Y49)) -> 0 | AA49: =T49+Z49 -> 0 | AB49: =A49 -> 新加坡 | AC49: =J49 -> 0 | AD49: =S49 -> 0 | AE49: =Z49 -> 0 | AG49: =A49 -> 新加坡 | AH49: 設計 | AI49: SGD | AJ49: =IF($U$5=FALSE,0,IF(C49=FALSE,0,HLOOKUP(選項!$N$2,D年費表!$AH$2:$BG$19,11))) -> 550 | AM49: =IF($S$7=FALSE,0,SUM(AJ49:AL49)) -> 550 | AN49: =AM49*$L$6 -> 13970 | AO49: SGD | AP49: =IF($U$6=FALSE,0,IF(C49=FALSE,0,HLOOKUP(選項!$N$2,D年費表!$AH$24:$BG$41,11))) -> 900 | AS49: =IF($S$7=FALSE,0,SUM(AP49:AR49)) -> 900 | AT49: =AS49*$L$6 -> 22860 | AU49: =AN49+AT49 -> 36830 | AV49: =IF($U$7=FALSE,0,IF(C49=FALSE,0,HLOOKUP(選項!$N$2,D年費表!$AH$46:$BG$63,11))) -> 10000 | AW49: =IF($S$7=FALSE,0,SUM(AV49:AV49)) -> 10000 | AX49: =AU49+AW49 -> 46830 | AY49: =A49 -> 新加坡 | AZ49: =AN49 -> 13970 | BA49: =AT49 -> 22860 | BB49: =AW49 -> 10000
A50: 馬來西亞 | B50: 設計 | C50: =C26 -> TRUE | D50: MYR | I50: =IF($S$8=FALSE,0,SUM(E50:H50)) -> 0 | J50: =I50*$L$8 -> 0 | K50: MYR | L50: =IF($B$5>0,IF($U$6=FALSE,0,IF(C50=FALSE,0,300)),0) -> 300 | M50: =IF($B$5>0,IF($U$6=FALSE,0,IF(C50=FALSE,0,1000)),0) -> 1000 | R50: =IF($S$8=FALSE,0,SUM(L50:Q50)) -> 1300 | S50: =R50*$L$8 -> 10790 | T50: =J50+S50 -> 10790 | U50: =IF($B$5>0,IF($U$7=FALSE,0,IF(C50=FALSE,0,$B$5*25000)),0) -> 25000 | Z50: =IF($S$8=FALSE,0,SUM(U50:Y50)) -> 25000 | AA50: =T50+Z50 -> 35790 | AB50: =A50 -> 馬來西亞 | AC50: =J50 -> 0 | AD50: =S50 -> 10790 | AE50: =Z50 -> 25000 | AG50: =A50 -> 馬來西亞 | AH50: 設計 | AI50: MYR | AJ50: =IF($U$5=FALSE,0,IF(C50=FALSE,0,HLOOKUP(選項!$N$2,D年費表!$AH$2:$BG$19,12))) -> 3200 | AM50: =IF($S$7=FALSE,0,SUM(AJ50:AL50)) -> 3200 | AN50: =AM50*$L$8 -> 26560 | AO50: MYR | AP50: =IF($U$6=FALSE,0,IF(C50=FALSE,0,HLOOKUP(選項!$N$2,D年費表!$AH$24:$BG$41,12))) -> 2400 | AS50: =IF($S$7=FALSE,0,SUM(AP50:AR50)) -> 2400 | AT50: =AS50*$L$8 -> 19920 | AU50: =AN50+AT50 -> 46480 | AV50: =IF($U$7=FALSE,0,IF(C50=FALSE,0,HLOOKUP(選項!$N$2,D年費表!$AH$46:$BG$63,12))) -> 20000 | AW50: =IF($S$7=FALSE,0,SUM(AV50:AV50)) -> 20000 | AX50: =AU50+AW50 -> 66480 | AY50: =A50 -> 馬來西亞 | AZ50: =AN50 -> 26560 | BA50: =AT50 -> 19920 | BB50: =AW50 -> 20000
A51: 菲律賓 | B51: 設計 | C51: =C27 -> TRUE | D51: USD | I51: =IF($S$8=FALSE,0,SUM(E51:H51)) -> 0 | J51: =I51*$J$5 -> 0 | K51: USD | R51: =IF($S$8=FALSE,0,SUM(L51:Q51)) -> 0 | S51: =R51*$J$5 -> 0 | T51: =J51+S51 -> 0 | Z51: =IF($S$8=FALSE,0,SUM(U51:Y51)) -> 0 | AA51: =T51+Z51 -> 0 | AB51: =A51 -> 菲律賓 | AC51: =J51 -> 0 | AD51: =S51 -> 0 | AE51: =Z51 -> 0 | AG51: =A51 -> 菲律賓 | AH51: 設計 | AI51: USD | AJ51: =IF($U$5=FALSE,0,IF(C51=FALSE,0,HLOOKUP(選項!$N$2,D年費表!$AH$2:$BG$19,13))) -> 190 | AM51: =IF($S$7=FALSE,0,SUM(AJ51:AL51)) -> 190 | AN51: =AM51*$J$5 -> 6118 | AO51: USD | AP51: =IF($U$6=FALSE,0,IF(C51=FALSE,0,HLOOKUP(選項!$N$2,D年費表!$AH$24:$BG$41,13))) -> 200 | AS51: =IF($S$7=FALSE,0,SUM(AP51:AR51)) -> 200 | AT51: =AS51*$J$5 -> 6440 | AU51: =AN51+AT51 -> 12558 | AV51: =IF($U$7=FALSE,0,IF(C51=FALSE,0,HLOOKUP(選項!$N$2,D年費表!$AH$46:$BG$63,13))) -> 10000 | AW51: =IF($S$7=FALSE,0,SUM(AV51:AV51)) -> 10000 | AX51: =AU51+AW51 -> 22558 | AY51: =A51 -> 菲律賓 | AZ51: =AN51 -> 6118 | BA51: =AT51 -> 6440 | BB51: =AW51 -> 10000
A52: 印尼 | B52: 設計 | C52: =C28 -> TRUE | D52: USD | E52: =IF($B$5>0,IF($U$5=FALSE,0,IF(C52=FALSE,0,100)),0) -> 100 | G52: =IF($B$5>0,IF($U$5=FALSE,0,IF(C52=FALSE,0,($B$5-1)*100)),0) -> 0 | I52: =IF($S$8=FALSE,0,SUM(E52:H52)) -> 100 | J52: =I52*$J$5 -> 3220 | K52: USD | M52: =IF($B$5>0,IF($U$6=FALSE,0,IF(C52=FALSE,0,450)),0) -> 450 | P52: =IF($B$5>0,IF($U$6=FALSE,0,IF(C52=FALSE,0,($B$5-1)*450)),0) -> 0 | R52: =IF($S$8=FALSE,0,SUM(L52:Q52)) -> 450 | S52: =R52*$J$5 -> 14490 | T52: =J52+S52 -> 17710 | U52: =IF($B$5>0,IF($U$7=FALSE,0,IF(C52=FALSE,0,$B$5*25000)),0) -> 25000 | Z52: =IF($S$8=FALSE,0,SUM(U52:Y52)) -> 25000 | AA52: =T52+Z52 -> 42710 | AB52: =A52 -> 印尼 | AC52: =J52 -> 3220 | AD52: =S52 -> 14490 | AE52: =Z52 -> 25000 | AG52: =A52 -> 印尼 | AH52: 設計 | AI52: USD | AJ52: =IF($U$5=FALSE,0,IF(C52=FALSE,0,HLOOKUP(選項!$N$2,D年費表!$AH$2:$BG$19,14))) -> 0 | AM52: =IF($S$7=FALSE,0,SUM(AJ52:AL52)) -> 0 | AN52: =AM52*$J$5 -> 0 | AO52: USD | AP52: =IF($U$6=FALSE,0,IF(C52=FALSE,0,HLOOKUP(選項!$N$2,D年費表!$AH$24:$BG$41,14))) -> 0 | AS52: =IF($S$7=FALSE,0,SUM(AP52:AR52)) -> 0 | AT52: =AS52*$J$5 -> 0 | AU52: =AN52+AT52 -> 0 | AV52: =IF($U$7=FALSE,0,IF(C52=FALSE,0,HLOOKUP(選項!$N$2,D年費表!$AH$46:$BG$63,14))) -> 0 | AW52: =IF($S$7=FALSE,0,SUM(AV52:AV52)) -> 0 | AX52: =AU52+AW52 -> 0 | AY52: =A52 -> 印尼 | AZ52: =AN52 -> 0 | BA52: =AT52 -> 0 | BB52: =AW52 -> 0
A53: 越南 | B53: 設計 | C53: =C29 -> TRUE | D53: VND | E53: =IF(選項!$K$2=1,0,IF($B$5>0,IF($U$5=FALSE,0,IF(C53=FALSE,0,160000)),0)) -> 160000 | I53: =IF($S$8=FALSE,0,SUM(E53:H53)) -> 160000 | J53: =I53*$L$7 -> 224 | K53: USD | M53: =IF(選項!$K$2=1,0,IF($B$5>0,IF($U$6=FALSE,0,IF(C53=FALSE,0,110+1000)),0)) -> 1110 | R53: =IF($S$8=FALSE,0,SUM(L53:Q53)) -> 1110 | S53: =R53*$J$5 -> 35742 | T53: =J53+S53 -> 35966 | U53: =IF(選項!$K$2=1,0,IF($B$5>0,IF($U$7=FALSE,0,IF(C53=FALSE,0,25000)),0)) -> 25000 | Z53: =IF($S$8=FALSE,0,SUM(U53:Y53)) -> 25000 | AA53: =T53+Z53 -> 60966 | AB53: =A53 -> 越南 | AC53: =J53 -> 224 | AD53: =S53 -> 35742 | AE53: =Z53 -> 25000 | AG53: =A53 -> 越南 | AH53: 設計 | AI53: VND | AJ53: =IF(選項!$K$2=1,0,IF($U$5=FALSE,0,IF(C53=FALSE,0,HLOOKUP(選項!$N$2,D年費表!$AH$2:$BG$19,15)))) -> 2400000 | AM53: =IF($S$7=FALSE,0,SUM(AJ53:AL53)) -> 2400000 | AN53: =AM53*$L$7 -> 3360 | AO53: USD | AP53: =IF(選項!$K$2=1,0,IF($U$6=FALSE,0,IF(C53=FALSE,0,HLOOKUP(選項!$N$2,D年費表!$AH$24:$BG$41,15)))) -> 320 | AS53: =IF($S$7=FALSE,0,SUM(AP53:AR53)) -> 320 | AT53: =AS53*$J$5 -> 10304 | AU53: =AN53+AT53 -> 13664 | AV53: =IF(選項!$K$2=1,0,IF($U$7=FALSE,0,IF(C53=FALSE,0,HLOOKUP(選項!$N$2,D年費表!$AH$46:$BG$63,15)))) -> 10000 | AW53: =IF($S$7=FALSE,0,SUM(AV53:AV53)) -> 10000 | AX53: =AU53+AW53 -> 23664 | AY53: =A53 -> 越南 | AZ53: =AN53 -> 3360 | BA53: =AT53 -> 10304 | BB53: =AW53 -> 10000
A54: 泰國 | B54: 設計 | C54: =C30 -> TRUE | D54: THB | E54: =IF($B$5>0,IF($U$5=FALSE,0,IF(C54=FALSE,0,50)),0) -> 50 | G54: =IF($B$5>0,IF($U$5=FALSE,0,IF(C54=FALSE,0,($B$5-1)*50)),0) -> 0 | I54: =IF($S$8=FALSE,0,SUM(E54:H54)) -> 50 | J54: =I54*$J$9 -> 52.5 | K54: THB | M54: =IF($B$5>0,IF($U$6=FALSE,0,IF(C54=FALSE,0,6000+2800+6000)),0) -> 14800 | P54: =IF($B$5>0,IF($U$6=FALSE,0,IF(C54=FALSE,0,($B$5-1)*(6000+2800+6000))),0) -> 0 | R54: =IF($S$8=FALSE,0,SUM(L54:Q54)) -> 14800 | S54: =R54*$J$9 -> 15540 | T54: =J54+S54 -> 15592.5 | U54: =IF($B$5>0,IF($U$7=FALSE,0,IF(C54=FALSE,0,$B$5*25000)),0) -> 25000 | Z54: =IF($S$8=FALSE,0,SUM(U54:Y54)) -> 25000 | AA54: =T54+Z54 -> 40592.5 | AB54: =A54 -> 泰國 | AC54: =J54 -> 52.5 | AD54: =S54 -> 15540 | AE54: =Z54 -> 25000 | AG54: =A54 -> 泰國 | AH54: 設計 | AI54: THB | AJ54: =IF($U$5=FALSE,0,IF(C54=FALSE,0,HLOOKUP(選項!$N$2,D年費表!$AH$2:$BG$19,16))) -> 8250 | AM54: =IF($S$7=FALSE,0,SUM(AJ54:AL54)) -> 8250 | AN54: =AM54*$J$9 -> 8662.5 | AO54: THB | AP54: =IF($U$6=FALSE,0,IF(C54=FALSE,0,HLOOKUP(選項!$N$2,D年費表!$AH$24:$BG$41,16))) -> 19200 | AS54: =IF($S$7=FALSE,0,SUM(AP54:AR54)) -> 19200 | AT54: =AS54*$J$9 -> 20160 | AU54: =AN54+AT54 -> 28822.5 | AV54: =IF($U$7=FALSE,0,IF(C54=FALSE,0,HLOOKUP(選項!$N$2,D年費表!$AH$46:$BG$63,16))) -> 30000 | AW54: =IF($S$7=FALSE,0,SUM(AV54:AV54)) -> 30000 | AX54: =AU54+AW54 -> 58822.5 | AY54: =A54 -> 泰國 | AZ54: =AN54 -> 8662.5 | BA54: =AT54 -> 20160 | BB54: =AW54 -> 30000
A55: 印度 | B55: 設計 | C55: =C31 -> TRUE | D55: USD | I55: =IF($S$8=FALSE,0,SUM(E55:H55)) -> 0 | J55: =I55*$J$5 -> 0 | K55: USD | L55: =IF($B$5>0,IF($U$6=FALSE,0,IF(C55=FALSE,0,200)),0) -> 200 | M55: =IF($B$5>0,IF($U$6=FALSE,0,IF(C55=FALSE,0,250)),0) -> 250 | P55: =IF($B$5>0,IF($U$6=FALSE,0,IF(C55=FALSE,0,($B$5-1)*(200+250))),0) -> 0 | R55: =IF($S$8=FALSE,0,SUM(L55:Q55)) -> 450 | S55: =R55*$J$5 -> 14490 | T55: =J55+S55 -> 14490 | U55: =IF($B$5>0,IF($U$7=FALSE,0,IF(C55=FALSE,0,$B$5*25000)),0) -> 25000 | Z55: =IF($S$8=FALSE,0,SUM(U55:Y55)) -> 25000 | AA55: =T55+Z55 -> 39490 | AB55: =A55 -> 印度 | AC55: =J55 -> 0 | AD55: =S55 -> 14490 | AE55: =Z55 -> 25000 | AG55: =A55 -> 印度 | AH55: 設計 | AI55: USD | AJ55: =IF($U$5=FALSE,0,IF(C55=FALSE,0,HLOOKUP(選項!$N$2,D年費表!$AH$2:$BG$19,17))) -> 114 | AM55: =IF($S$7=FALSE,0,SUM(AJ55:AL55)) -> 114 | AN55: =AM55*$J$5 -> 3670.8 | AO55: USD | AP55: =IF($U$6=FALSE,0,IF(C55=FALSE,0,HLOOKUP(選項!$N$2,D年費表!$AH$24:$BG$41,17))) -> 100 | AS55: =IF($S$7=FALSE,0,SUM(AP55:AR55)) -> 100 | AT55: =AS55*$J$5 -> 3220 | AU55: =AN55+AT55 -> 6890.8 | AV55: =IF($U$7=FALSE,0,IF(C55=FALSE,0,HLOOKUP(選項!$N$2,D年費表!$AH$46:$BG$63,17))) -> 5000 | AW55: =IF($S$7=FALSE,0,SUM(AV55:AV55)) -> 5000 | AX55: =AU55+AW55 -> 11890.8 | AY55: =A55 -> 印度 | AZ55: =AN55 -> 3670.8 | BA55: =AT55 -> 3220 | BB55: =AW55 -> 5000
I56: 合計 | J56: =SUM(J40:J55) -> 3496.5 | R56: 合計 | S56: =SUM(S40:S55) -> 285731 | T56: =SUM(T40:T55) -> 289227.5 | Z56: =SUM(Z40:Z55) -> 270000 | AA56: =SUM(AA40:AA55) -> 559227.5 | AC56: =SUM(AC40:AC55) -> 3496.5 | AD56: =SUM(AD40:AD55) -> 285731 | AE56: =SUM(AE40:AE55) -> 270000 | AM56: 合計 | AN56: =SUM(AN40:AN55) -> 443262.07 | AS56: 合計 | AT56: =SUM(AT40:AT55) -> 297402.5 | AU56: =SUM(AU40:AU55) -> 740664.57 | AV56: =SUM(AV40:AV55) -> 408000 | AW56: =SUM(AW40:AW55) -> 408000 | AX56: =SUM(AX40:AX55) -> 1148664.6 | AZ56: =SUM(AZ40:AZ55) -> 443262.07 | BA56: =SUM(BA40:BA55) -> 297402.5 | BB56: =SUM(BB40:BB55) -> 408000
AJ57: ↑↑↑↑ | AP57: ↑↑↑↑ | AV57: ↑↑↑↑
AJ58: 如果有新增國別或調整國別排列順序，要記得重新設定上面三個欄位中的HLOOKUP的最後一個索引欄位數值是否由上而下依序順號，只要沒有順號，HLOOKUP抓出來的金額就會是錯的
A60: 備註：
A61: *上表計算結果僅係概估費用，皆假設每件申請案中只包含「單一設計」，並「不」包含以下費用：
A62: 1. 個別案件之「主張優先權」、「申請優先權證」、「提呈IDS」、「補正文件」等額外程序費用。
A63: 2. 各地區官方或代理人因設計圖數過多所收取的「超圖費」。
A64: 3. 將近似設計「併案申請」所可能產生的額外官方費用與外國代理人費。
A65: 4. 個別案件後續可能發生的核駁答辯費用，以及領取專利證書的費用。
A66: *設計專利最長保護年限達10年的地區：大陸、泰國、印尼。
A67: *設計專利最長保護年限達15年的地區：台灣、美國、新加坡、越南。
A68: *設計專利最長保護年限達20年的地區：韓國。
A69: *設計專利最長保護年限達25年的地區：日本、歐盟、馬來西亞。
A70: *「設計專利無需實審」的地區：大陸、歐盟、新加坡。
A71: *近似設計「可併案申請」的地區：大陸、美國、歐盟、韓國、新加坡、越南、馬來西亞、印尼。
... A73: *泰國案申請前需要在台辦理委任書(POA)的公證跟認證程序。

Sheet D年費表
A1: 各年度官費 | D1: 各年官費（領證費會包含「第一次年費」，所以「第一次年費」要填0，以避免重複計算） | AE1: 不同繳納年數之累計官費 | AH1: 繳費年數，領證會含第一次年費，所以年費不能從第1年起算
A2: 申請地區 | B2: 類型 | C2: 幣別 | D2: 1 | E2: 2 | F2: 3 | G2: 4 | H2: 5 | I2: 6 | J2: 7 | K2: 8 | L2: 9 | M2: 10 | N2: 11 | O2: 12 | P2: 13 | Q2: 14 | R2: 15 | S2: 16 | T2: 17 | U2: 18 | V2: 19 | W2: 20 | X2: 21 | Y2: 22 | Z2: 23 | AA2: 24 | AB2: 25 | AC2: 小計 | AE2: 申請地區 | AF2: 類型 | AG2: 幣別 | AH2: 1 | AI2: 2 | AJ2: 3 | AK2: 4 | AL2: 5 | AM2: 6 | AN2: 7 | AO2: 8 | AP2: 9 | AQ2: 10 | AR2: 11 | AS2: 12 | AT2: 13 | AU2: 14 | AV2: 15 | AW2: 16 | AX2: 17 | AY2: 18 | AZ2: 19 | BA2: 20 | BB2: 21 | BC2: 22 | BD2: 23 | BE2: 24 | BF2: 25 | BG2: 最大年限
A3: 台灣 | B3: 設計 | C3: NTD | E3: =IF(設計案成本估算!$B$10="大企業",800,0)*設計案成本估算!$B$5 -> 0 | F3: =IF(設計案成本估算!$B$10="大企業",800,0)*設計案成本估算!$B$5 -> 0 | G3: =IF(設計案成本估算!$B$5>0,IF(設計案成本估算!$B$10="大企業",2000,800)*設計案成本估算!$B$5,0) -> 800 | H3: =IF(設計案成本估算!$B$5>0,IF(設計案成本估算!$B$10="大企業",2000,800)*設計案成本估算!$B$5,0) -> 800 | I3: =IF(設計案成本估算!$B$5>0,IF(設計案成本估算!$B$10="大企業",2000,800)*設計案成本估算!$B$5,0) -> 800 | J3: =IF(設計案成本估算!$B$5>0,IF(設計案成本估算!$B$10="大企業",3000,3000)*設計案成本估算!$B$5,0) -> 3000 | K3: =IF(設計案成本估算!$B$5>0,IF(設計案成本估算!$B$10="大企業",3000,3000)*設計案成本估算!$B$5,0) -> 3000 | L3: =IF(設計案成本估算!$B$5>0,IF(設計案成本估算!$B$10="大企業",3000,3000)*設計案成本估算!$B$5,0) -> 3000 | M3: =IF(設計案成本估算!$B$5>0,IF(設計案成本估算!$B$10="大企業",3000,3000)*設計案成本估算!$B$5,0) -> 3000 | N3: =IF(設計案成本估算!$B$5>0,IF(設計案成本估算!$B$10="大企業",3000,3000)*設計案成本估算!$B$5,0) -> 3000 | O3: =IF(設計案成本估算!$B$5>0,IF(設計案成本估算!$B$10="大企業",3000,3000)*設計案成本估算!$B$5,0) -> 3000 | P3: =IF(設計案成本估算!$B$5>0,IF(設計案成本估算!$B$10="大企業",3000,3000)*設計案成本估算!$B$5,0) -> 3000 | Q3: =IF(設計案成本估算!$B$5>0,IF(設計案成本估算!$B$10="大企業",3000,3000)*設計案成本估算!$B$5,0) -> 3000 | R3: =IF(設計案成本估算!$B$5>0,IF(設計案成本估算!$B$10="大企業",3000,3000)*設計案成本估算!$B$5,0) -> 3000 | AC3: =SUM(D3:AB3) -> 29400 | AE3: 台灣 | AF3: =B3 -> 設計 | AG3: =C3 -> NTD | AH3: =D3 -> 0 | AI3: =AH3+E3 -> 0 | AJ3: =AI3+F3 -> 0 | AK3: =AJ3+G3 -> 800 | AL3: =AK3+H3 -> 1600 | AM3: =AL3+I3 -> 2400 | AN3: =AM3+J3 -> 5400 | AO3: =AN3+K3 -> 8400 | AP3: =AO3+L3 -> 11400 | ... BF3: =BE3+AB3 -> 29400 | BG3: =BF3 -> 29400
A4: 大陸 | B4: 設計 | C4: CNY | E4: =IF(設計案成本估算!$B$5>0,ROUNDUP(設計案成本估算!$B$5/10,0)*600,0) -> 600 | F4: =IF(設計案成本估算!$B$5>0,ROUNDUP(設計案成本估算!$B$5/10,0)*600,0) -> 600 | G4: =IF(設計案成本估算!$B$5>0,ROUNDUP(設計案成本估算!$B$5/10,0)*900,0) -> 900 | H4: =IF(設計案成本估算!$B$5>0,ROUNDUP(設計案成本估算!$B$5/10,0)*900,0) -> 900 | I4: =IF(設計案成本估算!$B$5>0,ROUNDUP(設計案成本估算!$B$5/10,0)*1200,0) -> 1200 | J4: =IF(設計案成本估算!$B$5>0,ROUNDUP(設計案成本估算!$B$5/10,0)*1200,0) -> 1200 | K4: =IF(設計案成本估算!$B$5>0,ROUNDUP(設計案成本估算!$B$5/10,0)*1200,0) -> 1200 | L4: =IF(設計案成本估算!$B$5>0,ROUNDUP(設計案成本估算!$B$5/10,0)*2000,0) -> 2000 | M4: =IF(設計案成本估算!$B$5>0,ROUNDUP(設計案成本估算!$B$5/10,0)*2000,0) -> 2000 | N4: =IF(設計案成本估算!$B$5>0,ROUNDUP(設計案成本估算!$B$5/10,0)*3000,0) -> 3000 | O4: =IF(設計案成本估算!$B$5>0,ROUNDUP(設計案成本估算!$B$5/10,0)*3000,0) -> 3000 | P4: =IF(設計案成本估算!$B$5>0,ROUNDUP(設計案成本估算!$B$5/10,0)*3000,0) -> 3000 | Q4: =IF(設計案成本估算!$B$5>0,ROUNDUP(設計案成本估算!$B$5/10,0)*3000,0) -> 3000 | R4: =IF(設計案成本估算!$B$5>0,ROUNDUP(設計案成本估算!$B$5/10,0)*3000,0) -> 3000 | AC4: =SUM(D4:AB4) -> 25600 | AE4: 大陸 | AF4: =B4 -> 設計 | AG4: =C4 -> CNY | AH4: =D4 -> 0 | AI4: =AH4+E4 -> 600 | AJ4: =AI4+F4 -> 1200 | AK4: =AJ4+G4 -> 2100 | AL4: =AK4+H4 -> 3000 | AM4: =AL4+I4 -> 4200 | AN4: =AM4+J4 -> 5400 | AO4: =AN4+K4 -> 6600 | AP4: =AO4+L4 -> 8600 | ... BF4: =BE4+AB4 -> 25600 | BG4: =BF4 -> 25600
A5: 美國 | B5: 設計 | C5: USD | AC5: =SUM(D5:AB5) -> 0 | AE5: 美國 | AF5: =B5 -> 設計 | AG5: =C5 -> USD | AH5: =D5 -> 0 | AI5: =AH5+E5 -> 0 | AJ5: =AI5+F5 -> 0 | AK5: =AJ5+G5 -> 0 | AL5: =AK5+H5 -> 0 | AM5: =AL5+I5 -> 0 | AN5: =AM5+J5 -> 0 | AO5: =AN5+K5 -> 0 | AP5: =AO5+L5 -> 0 | ... BF5: =BE5+AB5 -> 0 | BG5: =BF5 -> 0
A6: 歐盟 | B6: 設計 | C6: EUR | I6: =IF(設計案成本估算!$B$5>0,150*設計案成本估算!$B$5,0) -> 150 | N6: =IF(設計案成本估算!$B$5>0,250*設計案成本估算!$B$5,0) -> 250 | S6: =IF(設計案成本估算!$B$5>0,400*設計案成本估算!$B$5,0) -> 400 | X6: =IF(設計案成本估算!$B$5>0,700*設計案成本估算!$B$5,0) -> 700 | AC6: =SUM(D6:AB6) -> 1500 | AE6: 歐盟 | AF6: =B6 -> 設計 | AG6: =C6 -> EUR | AH6: =D6 -> 0 | AI6: =AH6+E6 -> 0 | AJ6: =AI6+F6 -> 0 | AK6: =AJ6+G6 -> 0 | AL6: =AK6+H6 -> 0 | AM6: =AL6+I6 -> 150 | AN6: =AM6+J6 -> 150 | AO6: =AN6+K6 -> 150 | AP6: =AO6+L6 -> 150 | ... BF6: =BE6+AB6 -> 1500 | BG6: =BF6 -> 1500
A7: 英國 | B7: 設計 | C7: EUR | I7: =IF(設計案成本估算!$B$5>0,90*設計案成本估算!$B$5,0) -> 90 | N7: =IF(設計案成本估算!$B$5>0,115*設計案成本估算!$B$5,0) -> 115 | S7: =IF(設計案成本估算!$B$5>0,140*設計案成本估算!$B$5,0) -> 140 | X7: =IF(設計案成本估算!$B$5>0,175*設計案成本估算!$B$5,0) -> 175 | AC7: =SUM(D7:AB7) -> 520 | AE7: 英國 | AF7: =B7 -> 設計 | AG7: =C7 -> EUR | AH7: =D7 -> 0 | AI7: =AH7+E7 -> 0 | AJ7: =AI7+F7 -> 0 | AK7: =AJ7+G7 -> 0 | AL7: =AK7+H7 -> 0 | AM7: =AL7+I7 -> 90 | AN7: =AM7+J7 -> 90 | AO7: =AN7+K7 -> 90 | AP7: =AO7+L7 -> 90 | ... BF7: =BE7+AB7 -> 520 | BG7: =BF7 -> 520
A8: 日本 | B8: 設計 | C8: JPY | G8: =IF(設計案成本估算!$B$5>0,16900*設計案成本估算!$B$5,0) -> 16900 | H8: =IF(設計案成本估算!$B$5>0,16900*設計案成本估算!$B$5,0) -> 16900 | I8: =IF(設計案成本估算!$B$5>0,16900*設計案成本估算!$B$5,0) -> 16900 | J8: =IF(設計案成本估算!$B$5>0,16900*設計案成本估算!$B$5,0) -> 16900 | K8: =IF(設計案成本估算!$B$5>0,16900*設計案成本估算!$B$5,0) -> 16900 | L8: =IF(設計案成本估算!$B$5>0,16900*設計案成本估算!$B$5,0) -> 16900 | M8: =IF(設計案成本估算!$B$5>0,16900*設計案成本估算!$B$5,0) -> 16900 | N8: =IF(設計案成本估算!$B$5>0,16900*設計案成本估算!$B$5,0) -> 16900 | ... AB8: =IF(設計案成本估算!$B$5>0,16900*設計案成本估算!$B$5,0) -> 16900 | AC8: =SUM(D8:AB8) -> 371800 | AE8: 日本 | AF8: =B8 -> 設計 | AG8: =C8 -> JPY | AH8: =D8 -> 0 | AI8: =AH8+E8 -> 0 | AJ8: =AI8+F8 -> 0 | AK8: =AJ8+G8 -> 16900 | AL8: =AK8+H8 -> 33800 | AM8: =AL8+I8 -> 50700 | AN8: =AM8+J8 -> 67600 | AO8: =AN8+K8 -> 84500 | AP8: =AO8+L8 -> 101400 | ... BF8: =BE8+AB8 -> 371800 | BG8: =BF8 -> 371800
A9: 韓國 | B9: 設計 | C9: KRW | G9: =IF(設計案成本估算!$B$5>0,35000*設計案成本估算!$B$5,0) -> 35000 | H9: =IF(設計案成本估算!$B$5>0,35000*設計案成本估算!$B$5,0) -> 35000 | I9: =IF(設計案成本估算!$B$5>0,35000*設計案成本估算!$B$5,0) -> 35000 | J9: =IF(設計案成本估算!$B$5>0,70000*設計案成本估算!$B$5,0) -> 70000 | K9: =IF(設計案成本估算!$B$5>0,70000*設計案成本估算!$B$5,0) -> 70000 | L9: =IF(設計案成本估算!$B$5>0,70000*設計案成本估算!$B$5,0) -> 70000 | M9: =IF(設計案成本估算!$B$5>0,140000*設計案成本估算!$B$5,0) -> 140000 | N9: =IF(設計案成本估算!$B$5>0,140000*設計案成本估算!$B$5,0) -> 140000 | O9: =IF(設計案成本估算!$B$5>0,140000*設計案成本估算!$B$5,0) -> 140000 | P9: =IF(設計案成本估算!$B$5>0,210000*設計案成本估算!$B$5,0) -> 210000 | Q9: =IF(設計案成本估算!$B$5>0,210000*設計案成本估算!$B$5,0) -> 210000 | R9: =IF(設計案成本估算!$B$5>0,210000*設計案成本估算!$B$5,0) -> 210000 | S9: =IF(設計案成本估算!$B$5>0,210000*設計案成本估算!$B$5,0) -> 210000 | T9: =IF(設計案成本估算!$B$5>0,210000*設計案成本估算!$B$5,0) -> 210000 | U9: =IF(設計案成本估算!$B$5>0,210000*設計案成本估算!$B$5,0) -> 210000 | V9: =IF(設計案成本估算!$B$5>0,210000*設計案成本估算!$B$5,0) -> 210000 | W9: =IF(設計案成本估算!$B$5>0,210000*設計案成本估算!$B$5,0) -> 210000 | AC9: =SUM(D9:AB9) -> 2415000 | AE9: 韓國 | AF9: =B9 -> 設計 | AG9: =C9 -> KRW | AH9: =D9 -> 0 | AI9: =AH9+E9 -> 0 | AJ9: =AI9+F9 -> 0 | AK9: =AJ9+G9 -> 35000 | AL9: =AK9+H9 -> 70000 | AM9: =AL9+I9 -> 105000 | AN9: =AM9+J9 -> 175000 | AO9: =AN9+K9 -> 245000 | AP9: =AO9+L9 -> 315000 | ... BF9: =BE9+AB9 -> 2415000 | BG9: =BF9 -> 2415000
A10: 加拿大 | B10: 設計 | C10: CAD | I10: =IF(設計案成本估算!$B$5>0,517.82,0) -> 517.82 | AC10: =SUM(D10:AB10) -> 517.82 | AE10: 加拿大 | AF10: =B10 -> 設計 | AG10: =C10 -> CAD | AH10: =D10 -> 0 | AI10: =AH10+E10 -> 0 | AJ10: =AI10+F10 -> 0 | AK10: =AJ10+G10 -> 0 | AL10: =AK10+H10 -> 0 | AM10: =AL10+I10 -> 517.82 | AN10: =AM10+J10 -> 517.82 | AO10: =AN10+K10 -> 517.82 | AP10: =AO10+L10 -> 517.82 | ... BF10: =BE10+AB10 -> 517.82 | BG10: =BF10 -> 517.82
A11: 澳洲 | B11: 設計 | C11: AUD | I11: =IF(設計案成本估算!$B$5>0,400*設計案成本估算!$B$5,0) -> 400 | AC11: =SUM(D11:AB11) -> 400 | AE11: 印度 | AF11: =B11 -> 設計 | AG11: =C11 -> AUD | AH11: =D11 -> 0 | AI11: =AH11+E11 -> 0 | AJ11: =AI11+F11 -> 0 | AK11: =AJ11+G11 -> 0 | AL11: =AK11+H11 -> 0 | AM11: =AL11+I11 -> 400 | AN11: =AM11+J11 -> 400 | AO11: =AN11+K11 -> 400 | AP11: =AO11+L11 -> 400 | ... BF11: =BE11+AB11 -> 400 | BG11: =BF11 -> 400
A12: 新加坡 | B12: 設計 | C12: SGD | I12: =IF(設計案成本估算!$B$5>0,220*設計案成本估算!$B$5,0) -> 220 | N12: =IF(設計案成本估算!$B$5>0,330*設計案成本估算!$B$5,0) -> 330 | AC12: =SUM(D12:AB12) -> 550 | AE12: 新加坡 | AF12: =B12 -> 設計 | AG12: =C12 -> SGD | AH12: =D12 -> 0 | AI12: =AH12+E12 -> 0 | AJ12: =AI12+F12 -> 0 | AK12: =AJ12+G12 -> 0 | AL12: =AK12+H12 -> 0 | AM12: =AL12+I12 -> 220 | AN12: =AM12+J12 -> 220 | AO12: =AN12+K12 -> 220 | AP12: =AO12+L12 -> 220 | ... BF12: =BE12+AB12 -> 550 | BG12: =BF12 -> 550
A13: 馬來西亞 | B13: 設計 | C13: MYR | I13: =IF(設計案成本估算!$B$5>0,800*設計案成本估算!$B$5,0) -> 800 | N13: =IF(設計案成本估算!$B$5>0,800*設計案成本估算!$B$5,0) -> 800 | S13: =IF(設計案成本估算!$B$5>0,800*設計案成本估算!$B$5,0) -> 800 | X13: =IF(設計案成本估算!$B$5>0,800*設計案成本估算!$B$5,0) -> 800 | AC13: =SUM(D13:AB13) -> 3200 | AE13: 馬來西亞 | AF13: =B13 -> 設計 | AG13: =C13 -> MYR | AH13: =D13 -> 0 | AI13: =AH13+E13 -> 0 | AJ13: =AI13+F13 -> 0 | AK13: =AJ13+G13 -> 0 | AL13: =AK13+H13 -> 0 | AM13: =AL13+I13 -> 800 | AN13: =AM13+J13 -> 800 | AO13: =AN13+K13 -> 800 | AP13: =AO13+L13 -> 800 | ... BF13: =BE13+AB13 -> 3200 | BG13: =BF13 -> 3200
A14: 菲律賓 | B14: 設計 | C14: USD | I14: =IF(設計案成本估算!$B$5>0,71+41*(設計案成本估算!$B$5-1),0) -> 71 | N14: =IF(設計案成本估算!$B$5>0,119+41*(設計案成本估算!$B$5-1),0) -> 119 | AC14: =SUM(D14:AB14) -> 190 | AE14: 菲律賓 | AF14: =B14 -> 設計 | AG14: =C14 -> USD | AH14: =D14 -> 0 | AI14: =AH14+E14 -> 0 | AJ14: =AI14+F14 -> 0 | AK14: =AJ14+G14 -> 0 | AL14: =AK14+H14 -> 0 | AM14: =AL14+I14 -> 71 | AN14: =AM14+J14 -> 71 | AO14: =AN14+K14 -> 71 | AP14: =AO14+L14 -> 71 | ... BF14: =BE14+AB14 -> 190 | BG14: =BF14 -> 190
A15: 印尼 | B15: 設計 | C15: USD | AC15: =SUM(D15:AB15) -> 0 | AE15: 印尼 | AF15: =B15 -> 設計 | AG15: =C15 -> USD | AH15: =D15 -> 0 | AI15: =AH15+E15 -> 0 | AJ15: =AI15+F15 -> 0 | AK15: =AJ15+G15 -> 0 | AL15: =AK15+H15 -> 0 | AM15: =AL15+I15 -> 0 | AN15: =AM15+J15 -> 0 | AO15: =AN15+K15 -> 0 | AP15: =AO15+L15 -> 0 | ... BF15: =BE15+AB15 -> 0 | BG15: =BF15 -> 0
A16: 越南 | B16: 設計 | C16: VND | I16: =IF(設計案成本估算!$B$5>0,1200000+800000*(設計案成本估算!$B$5-1),0) -> 1200000 | N16: =IF(設計案成本估算!$B$5>0,1200000+800000*(設計案成本估算!$B$5-1),0) -> 1200000 | AC16: =3000000+IF(#REF!<2,0,2600000*(#REF!-1)) -> #REF! | AE16: 越南 | AF16: =B16 -> 設計 | AG16: =C16 -> VND | AH16: =D16 -> 0 | AI16: =AH16+E16 -> 0 | AJ16: =AI16+F16 -> 0 | AK16: =AJ16+G16 -> 0 | AL16: =AK16+H16 -> 0 | AM16: =AL16+I16 -> 1200000 | AN16: =AM16+J16 -> 1200000 | AO16: =AN16+K16 -> 1200000 | AP16: =AO16+L16 -> 1200000 | ... BF16: =BE16+AB16 -> 2400000 | BG16: =BF16 -> 2400000
A17: 泰國 | B17: 設計 | C17: THB | H17: =IF(設計案成本估算!$B$5>0,500*設計案成本估算!$B$5,0) -> 500 | I17: =IF(設計案成本估算!$B$5>0,650*設計案成本估算!$B$5,0) -> 650 | J17: =IF(設計案成本估算!$B$5>0,950*設計案成本估算!$B$5,0) -> 950 | K17: =IF(設計案成本估算!$B$5>0,1400*設計案成本估算!$B$5,0) -> 1400 | L17: =IF(設計案成本估算!$B$5>0,2000*設計案成本估算!$B$5,0) -> 2000 | M17: =IF(設計案成本估算!$B$5>0,2750*設計案成本估算!$B$5,0) -> 2750 | AC17: =SUM(D17:AB17) -> 8250 | AE17: 泰國 | AF17: =B17 -> 設計 | AG17: =C17 -> THB | AH17: =D17 -> 0 | AI17: =AH17+E17 -> 0 | AJ17: =AI17+F17 -> 0 | AK17: =AJ17+G17 -> 0 | AL17: =AK17+H17 -> 500 | AM17: =AL17+I17 -> 1150 | AN17: =AM17+J17 -> 2100 | AO17: =AN17+K17 -> 3500 | AP17: =AO17+L17 -> 5500 | ... BF17: =BE17+AB17 -> 8250 | BG17: =BF17 -> 8250
A18: 印度 | B18: 設計 | C18: USD | N18: =IF(設計案成本估算!$B$5>0,114*設計案成本估算!$B$5,0) -> 114 | AC18: =SUM(D18:AB18) -> 114 | AE18: 印度 | AF18: =B18 -> 設計 | AG18: =C18 -> USD | AH18: =D18 -> 0 | AI18: =AH18+E18 -> 0 | AJ18: =AI18+F18 -> 0 | AK18: =AJ18+G18 -> 0 | AL18: =AK18+H18 -> 0 | AM18: =AL18+I18 -> 0 | AN18: =AM18+J18 -> 0 | AO18: =AN18+K18 -> 0 | AP18: =AO18+L18 -> 0 | ... BF18: =BE18+AB18 -> 114 | BG18: =BF18 -> 114
B19: 設計 | AC19: =SUM(D19:AB19) -> 0
A20: 歐盟設計案的年費，是使用Metida的2025年度報價，而非按照CPA報價
A21: 英國設計案的年費，是使用Metida的2023年度報價，而非按照CPA報價
A23: 各年度國外代理人費 | D23: 各年官費（領證費會包含「第一次年費」，所以「第一次年費」要填0，以避免重複計算） | AE23: 累計國外代理人費 | AH23: 繳費年數，領證會含第一次年費，所以年費不能從第1年起算
A24: 申請地區 | B24: 類型 | C24: 幣別 | D24: 1 | E24: 2 | F24: 3 | G24: 4 | H24: 5 | I24: 6 | J24: 7 | K24: 8 | L24: 9 | M24: 10 | N24: 11 | O24: 12 | P24: 13 | Q24: 14 | R24: 15 | S24: 16 | T24: 17 | U24: 18 | V24: 19 | W24: 20 | X24: 21 | Y24: 22 | Z24: 23 | AA24: 24 | AB24: 25 | AC24: 小計 | AE24: 申請地區 | AF24: 類型 | AG24: 幣別 | AH24: 1 | AI24: 2 | AJ24: 3 | AK24: 4 | AL24: 5 | AM24: 6 | AN24: 7 | AO24: 8 | AP24: 9 | AQ24: 10 | AR24: 11 | AS24: 12 | AT24: 13 | AU24: 14 | AV24: 15 | AW24: 16 | AX24: 17 | AY24: 18 | AZ24: 19 | BA24: 20 | BB24: 21 | BC24: 22 | BD24: 23 | BE24: 24 | BF24: 25 | BG24: 最大年限
A25: 台灣 | B25: 設計 | C25: NTD | AC25: =SUM(D25:AB25) -> 0 | AE25: 台灣 | AF25: =B25 -> 設計 | AG25: =C25 -> NTD | AH25: =D25 -> 0 | AI25: =AH25+E25 -> 0 | AJ25: =AI25+F25 -> 0 | AK25: =AJ25+G25 -> 0 | AL25: =AK25+H25 -> 0 | AM25: =AL25+I25 -> 0 | AN25: =AM25+J25 -> 0 | AO25: =AN25+K25 -> 0 | AP25: =AO25+L25 -> 0 | ... BF25: =BE25+AB25 -> 0 | BG25: =BF25 -> 0
A26: 大陸 | B26: 設計 | C26: CNY | E26: =IF(設計案成本估算!$B$5>0,ROUNDUP(設計案成本估算!$B$5/10,0)*200,0) -> 200 | F26: =IF(設計案成本估算!$B$5>0,ROUNDUP(設計案成本估算!$B$5/10,0)*200,0) -> 200 | G26: =IF(設計案成本估算!$B$5>0,ROUNDUP(設計案成本估算!$B$5/10,0)*200,0) -> 200 | H26: =IF(設計案成本估算!$B$5>0,ROUNDUP(設計案成本估算!$B$5/10,0)*200,0) -> 200 | I26: =IF(設計案成本估算!$B$5>0,ROUNDUP(設計案成本估算!$B$5/10,0)*200,0) -> 200 | J26: =IF(設計案成本估算!$B$5>0,ROUNDUP(設計案成本估算!$B$5/10,0)*200,0) -> 200 | K26: =IF(設計案成本估算!$B$5>0,ROUNDUP(設計案成本估算!$B$5/10,0)*200,0) -> 200 | L26: =IF(設計案成本估算!$B$5>0,ROUNDUP(設計案成本估算!$B$5/10,0)*200,0) -> 200 | ... R26: =IF(設計案成本估算!$B$5>0,ROUNDUP(設計案成本估算!$B$5/10,0)*200,0) -> 200 | AC26: =SUM(D26:AB26) -> 2800 | AE26: 大陸 | AF26: =B26 -> 設計 | AG26: =C26 -> CNY | AH26: =D26 -> 0 | AI26: =AH26+E26 -> 200 | AJ26: =AI26+F26 -> 400 | AK26: =AJ26+G26 -> 600 | AL26: =AK26+H26 -> 800 | AM26: =AL26+I26 -> 1000 | AN26: =AM26+J26 -> 1200 | AO26: =AN26+K26 -> 1400 | AP26: =AO26+L26 -> 1600 | ... BF26: =BE26+AB26 -> 2800 | BG26: =BF26 -> 2800
A27: 美國 | B27: 設計 | C27: USD | AC27: =SUM(D27:AB27) -> 0 | AE27: 美國 | AF27: =B27 -> 設計 | AG27: =C27 -> USD | AH27: =D27 -> 0 | AI27: =AH27+E27 -> 0 | AJ27: =AI27+F27 -> 0 | AK27: =AJ27+G27 -> 0 | AL27: =AK27+H27 -> 0 | AM27: =AL27+I27 -> 0 | AN27: =AM27+J27 -> 0 | AO27: =AN27+K27 -> 0 | AP27: =AO27+L27 -> 0 | ... BF27: =BE27+AB27 -> 0 | BG27: =BF27 -> 0
A28: 歐盟 | B28: 設計 | C28: EUR | I28: =IF(設計案成本估算!$B$5>0,100*設計案成本估算!$B$5,0) -> 100 | N28: =IF(設計案成本估算!$B$5>0,100*設計案成本估算!$B$5,0) -> 100 | S28: =IF(設計案成本估算!$B$5>0,100*設計案成本估算!$B$5,0) -> 100 | X28: =IF(設計案成本估算!$B$5>0,100*設計案成本估算!$B$5,0) -> 100 | AC28: =SUM(D28:AB28) -> 400 | AE28: 歐盟 | AF28: =B28 -> 設計 | AG28: =C28 -> EUR | AH28: =D28 -> 0 | AI28: =AH28+E28 -> 0 | AJ28: =AI28+F28 -> 0 | AK28: =AJ28+G28 -> 0 | AL28: =AK28+H28 -> 0 | AM28: =AL28+I28 -> 100 | AN28: =AM28+J28 -> 100 | AO28: =AN28+K28 -> 100 | AP28: =AO28+L28 -> 100 | ... BF28: =BE28+AB28 -> 400 | BG28: =BF28 -> 400
A29: 英國 | B29: 設計 | C29: EUR | I29: =IF(設計案成本估算!$B$5>0,150*設計案成本估算!$B$5,0) -> 150 | N29: =IF(設計案成本估算!$B$5>0,150*設計案成本估算!$B$5,0) -> 150 | S29: =IF(設計案成本估算!$B$5>0,150*設計案成本估算!$B$5,0) -> 150 | X29: =IF(設計案成本估算!$B$5>0,150*設計案成本估算!$B$5,0) -> 150 | AC29: =SUM(D29:AB29) -> 600 | AE29: 英國 | AF29: =B29 -> 設計 | AG29: =C29 -> EUR | AH29: =D29 -> 0 | AI29: =AH29+E29 -> 0 | AJ29: =AI29+F29 -> 0 | AK29: =AJ29+G29 -> 0 | AL29: =AK29+H29 -> 0 | AM29: =AL29+I29 -> 150 | AN29: =AM29+J29 -> 150 | AO29: =AN29+K29 -> 150 | AP29: =AO29+L29 -> 150 | ... BF29: =BE29+AB29 -> 600 | BG29: =BF29 -> 600
A30: 日本 | B30: 設計 | C30: JPY | G30: =IF(設計案成本估算!$B$5>0,9000*設計案成本估算!$B$5,0) -> 9000 | H30: =IF(設計案成本估算!$B$5>0,9000*設計案成本估算!$B$5,0) -> 9000 | I30: =IF(設計案成本估算!$B$5>0,9000*設計案成本估算!$B$5,0) -> 9000 | J30: =IF(設計案成本估算!$B$5>0,9000*設計案成本估算!$B$5,0) -> 9000 | K30: =IF(設計案成本估算!$B$5>0,9000*設計案成本估算!$B$5,0) -> 9000 | L30: =IF(設計案成本估算!$B$5>0,9000*設計案成本估算!$B$5,0) -> 9000 | M30: =IF(設計案成本估算!$B$5>0,9000*設計案成本估算!$B$5,0) -> 9000 | N30: =IF(設計案成本估算!$B$5>0,10000*設計案成本估算!$B$5,0) -> 10000 | O30: =IF(設計案成本估算!$B$5>0,10000*設計案成本估算!$B$5,0) -> 10000 | P30: =IF(設計案成本估算!$B$5>0,10000*設計案成本估算!$B$5,0) -> 10000 | Q30: =IF(設計案成本估算!$B$5>0,10000*設計案成本估算!$B$5,0) -> 10000 | R30: =IF(設計案成本估算!$B$5>0,10000*設計案成本估算!$B$5,0) -> 10000 | S30: =IF(設計案成本估算!$B$5>0,10000*設計案成本估算!$B$5,0) -> 10000 | T30: =IF(設計案成本估算!$B$5>0,10000*設計案成本估算!$B$5,0) -> 10000 | U30: =IF(設計案成本估算!$B$5>0,10000*設計案成本估算!$B$5,0) -> 10000 | ... AB30: =IF(設計案成本估算!$B$5>0,10000*設計案成本估算!$B$5,0) -> 10000 | AC30: =SUM(D30:AB30) -> 213000 | AE30: 日本 | AF30: =B30 -> 設計 | AG30: =C30 -> JPY | AH30: =D30 -> 0 | AI30: =AH30+E30 -> 0 | AJ30: =AI30+F30 -> 0 | AK30: =AJ30+G30 -> 9000 | AL30: =AK30+H30 -> 18000 | AM30: =AL30+I30 -> 27000 | AN30: =AM30+J30 -> 36000 | AO30: =AN30+K30 -> 45000 | AP30: =AO30+L30 -> 54000 | ... BF30: =BE30+AB30 -> 213000 | BG30: =BF30 -> 213000
A31: 韓國 | B31: 設計 | C31: USD | G31: =IF(設計案成本估算!$B$5>0,150*設計案成本估算!$B$5,0) -> 150 | H31: =IF(設計案成本估算!$B$5>0,150*設計案成本估算!$B$5,0) -> 150 | I31: =IF(設計案成本估算!$B$5>0,150*設計案成本估算!$B$5,0) -> 150 | J31: =IF(設計案成本估算!$B$5>0,170*設計案成本估算!$B$5,0) -> 170 | K31: =IF(設計案成本估算!$B$5>0,170*設計案成本估算!$B$5,0) -> 170 | L31: =IF(設計案成本估算!$B$5>0,170*設計案成本估算!$B$5,0) -> 170 | M31: =IF(設計案成本估算!$B$5>0,190*設計案成本估算!$B$5,0) -> 190 | N31: =IF(設計案成本估算!$B$5>0,190*設計案成本估算!$B$5,0) -> 190 | O31: =IF(設計案成本估算!$B$5>0,190*設計案成本估算!$B$5,0) -> 190 | P31: =IF(設計案成本估算!$B$5>0,210*設計案成本估算!$B$5,0) -> 210 | Q31: =IF(設計案成本估算!$B$5>0,210*設計案成本估算!$B$5,0) -> 210 | R31: =IF(設計案成本估算!$B$5>0,210*設計案成本估算!$B$5,0) -> 210 | S31: =IF(設計案成本估算!$B$5>0,210*設計案成本估算!$B$5,0) -> 210 | T31: =IF(設計案成本估算!$B$5>0,210*設計案成本估算!$B$5,0) -> 210 | U31: =IF(設計案成本估算!$B$5>0,210*設計案成本估算!$B$5,0) -> 210 | V31: =IF(設計案成本估算!$B$5>0,210*設計案成本估算!$B$5,0) -> 210 | W31: =IF(設計案成本估算!$B$5>0,210*設計案成本估算!$B$5,0) -> 210 | AC31: =SUM(D31:AB31) -> 3210 | AE31: 韓國 | AF31: =B31 -> 設計 | AG31: =C31 -> USD | AH31: =D31 -> 0 | AI31: =AH31+E31 -> 0 | AJ31: =AI31+F31 -> 0 | AK31: =AJ31+G31 -> 150 | AL31: =AK31+H31 -> 300 | AM31: =AL31+I31 -> 450 | AN31: =AM31+J31 -> 620 | AO31: =AN31+K31 -> 790 | AP31: =AO31+L31 -> 960 | ... BF31: =BE31+AB31 -> 3210 | BG31: =BF31 -> 3210
A32: 加拿大 | B32: 設計 | C32: CAD | I32: 315 | AC32: =SUM(D32:AB32) -> 315 | AE32: 加拿大 | AF32: =B32 -> 設計 | AG32: =C32 -> CAD | AH32: =D32 -> 0 | AI32: =AH32+E32 -> 0 | AJ32: =AI32+F32 -> 0 | AK32: =AJ32+G32 -> 0 | AL32: =AK32+H32 -> 0 | AM32: =AL32+I32 -> 315 | AN32: =AM32+J32 -> 315 | AO32: =AN32+K32 -> 315 | AP32: =AO32+L32 -> 315 | ... BF32: =BE32+AB32 -> 315 | BG32: =BF32 -> 315
A33: 澳洲 | B33: 設計 | C33: AUD | I33: =IF(設計案成本估算!$B$5>0,570*設計案成本估算!$B$5,0) -> 570 | AC33: =SUM(D33:AB33) -> 570 | AE33: 印度 | AF33: =B33 -> 設計 | AG33: =C33 -> AUD | AH33: =D33 -> 0 | AI33: =AH33+E33 -> 0 | AJ33: =AI33+F33 -> 0 | AK33: =AJ33+G33 -> 0 | AL33: =AK33+H33 -> 0 | AM33: =AL33+I33 -> 570 | AN33: =AM33+J33 -> 570 | AO33: =AN33+K33 -> 570 | AP33: =AO33+L33 -> 570 | ... BF33: =BE33+AB33 -> 570 | BG33: =BF33 -> 570
A34: 新加坡 | B34: 設計 | C34: SGD | I34: =IF(設計案成本估算!$B$5>0,500*設計案成本估算!$B$5,0) -> 500 | N34: =IF(設計案成本估算!$B$5>0,400*設計案成本估算!$B$5,0) -> 400 | AC34: =SUM(D34:AB34) -> 900 | AE34: 新加坡 | AF34: =B34 -> 設計 | AG34: =C34 -> SGD | AH34: =D34 -> 0 | AI34: =AH34+E34 -> 0 | AJ34: =AI34+F34 -> 0 | AK34: =AJ34+G34 -> 0 | AL34: =AK34+H34 -> 0 | AM34: =AL34+I34 -> 500 | AN34: =AM34+J34 -> 500 | AO34: =AN34+K34 -> 500 | AP34: =AO34+L34 -> 500 | ... BF34: =BE34+AB34 -> 900 | BG34: =BF34 -> 900
A35: 馬來西亞 | B35: 設計 | C35: MYR | I35: =IF(設計案成本估算!$B$5>0,600*設計案成本估算!$B$5,0) -> 600 | N35: =IF(設計案成本估算!$B$5>0,600*設計案成本估算!$B$5,0) -> 600 | S35: =IF(設計案成本估算!$B$5>0,600*設計案成本估算!$B$5,0) -> 600 | X35: =IF(設計案成本估算!$B$5>0,600*設計案成本估算!$B$5,0) -> 600 | AC35: =SUM(D35:AB35) -> 2400 | AE35: 馬來西亞 | AF35: =B35 -> 設計 | AG35: =C35 -> MYR | AH35: =D35 -> 0 | AI35: =AH35+E35 -> 0 | AJ35: =AI35+F35 -> 0 | AK35: =AJ35+G35 -> 0 | AL35: =AK35+H35 -> 0 | AM35: =AL35+I35 -> 600 | AN35: =AM35+J35 -> 600 | AO35: =AN35+K35 -> 600 | AP35: =AO35+L35 -> 600 | ... BF35: =BE35+AB35 -> 2400 | BG35: =BF35 -> 2400
A36: 菲律賓 | B36: 設計 | C36: USD | I36: =IF(設計案成本估算!$B$5>0,100,0) -> 100 | N36: =IF(設計案成本估算!$B$5>0,100,0) -> 100 | AC36: =SUM(D36:AB36) -> 200 | AE36: 菲律賓 | AF36: =B36 -> 設計 | AG36: =C36 -> USD | AH36: =D36 -> 0 | AI36: =AH36+E36 -> 0 | AJ36: =AI36+F36 -> 0 | AK36: =AJ36+G36 -> 0 | AL36: =AK36+H36 -> 0 | AM36: =AL36+I36 -> 100 | AN36: =AM36+J36 -> 100 | AO36: =AN36+K36 -> 100 | AP36: =AO36+L36 -> 100 | ... BF36: =BE36+AB36 -> 200 | BG36: =BF36 -> 200
A37: 印尼 | B37: 設計 | C37: USD | AC37: =SUM(D37:AB37) -> 0 | AE37: 印尼 | AF37: =B37 -> 設計 | AG37: =C37 -> USD | AH37: =D37 -> 0 | AI37: =AH37+E37 -> 0 | AJ37: =AI37+F37 -> 0 | AK37: =AJ37+G37 -> 0 | AL37: =AK37+H37 -> 0 | AM37: =AL37+I37 -> 0 | AN37: =AM37+J37 -> 0 | AO37: =AN37+K37 -> 0 | AP37: =AO37+L37 -> 0 | ... BF37: =BE37+AB37 -> 0 | BG37: =BF37 -> 0
A38: 越南 | B38: 設計 | C38: USD | I38: =IF(設計案成本估算!$B$5>0,160+11*(設計案成本估算!$B$5-1),0) -> 160 | N38: =IF(設計案成本估算!$B$5>0,160+11*(設計案成本估算!$B$5-1),0) -> 160 | AC38: =SUM(D38:AB38) -> 320 | AE38: 越南 | AF38: =B38 -> 設計 | AG38: =C38 -> USD | AH38: =D38 -> 0 | AI38: =AH38+E38 -> 0 | AJ38: =AI38+F38 -> 0 | AK38: =AJ38+G38 -> 0 | AL38: =AK38+H38 -> 0 | AM38: =AL38+I38 -> 160 | AN38: =AM38+J38 -> 160 | AO38: =AN38+K38 -> 160 | AP38: =AO38+L38 -> 160 | ... BF38: =BE38+AB38 -> 320 | BG38: =BF38 -> 320
A39: 泰國 | B39: 設計 | C39: THB | H39: =IF(設計案成本估算!$B$5>0,3200*設計案成本估算!$B$5,0) -> 3200 | I39: =IF(設計案成本估算!$B$5>0,3200*設計案成本估算!$B$5,0) -> 3200 | J39: =IF(設計案成本估算!$B$5>0,3200*設計案成本估算!$B$5,0) -> 3200 | K39: =IF(設計案成本估算!$B$5>0,3200*設計案成本估算!$B$5,0) -> 3200 | L39: =IF(設計案成本估算!$B$5>0,3200*設計案成本估算!$B$5,0) -> 3200 | M39: =IF(設計案成本估算!$B$5>0,3200*設計案成本估算!$B$5,0) -> 3200 | AC39: =SUM(D39:AB39) -> 19200 | AE39: 泰國 | AF39: =B39 -> 設計 | AG39: =C39 -> THB | AH39: =D39 -> 0 | AI39: =AH39+E39 -> 0 | AJ39: =AI39+F39 -> 0 | AK39: =AJ39+G39 -> 0 | AL39: =AK39+H39 -> 3200 | AM39: =AL39+I39 -> 6400 | AN39: =AM39+J39 -> 9600 | AO39: =AN39+K39 -> 12800 | AP39: =AO39+L39 -> 16000 | ... BF39: =BE39+AB39 -> 19200 | BG39: =BF39 -> 19200
A40: 印度 | B40: 設計 | C40: USD | N40: =IF(設計案成本估算!$B$5>0,100*設計案成本估算!$B$5,0) -> 100 | AC40: =SUM(D40:AB40) -> 100 | AE40: 印度 | AF40: =B40 -> 設計 | AG40: =C40 -> USD | AH40: =D40 -> 0 | AI40: =AH40+E40 -> 0 | AJ40: =AI40+F40 -> 0 | AK40: =AJ40+G40 -> 0 | AL40: =AK40+H40 -> 0 | AM40: =AL40+I40 -> 0 | AN40: =AM40+J40 -> 0 | AO40: =AN40+K40 -> 0 | AP40: =AO40+L40 -> 0 | ... BF40: =BE40+AB40 -> 100 | BG40: =BF40 -> 100
B41: 設計 | AC41: =SUM(D41:AB41) -> 0
A42: 歐盟設計案的年費，是使用Metida的2025年度報價，而非按照CPA報價
A43: 英國設計案的年費，是使用Metida的2023年度報價，而非按照CPA報價
A45: 各年度慧盈服務費 | D45: 各年官費（領證費會包含「第一次年費」，所以「第一次年費」要填0，以避免重複計算） | AE45: 累計慧盈服務費 | AH45: 繳費年數，領證會含第一次年費，所以年費不能從第1年起算
A46: 申請地區 | B46: 類型 | C46: 幣別 | D46: 1 | E46: 2 | F46: 3 | G46: 4 | H46: 5 | I46: 6 | J46: 7 | K46: 8 | L46: 9 | M46: 10 | N46: 11 | O46: 12 | P46: 13 | Q46: 14 | R46: 15 | S46: 16 | T46: 17 | U46: 18 | V46: 19 | W46: 20 | X46: 21 | Y46: 22 | Z46: 23 | AA46: 24 | AB46: 25 | AC46: 小計 | AE46: 申請地區 | AF46: 類型 | AG46: 幣別 | AH46: 1 | AI46: 2 | AJ46: 3 | AK46: 4 | AL46: 5 | AM46: 6 | AN46: 7 | AO46: 8 | AP46: 9 | AQ46: 10 | AR46: 11 | AS46: 12 | AT46: 13 | AU46: 14 | AV46: 15 | AW46: 16 | AX46: 17 | AY46: 18 | AZ46: 19 | BA46: 20 | BB46: 21 | BC46: 22 | BD46: 23 | BE46: 24 | BF46: 25 | BG46: 最大年限
A47: 台灣 | B47: 設計 | C47: NTD | E47: =IF(設計案成本估算!$B$5>0,IF(設計案成本估算!$B$10="大企業",3000,0)*設計案成本估算!$B$5,0) -> 0 | F47: =IF(設計案成本估算!$B$5>0,IF(設計案成本估算!$B$10="大企業",3000,0)*設計案成本估算!$B$5,0) -> 0 | G47: =IF(設計案成本估算!$B$5>0,3000*設計案成本估算!$B$5,0) -> 3000 | H47: =IF(設計案成本估算!$B$5>0,3000*設計案成本估算!$B$5,0) -> 3000 | I47: =IF(設計案成本估算!$B$5>0,3000*設計案成本估算!$B$5,0) -> 3000 | J47: =IF(設計案成本估算!$B$5>0,3000*設計案成本估算!$B$5,0) -> 3000 | K47: =IF(設計案成本估算!$B$5>0,3000*設計案成本估算!$B$5,0) -> 3000 | L47: =IF(設計案成本估算!$B$5>0,3000*設計案成本估算!$B$5,0) -> 3000 | M47: =IF(設計案成本估算!$B$5>0,3000*設計案成本估算!$B$5,0) -> 3000 | N47: =IF(設計案成本估算!$B$5>0,3000*設計案成本估算!$B$5,0) -> 3000 | ... R47: =IF(設計案成本估算!$B$5>0,3000*設計案成本估算!$B$5,0) -> 3000 | AC47: =SUM(D47:AB47) -> 36000 | AE47: 台灣 | AF47: =B47 -> 設計 | AG47: =C47 -> NTD | AH47: =D47 -> 0 | AI47: =AH47+E47 -> 0 | AJ47: =AI47+F47 -> 0 | AK47: =AJ47+G47 -> 3000 | AL47: =AK47+H47 -> 6000 | AM47: =AL47+I47 -> 9000 | AN47: =AM47+J47 -> 12000 | AO47: =AN47+K47 -> 15000 | AP47: =AO47+L47 -> 18000 | ... BF47: =BE47+AB47 -> 36000 | BG47: =BF47 -> 36000
A48: 大陸 | B48: 設計 | C48: NTD | E48: =IF(設計案成本估算!$B$5>0,ROUNDUP(設計案成本估算!$B$5/10,0)*3000,0) -> 3000 | F48: =IF(設計案成本估算!$B$5>0,ROUNDUP(設計案成本估算!$B$5/10,0)*3000,0) -> 3000 | G48: =IF(設計案成本估算!$B$5>0,ROUNDUP(設計案成本估算!$B$5/10,0)*3000,0) -> 3000 | H48: =IF(設計案成本估算!$B$5>0,ROUNDUP(設計案成本估算!$B$5/10,0)*3000,0) -> 3000 | I48: =IF(設計案成本估算!$B$5>0,ROUNDUP(設計案成本估算!$B$5/10,0)*3000,0) -> 3000 | J48: =IF(設計案成本估算!$B$5>0,ROUNDUP(設計案成本估算!$B$5/10,0)*3000,0) -> 3000 | K48: =IF(設計案成本估算!$B$5>0,ROUNDUP(設計案成本估算!$B$5/10,0)*3000,0) -> 3000 | L48: =IF(設計案成本估算!$B$5>0,ROUNDUP(設計案成本估算!$B$5/10,0)*3000,0) -> 3000 | ... R48: =IF(設計案成本估算!$B$5>0,ROUNDUP(設計案成本估算!$B$5/10,0)*3000,0) -> 3000 | AC48: =SUM(D48:AB48) -> 42000 | AE48: 大陸 | AF48: =B48 -> 設計 | AG48: =C48 -> NTD | AH48: =D48 -> 0 | AI48: =AH48+E48 -> 3000 | AJ48: =AI48+F48 -> 6000 | AK48: =AJ48+G48 -> 9000 | AL48: =AK48+H48 -> 12000 | AM48: =AL48+I48 -> 15000 | AN48: =AM48+J48 -> 18000 | AO48: =AN48+K48 -> 21000 | AP48: =AO48+L48 -> 24000 | ... BF48: =BE48+AB48 -> 42000 | BG48: =BF48 -> 42000
A49: 美國 | B49: 設計 | C49: NTD | AC49: =SUM(D49:AB49) -> 0 | AE49: 美國 | AF49: =B49 -> 設計 | AG49: =C49 -> NTD | AH49: =D49 -> 0 | AI49: =AH49+E49 -> 0 | AJ49: =AI49+F49 -> 0 | AK49: =AJ49+G49 -> 0 | AL49: =AK49+H49 -> 0 | AM49: =AL49+I49 -> 0 | AN49: =AM49+J49 -> 0 | AO49: =AN49+K49 -> 0 | AP49: =AO49+L49 -> 0 | ... BF49: =BE49+AB49 -> 0 | BG49: =BF49 -> 0
A50: 歐盟 | B50: 設計 | C50: NTD | I50: =IF(設計案成本估算!$B$5>0,5000+2500*(設計案成本估算!$B$5-1),0) -> 5000 | N50: =IF(設計案成本估算!$B$5>0,5000+2500*(設計案成本估算!$B$5-1),0) -> 5000 | S50: =IF(設計案成本估算!$B$5>0,5000+2500*(設計案成本估算!$B$5-1),0) -> 5000 | X50: =IF(設計案成本估算!$B$5>0,5000+2500*(設計案成本估算!$B$5-1),0) -> 5000 | AC50: =SUM(D50:AB50) -> 20000 | AE50: 歐盟 | AF50: =B50 -> 設計 | AG50: =C50 -> NTD | AH50: =D50 -> 0 | AI50: =AH50+E50 -> 0 | AJ50: =AI50+F50 -> 0 | AK50: =AJ50+G50 -> 0 | AL50: =AK50+H50 -> 0 | AM50: =AL50+I50 -> 5000 | AN50: =AM50+J50 -> 5000 | AO50: =AN50+K50 -> 5000 | AP50: =AO50+L50 -> 5000 | ... BF50: =BE50+AB50 -> 20000 | BG50: =BF50 -> 20000
A51: 英國 | B51: 設計 | C51: NTD | I51: =IF(設計案成本估算!$B$5>0,5000+2500*(設計案成本估算!$B$5-1),0) -> 5000 | N51: =IF(設計案成本估算!$B$5>0,5000+2500*(設計案成本估算!$B$5-1),0) -> 5000 | S51: =IF(設計案成本估算!$B$5>0,5000+2500*(設計案成本估算!$B$5-1),0) -> 5000 | X51: =IF(設計案成本估算!$B$5>0,5000+2500*(設計案成本估算!$B$5-1),0) -> 5000 | AC51: =SUM(D51:AB51) -> 20000 | AE51: 英國 | AF51: =B51 -> 設計 | AG51: =C51 -> NTD | AH51: =D51 -> 0 | AI51: =AH51+E51 -> 0 | AJ51: =AI51+F51 -> 0 | AK51: =AJ51+G51 -> 0 | AL51: =AK51+H51 -> 0 | AM51: =AL51+I51 -> 5000 | AN51: =AM51+J51 -> 5000 | AO51: =AN51+K51 -> 5000 | AP51: =AO51+L51 -> 5000 | ... BF51: =BE51+AB51 -> 20000 | BG51: =BF51 -> 20000
A52: 日本 | B52: 設計 | C52: NTD | G52: =IF(設計案成本估算!$B$5>0,5000*設計案成本估算!$B$5,0) -> 5000 | H52: =IF(設計案成本估算!$B$5>0,5000*設計案成本估算!$B$5,0) -> 5000 | I52: =IF(設計案成本估算!$B$5>0,5000*設計案成本估算!$B$5,0) -> 5000 | J52: =IF(設計案成本估算!$B$5>0,5000*設計案成本估算!$B$5,0) -> 5000 | K52: =IF(設計案成本估算!$B$5>0,5000*設計案成本估算!$B$5,0) -> 5000 | L52: =IF(設計案成本估算!$B$5>0,5000*設計案成本估算!$B$5,0) -> 5000 | M52: =IF(設計案成本估算!$B$5>0,5000*設計案成本估算!$B$5,0) -> 5000 | N52: =IF(設計案成本估算!$B$5>0,5000*設計案成本估算!$B$5,0) -> 5000 | ... AB52: =IF(設計案成本估算!$B$5>0,5000*設計案成本估算!$B$5,0) -> 5000 | AC52: =SUM(D52:AB52) -> 110000 | AE52: 日本 | AF52: =B52 -> 設計 | AG52: =C52 -> NTD | AH52: =D52 -> 0 | AI52: =AH52+E52 -> 0 | AJ52: =AI52+F52 -> 0 | AK52: =AJ52+G52 -> 5000 | AL52: =AK52+H52 -> 10000 | AM52: =AL52+I52 -> 15000 | AN52: =AM52+J52 -> 20000 | AO52: =AN52+K52 -> 25000 | AP52: =AO52+L52 -> 30000 | ... BF52: =BE52+AB52 -> 110000 | BG52: =BF52 -> 110000
A53: 韓國 | B53: 設計 | C53: NTD | G53: =IF(設計案成本估算!$B$5>0,5000*設計案成本估算!$B$5,0) -> 5000 | H53: =IF(設計案成本估算!$B$5>0,5000*設計案成本估算!$B$5,0) -> 5000 | I53: =IF(設計案成本估算!$B$5>0,5000*設計案成本估算!$B$5,0) -> 5000 | J53: =IF(設計案成本估算!$B$5>0,5000*設計案成本估算!$B$5,0) -> 5000 | K53: =IF(設計案成本估算!$B$5>0,5000*設計案成本估算!$B$5,0) -> 5000 | L53: =IF(設計案成本估算!$B$5>0,5000*設計案成本估算!$B$5,0) -> 5000 | M53: =IF(設計案成本估算!$B$5>0,5000*設計案成本估算!$B$5,0) -> 5000 | N53: =IF(設計案成本估算!$B$5>0,5000*設計案成本估算!$B$5,0) -> 5000 | ... W53: =IF(設計案成本估算!$B$5>0,5000*設計案成本估算!$B$5,0) -> 5000 | AC53: =SUM(D53:AB53) -> 85000 | AE53: 韓國 | AF53: =B53 -> 設計 | AG53: =C53 -> NTD | AH53: =D53 -> 0 | AI53: =AH53+E53 -> 0 | AJ53: =AI53+F53 -> 0 | AK53: =AJ53+G53 -> 5000 | AL53: =AK53+H53 -> 10000 | AM53: =AL53+I53 -> 15000 | AN53: =AM53+J53 -> 20000 | AO53: =AN53+K53 -> 25000 | AP53: =AO53+L53 -> 30000 | ... BF53: =BE53+AB53 -> 85000 | BG53: =BF53 -> 85000
A54: 加拿大 | B54: 設計 | C54: NTD | I54: =IF(設計案成本估算!$B$5>0,5000,0) -> 5000 | AC54: =SUM(D54:AB54) -> 5000 | AE54: 加拿大 | AF54: =B54 -> 設計 | AG54: =C54 -> NTD | AH54: =D54 -> 0 | AI54: =AH54+E54 -> 0 | AJ54: =AI54+F54 -> 0 | AK54: =AJ54+G54 -> 0 | AL54: =AK54+H54 -> 0 | AM54: =AL54+I54 -> 5000 | AN54: =AM54+J54 -> 5000 | AO54: =AN54+K54 -> 5000 | AP54: =AO54+L54 -> 5000 | ... BF54: =BE54+AB54 -> 5000 | BG54: =BF54 -> 5000
A55: 澳洲 | B55: 設計 | C55: NTD | I55: =IF(設計案成本估算!$B$5>0,5000*設計案成本估算!$B$5,0) -> 5000 | AC55: =SUM(D55:AB55) -> 5000 | AE55: 印度 | AF55: =B55 -> 設計 | AG55: =C55 -> NTD | AH55: =D55 -> 0 | AI55: =AH55+E55 -> 0 | AJ55: =AI55+F55 -> 0 | AK55: =AJ55+G55 -> 0 | AL55: =AK55+H55 -> 0 | AM55: =AL55+I55 -> 5000 | AN55: =AM55+J55 -> 5000 | AO55: =AN55+K55 -> 5000 | AP55: =AO55+L55 -> 5000 | ... BF55: =BE55+AB55 -> 5000 | BG55: =BF55 -> 5000
A56: 新加坡 | B56: 設計 | C56: NTD | I56: =IF(設計案成本估算!$B$5>0,5000+2500*(設計案成本估算!$B$5-1),0) -> 5000 | N56: =IF(設計案成本估算!$B$5>0,5000+2500*(設計案成本估算!$B$5-1),0) -> 5000 | AC56: =SUM(D56:AB56) -> 10000 | AE56: 新加坡 | AF56: =B56 -> 設計 | AG56: =C56 -> NTD | AH56: =D56 -> 0 | AI56: =AH56+E56 -> 0 | AJ56: =AI56+F56 -> 0 | AK56: =AJ56+G56 -> 0 | AL56: =AK56+H56 -> 0 | AM56: =AL56+I56 -> 5000 | AN56: =AM56+J56 -> 5000 | AO56: =AN56+K56 -> 5000 | AP56: =AO56+L56 -> 5000 | ... BF56: =BE56+AB56 -> 10000 | BG56: =BF56 -> 10000
A57: 馬來西亞 | B57: 設計 | C57: NTD | I57: =IF(設計案成本估算!$B$5>0,5000*設計案成本估算!$B$5,0) -> 5000 | N57: =IF(設計案成本估算!$B$5>0,5000*設計案成本估算!$B$5,0) -> 5000 | S57: =IF(設計案成本估算!$B$5>0,5000*設計案成本估算!$B$5,0) -> 5000 | X57: =IF(設計案成本估算!$B$5>0,5000*設計案成本估算!$B$5,0) -> 5000 | AC57: =SUM(D57:AB57) -> 20000 | AE57: 馬來西亞 | AF57: =B57 -> 設計 | AG57: =C57 -> NTD | AH57: =D57 -> 0 | AI57: =AH57+E57 -> 0 | AJ57: =AI57+F57 -> 0 | AK57: =AJ57+G57 -> 0 | AL57: =AK57+H57 -> 0 | AM57: =AL57+I57 -> 5000 | AN57: =AM57+J57 -> 5000 | AO57: =AN57+K57 -> 5000 | AP57: =AO57+L57 -> 5000 | ... BF57: =BE57+AB57 -> 20000 | BG57: =BF57 -> 20000
A58: 菲律賓 | B58: 設計 | C58: NTD | I58: =IF(設計案成本估算!$B$5>0,5000,0) -> 5000 | N58: =IF(設計案成本估算!$B$5>0,5000,0) -> 5000 | AC58: =SUM(D58:AB58) -> 10000 | AE58: 菲律賓 | AF58: =B58 -> 設計 | AG58: =C58 -> NTD | AH58: =D58 -> 0 | AI58: =AH58+E58 -> 0 | AJ58: =AI58+F58 -> 0 | AK58: =AJ58+G58 -> 0 | AL58: =AK58+H58 -> 0 | AM58: =AL58+I58 -> 5000 | AN58: =AM58+J58 -> 5000 | AO58: =AN58+K58 -> 5000 | AP58: =AO58+L58 -> 5000 | ... BF58: =BE58+AB58 -> 10000 | BG58: =BF58 -> 10000
A59: 印尼 | B59: 設計 | C59: NTD | AC59: =SUM(D59:AB59) -> 0 | AE59: 印尼 | AF59: =B59 -> 設計 | AG59: =C59 -> NTD | AH59: =D59 -> 0 | AI59: =AH59+E59 -> 0 | AJ59: =AI59+F59 -> 0 | AK59: =AJ59+G59 -> 0 | AL59: =AK59+H59 -> 0 | AM59: =AL59+I59 -> 0 | AN59: =AM59+J59 -> 0 | AO59: =AN59+K59 -> 0 | AP59: =AO59+L59 -> 0 | ... BF59: =BE59+AB59 -> 0 | BG59: =BF59 -> 0
A60: 越南 | B60: 設計 | C60: NTD | I60: =IF(設計案成本估算!$B$5>0,5000,0) -> 5000 | N60: =IF(設計案成本估算!$B$5>0,5000,0) -> 5000 | AC60: =SUM(D60:AB60) -> 10000 | AE60: 越南 | AF60: =B60 -> 設計 | AG60: =C60 -> NTD | AH60: =D60 -> 0 | AI60: =AH60+E60 -> 0 | AJ60: =AI60+F60 -> 0 | AK60: =AJ60+G60 -> 0 | AL60: =AK60+H60 -> 0 | AM60: =AL60+I60 -> 5000 | AN60: =AM60+J60 -> 5000 | AO60: =AN60+K60 -> 5000 | AP60: =AO60+L60 -> 5000 | ... BF60: =BE60+AB60 -> 10000 | BG60: =BF60 -> 10000
A61: 泰國 | B61: 設計 | C61: NTD | H61: =IF(設計案成本估算!$B$5>0,5000*設計案成本估算!$B$5,0) -> 5000 | I61: =IF(設計案成本估算!$B$5>0,5000*設計案成本估算!$B$5,0) -> 5000 | J61: =IF(設計案成本估算!$B$5>0,5000*設計案成本估算!$B$5,0) -> 5000 | K61: =IF(設計案成本估算!$B$5>0,5000*設計案成本估算!$B$5,0) -> 5000 | L61: =IF(設計案成本估算!$B$5>0,5000*設計案成本估算!$B$5,0) -> 5000 | M61: =IF(設計案成本估算!$B$5>0,5000*設計案成本估算!$B$5,0) -> 5000 | AC61: =SUM(D61:AB61) -> 30000 | AE61: 泰國 | AF61: =B61 -> 設計 | AG61: =C61 -> NTD | AH61: =D61 -> 0 | AI61: =AH61+E61 -> 0 | AJ61: =AI61+F61 -> 0 | AK61: =AJ61+G61 -> 0 | AL61: =AK61+H61 -> 5000 | AM61: =AL61+I61 -> 10000 | AN61: =AM61+J61 -> 15000 | AO61: =AN61+K61 -> 20000 | AP61: =AO61+L61 -> 25000 | ... BF61: =BE61+AB61 -> 30000 | BG61: =BF61 -> 30000
A62: 印度 | B62: 設計 | C62: NTD | N62: =IF(設計案成本估算!$B$5>0,5000*設計案成本估算!$B$5,0) -> 5000 | AC62: =SUM(D62:AB62) -> 5000 | AE62: 印度 | AF62: =B62 -> 設計 | AG62: =C62 -> NTD | AH62: =D62 -> 0 | AI62: =AH62+E62 -> 0 | AJ62: =AI62+F62 -> 0 | AK62: =AJ62+G62 -> 0 | AL62: =AK62+H62 -> 0 | AM62: =AL62+I62 -> 0 | AN62: =AM62+J62 -> 0 | AO62: =AN62+K62 -> 0 | AP62: =AO62+L62 -> 0 | ... BF62: =BE62+AB62 -> 5000 | BG62: =BF62 -> 5000
B63: 設計 | AC63: =SUM(D63:AB63) -> 0

Sheet 選項
A1: 計費類型1 | B1: 計費類型(台中美歐新馬加) | C1: 計費類型(越) | D1: 計費類型(日韓泰) | E1: 計費類型(一案兩請之新型) | F1: 計費類型(設計) | G1: 申請人規模 | H1: 申請人屬性 | I1: 是否選項 | J1: 專利類型 | K1: 設計類型 | L1: 年費繳納年數(下拉選單) | M1: 發明年費繳納年數(黑圈) | N1: 設計年費繳納年數(黑圈)
A2: 不申請 | B2: 不申請 | C2: 不申請 | D2: 不申請 | E2: 不申請 | F2: 不申請 | G2: 500人以上 | H2: 大企業 | I2: 是 | J2: 發明 | K2: 2 | L2: 最大年限 | M2: 26 | N2: 26
A3: 初稿案 | B3: 初稿案 | C3: 翻譯案 | D3: 翻譯案 | E3: 同語言轉換案 | F3: 申請 | G3: 100~500人 | H3: 中小企業 | I3: 否 | J3: 新型 | L3: 1
A4: 翻譯案 | B4: 翻譯案 | C4: 同語言轉換案 | G4: 少於100人 | H4: 學校 | L4: 2
A5: 同語言轉換案 | B5: 同語言轉換案 | H5: 自然人 | K5: 1 = 圖像設計 | L5: 3
A6: 單純送件 | K6: 2 = 其他設計 | L6: 4
L7: 5
L8: 6
L9: 7
L10: 8
L11: 9
L12: 10
L13: 11
L14: 12
L15: 13
L16: 14
L17: 15
L18: 16
... L27: 25
L28: 最大年限
